BEGIN:VCALENDAR
VERSION:2.0
PRODID:-//Rink 2 - Skate Zone 71 - ECPv6.15.20//NONSGML v1.0//EN
CALSCALE:GREGORIAN
METHOD:PUBLISH
X-ORIGINAL-URL:https://www.unitedskates.com/skate-zone-71
X-WR-CALDESC:Events for Rink 2 - Skate Zone 71
REFRESH-INTERVAL;VALUE=DURATION:PT1H
X-Robots-Tag:noindex
X-PUBLISHED-TTL:PT1H
BEGIN:VTIMEZONE
TZID:America/New_York
BEGIN:DAYLIGHT
TZOFFSETFROM:-0500
TZOFFSETTO:-0400
TZNAME:EDT
DTSTART:20230312T070000
END:DAYLIGHT
BEGIN:STANDARD
TZOFFSETFROM:-0400
TZOFFSETTO:-0500
TZNAME:EST
DTSTART:20231105T060000
END:STANDARD
BEGIN:DAYLIGHT
TZOFFSETFROM:-0500
TZOFFSETTO:-0400
TZNAME:EDT
DTSTART:20240310T070000
END:DAYLIGHT
BEGIN:STANDARD
TZOFFSETFROM:-0400
TZOFFSETTO:-0500
TZNAME:EST
DTSTART:20241103T060000
END:STANDARD
BEGIN:DAYLIGHT
TZOFFSETFROM:-0500
TZOFFSETTO:-0400
TZNAME:EDT
DTSTART:20250309T070000
END:DAYLIGHT
BEGIN:STANDARD
TZOFFSETFROM:-0400
TZOFFSETTO:-0500
TZNAME:EST
DTSTART:20251102T060000
END:STANDARD
BEGIN:DAYLIGHT
TZOFFSETFROM:-0500
TZOFFSETTO:-0400
TZNAME:EDT
DTSTART:20260308T070000
END:DAYLIGHT
BEGIN:STANDARD
TZOFFSETFROM:-0400
TZOFFSETTO:-0500
TZNAME:EST
DTSTART:20261101T060000
END:STANDARD
END:VTIMEZONE
BEGIN:VEVENT
DTSTART;VALUE=DATE:20241220
DTEND;VALUE=DATE:20250105
DTSTAMP:20260424T082257
CREATED:20241108T155529Z
LAST-MODIFIED:20241127T173835Z
UID:33632-1734670800-1735966799@www.unitedskates.com
SUMMARY:WINTER BREAK @ SKATE ZONE 71
DESCRIPTION:We’ve got big things planned over the Holiday Week\, stop in on your day off or for an evening away with Family & Friends!\nCHECK OUT THE FULL SCHEDULE HERE!\nBIRTHDAY PARTIES AVAILABLE – CLICK HERE\nALL CHILDREN AGES 3-17 MUST PAY ADMISSION & ROLLER SKATE RENTAL (OR BRING THEIR OWN SKATES)\nNON-SKATING ADULTS MAY ENTER AT NO CHARGE\nALL SKATING INDIVIDUALS (ADULTS & PARENTS OF CHILDREN SKATING) MUST FILL OUT THE SKATING WAIVER. SIGNED WAIVERS MUST BE SHOWN AT ADMISSIONS BEFORE ENTRY\, HAVE IT READY TO KEEP THE CHECK IN PROCESS SMOOTH!   EFFECTIVE 10/11/2024
URL:https://www.unitedskates.com/skate-zone-71/event/winter-break-skate-zone-71/
LOCATION:Skate Zone 71\, 4900 Evanswood Ddr.\, Columbus\, OH\, 43229\, United States
CATEGORIES:Public Skates,Special Events
ATTACH;FMTTYPE=image/jpeg:https://unitedskates-assets.sfo3.digitaloceanspaces.com/wp-content/uploads/sites/7/2024/11/Winter-Break-Calendar-front-2024.jpg
END:VEVENT
BEGIN:VEVENT
DTSTART;TZID=America/New_York:20250103T120000
DTEND;TZID=America/New_York:20250103T143000
DTSTAMP:20260424T082257
CREATED:20241101T153246Z
LAST-MODIFIED:20241101T153247Z
UID:33295-1735905600-1735914600@www.unitedskates.com
SUMMARY:Skate & Bounce
DESCRIPTION:❄️Winter Break Skating at Skate Zone 71❄️\nThese sessions are all about the Roll & Bounce\, Admission includes Bounce House!!\n12PM – 2:30PM\n3PM – 5:30PM \n$13 Admission\n$6 Skate Rental \nTOP 40 POP\nPURCHASE TICKETS SOON! \nBIRTHDAY PARTIES AVAILABLE – CLICK HERE\nALL CHILDREN AGES 3-17 MUST PAY ADMISSION & ROLLER SKATE RENTAL (OR BRING THEIR OWN SKATES)\nNON-SKATING ADULTS MAY ENTER AT NO CHARGE\nALL SKATING INDIVIDUALS (ADULTS & PARENTS OF CHILDREN SKATING) MUST FILL OUT THE SKATING WAIVER. SIGNED WAIVERS MUST BE SHOWN AT ADMISSIONS BEFORE ENTRY\, HAVE IT READY TO KEEP THE CHECK IN PROCESS SMOOTH!   EFFECTIVE 10/11/2024
URL:https://www.unitedskates.com/skate-zone-71/event/skate-bounce-3/2025-01-03/
LOCATION:Skate Zone 71\, 4900 Evanswood Ddr.\, Columbus\, OH\, 43229\, United States
CATEGORIES:Public Skates,Special Events
ATTACH;FMTTYPE=image/png:https://unitedskates-assets.sfo3.digitaloceanspaces.com/wp-content/uploads/sites/7/2024/11/1.3-WinterBreak-Skate-Bounce.png
END:VEVENT
BEGIN:VEVENT
DTSTART;TZID=America/New_York:20250103T183000
DTEND;TZID=America/New_York:20250103T210000
DTSTAMP:20260424T082257
CREATED:20241101T155100Z
LAST-MODIFIED:20241218T192454Z
UID:33299-1735929000-1735938000@www.unitedskates.com
SUMMARY:Pajama Glow Skate
DESCRIPTION:Pajama Glow Skate\nWear your comfiest pair of pajamas and head to Skate Zone for FUN Skating\, Arcade Games\, Laser Tag & MORE!\n6:30PM – 9:00PM\n$13 Admission\n$6 Skate Rental\nTOP 40 POP\nPURCHASE TICKETS HERE! \nBIRTHDAY PARTIES AVAILABLE – CLICK HERE\nALL CHILDREN AGES 3-17 MUST PAY ADMISSION & ROLLER SKATE RENTAL (OR BRING THEIR OWN SKATES)\nNON-SKATING ADULTS MAY ENTER AT NO CHARGE\nALL SKATING INDIVIDUALS (ADULTS & PARENTS OF CHILDREN SKATING) MUST FILL OUT THE SKATING WAIVER. SIGNED WAIVERS MUST BE SHOWN AT ADMISSIONS BEFORE ENTRY\, HAVE IT READY TO KEEP THE CHECK IN PROCESS SMOOTH!   EFFECTIVE 10/11/2024
URL:https://www.unitedskates.com/skate-zone-71/event/pajama-glow-skate/
LOCATION:Skate Zone 71\, 4900 Evanswood Ddr.\, Columbus\, OH\, 43229\, United States
CATEGORIES:Public Skates,Special Events
ATTACH;FMTTYPE=image/png:https://unitedskates-assets.sfo3.digitaloceanspaces.com/wp-content/uploads/sites/7/2024/11/1.3-GLOW-PAJAMA-SKATE-2024.png
END:VEVENT
END:VCALENDAR