BEGIN:VCALENDAR
VERSION:2.0
PRODID:-//Rink 2 - Skate Zone 71 - ECPv6.15.20//NONSGML v1.0//EN
CALSCALE:GREGORIAN
METHOD:PUBLISH
X-ORIGINAL-URL:https://www.unitedskates.com/skate-zone-71
X-WR-CALDESC:Events for Rink 2 - Skate Zone 71
REFRESH-INTERVAL;VALUE=DURATION:PT1H
X-Robots-Tag:noindex
X-PUBLISHED-TTL:PT1H
BEGIN:VTIMEZONE
TZID:America/New_York
BEGIN:DAYLIGHT
TZOFFSETFROM:-0500
TZOFFSETTO:-0400
TZNAME:EDT
DTSTART:20230312T070000
END:DAYLIGHT
BEGIN:STANDARD
TZOFFSETFROM:-0400
TZOFFSETTO:-0500
TZNAME:EST
DTSTART:20231105T060000
END:STANDARD
BEGIN:DAYLIGHT
TZOFFSETFROM:-0500
TZOFFSETTO:-0400
TZNAME:EDT
DTSTART:20240310T070000
END:DAYLIGHT
BEGIN:STANDARD
TZOFFSETFROM:-0400
TZOFFSETTO:-0500
TZNAME:EST
DTSTART:20241103T060000
END:STANDARD
BEGIN:DAYLIGHT
TZOFFSETFROM:-0500
TZOFFSETTO:-0400
TZNAME:EDT
DTSTART:20250309T070000
END:DAYLIGHT
BEGIN:STANDARD
TZOFFSETFROM:-0400
TZOFFSETTO:-0500
TZNAME:EST
DTSTART:20251102T060000
END:STANDARD
BEGIN:DAYLIGHT
TZOFFSETFROM:-0500
TZOFFSETTO:-0400
TZNAME:EDT
DTSTART:20260308T070000
END:DAYLIGHT
BEGIN:STANDARD
TZOFFSETFROM:-0400
TZOFFSETTO:-0500
TZNAME:EST
DTSTART:20261101T060000
END:STANDARD
END:VTIMEZONE
BEGIN:VEVENT
DTSTART;VALUE=DATE:20241220
DTEND;VALUE=DATE:20250105
DTSTAMP:20260424T112258
CREATED:20241108T155529Z
LAST-MODIFIED:20241127T173835Z
UID:33632-1734670800-1735966799@www.unitedskates.com
SUMMARY:WINTER BREAK @ SKATE ZONE 71
DESCRIPTION:We’ve got big things planned over the Holiday Week\, stop in on your day off or for an evening away with Family & Friends!\nCHECK OUT THE FULL SCHEDULE HERE!\nBIRTHDAY PARTIES AVAILABLE – CLICK HERE\nALL CHILDREN AGES 3-17 MUST PAY ADMISSION & ROLLER SKATE RENTAL (OR BRING THEIR OWN SKATES)\nNON-SKATING ADULTS MAY ENTER AT NO CHARGE\nALL SKATING INDIVIDUALS (ADULTS & PARENTS OF CHILDREN SKATING) MUST FILL OUT THE SKATING WAIVER. SIGNED WAIVERS MUST BE SHOWN AT ADMISSIONS BEFORE ENTRY\, HAVE IT READY TO KEEP THE CHECK IN PROCESS SMOOTH!   EFFECTIVE 10/11/2024
URL:https://www.unitedskates.com/skate-zone-71/event/winter-break-skate-zone-71/
LOCATION:Skate Zone 71\, 4900 Evanswood Ddr.\, Columbus\, OH\, 43229\, United States
CATEGORIES:Public Skates,Special Events
ATTACH;FMTTYPE=image/jpeg:https://unitedskates-assets.sfo3.digitaloceanspaces.com/wp-content/uploads/sites/7/2024/11/Winter-Break-Calendar-front-2024.jpg
END:VEVENT
BEGIN:VEVENT
DTSTART;VALUE=DATE:20241231
DTEND;VALUE=DATE:20250102
DTSTAMP:20260424T112258
CREATED:20241218T171737Z
LAST-MODIFIED:20241227T144136Z
UID:34164-1735621200-1735707599@www.unitedskates.com
SUMMARY:Roll Into the New Year in Style!
DESCRIPTION:Get ready to glide into 2025 with an unforgettable Roller Skating New Year’s Eve Party!\n\nSkate Zone 71 has everyone covered with four great sessions\, each filled with: Live DJ spinning your favorite hits Fun Arcade & Laser Tag Games A sparkling countdown to midnight(mock countdowns during early family sessions)\n\n\nSpace is limited\, so grab your tickets now! Bring your friends\, family\, or just yourself\, and let’s skate into the New Year together!\nPURCHASE TICKETS HERE!\n\n\n\n11:00AM – 1:30PM\nNoon Year’s Eve is perfect for littles\, head over to make their New Year’s memorable! Mario & Luigi will be visiting all session long ready for photos and games! TOP KIDS HITS\n  \n2:00PM – 4:30PM\nSkato is headed to Skate Zone to dance & play games this afternoon session great for younger ones to experience! TOP KIDS HITS\n\n5:00PM – 7:30PM\nFamily Style Skate is just like it implies\, perfect for families! Great tunes\, arcade games\, laser tag & MORE all session long! TOP HITS\n  \n8:00PM – 12:30AM\nHead over to make your New Year’s memorable with this celebration skate party ringing in 2025 officially with great tunes\, arcade games\, laser tag & MORE!! TOP HITS\n\n\n\nBe sure to check out our Special Events for more Winter Break Skating!!\n\n\nALL CHILDREN AGES 3-17 MUST PAY ADMISSION\nNON-SKATING ADULTS MAY ENTER AT NO CHARGE DURING 11:00AM – 1:30PM\, 2:00PM – 4:30PM & 5:00PM – 7:30PM ONLY\nALL SKATING INDIVIDUALS (ADULTS & PARENTS OF CHILDREN SKATING) MUST FILL OUT THE SKATING WAIVER. SIGNED WAIVERS MUST BE SHOWN AT ADMISSIONS BEFORE ENTRY\, HAVE IT READY TO KEEP THE CHECK IN PROCESS SMOOTH!   EFFECTIVE 10/11/2024
URL:https://www.unitedskates.com/skate-zone-71/event/roll-into-the-new-year-in-style/
LOCATION:Skate Zone 71\, 4900 Evanswood Ddr.\, Columbus\, OH\, 43229\, United States
CATEGORIES:Public Skates,Special Events
ATTACH;FMTTYPE=image/jpeg:https://unitedskates-assets.sfo3.digitaloceanspaces.com/wp-content/uploads/sites/7/2024/12/12.31-OH24-035-NYE-Skate-Sessions-Flyer-columbus-scaled.jpg
END:VEVENT
BEGIN:VEVENT
DTSTART;TZID=America/New_York:20241231T110000
DTEND;TZID=America/New_York:20241231T133000
DTSTAMP:20260424T112258
CREATED:20241101T191403Z
LAST-MODIFIED:20241105T154126Z
UID:33461-1735642800-1735651800@www.unitedskates.com
SUMMARY:NYE Noon Year's Eve Skate
DESCRIPTION:🎆 New Year’s Eve at Skate Zone 71! 🎆\nJoin us at Skate Zone to ring in the New Year\, with sessions all day we’ve got something for everyone!\nNoon Year’s Eve is perfect for families with littles\, head over to make your New Year’s memorable! Mario & Luigi will be visiting all session long ready for photos and games!\n11PM – 1:30PM\n$17 Online Admission Includes Roller Skate Rental\, Slice of Cheese Pizza & Small Drink\, Noisemakers & Countdown to 2025 \n($19 Admission at Door) \nUpgrade Option:\n$5 for One Laser Tag Game & Glow Stick \n  \nTOP KIDS POP/CHARACTER MUSIC\nPURCHASE TICKETS AVAILABLE HERE! \n  \nALL CHILDREN AGES 3-17 MUST PAY ADMISSION & ROLLER SKATE RENTAL (OR BRING THEIR OWN SKATES)\nNON-SKATING ADULTS MAY ENTER AT NO CHARGE\nALL SKATING INDIVIDUALS (ADULTS & PARENTS OF CHILDREN SKATING) MUST FILL OUT THE SKATING WAIVER. SIGNED WAIVERS MUST BE SHOWN AT ADMISSIONS BEFORE ENTRY\, HAVE IT READY TO KEEP THE CHECK IN PROCESS SMOOTH!   EFFECTIVE 10/11/2024
URL:https://www.unitedskates.com/skate-zone-71/event/nye-noon-years-eve-skate/
LOCATION:Skate Zone 71\, 4900 Evanswood Ddr.\, Columbus\, OH\, 43229\, United States
CATEGORIES:Public Skates,Special Events
ATTACH;FMTTYPE=image/png:https://unitedskates-assets.sfo3.digitaloceanspaces.com/wp-content/uploads/sites/7/2024/11/12.31-Noon-Years-Eve-Flyer-2025-v2.png
END:VEVENT
BEGIN:VEVENT
DTSTART;TZID=America/New_York:20241231T140000
DTEND;TZID=America/New_York:20241231T163000
DTSTAMP:20260424T112258
CREATED:20241101T192434Z
LAST-MODIFIED:20241105T155801Z
UID:33464-1735653600-1735662600@www.unitedskates.com
SUMMARY:NYE Skato & Friends Skate
DESCRIPTION:🎆 New Year’s Eve at Skate Zone 71! 🎆\nJoin us at Skate Zone to ring in the New Year\, with sessions all day we’ve got something for everyone!\nSkato & Friends Skate is perfect for families with younger ones\, head over to make your New Year’s memorable! Skato will be visiting all session long ready for photos and games!\n2PM – 4:30PM\n$17 Online Admission Includes Roller Skate Rental\, Slice of Cheese Pizza & Small Drink\, Noisemakers & Countdown to 2025 \n($19 Admission at Door) \nUpgrade Option:\n$5 for One Laser Tag Game & Glow Stick \n  \nTOP KIDS POP\nPURCHASE TICKETS AVAILABLE HERE! \n  \nALL CHILDREN AGES 3-17 MUST PAY ADMISSION & ROLLER SKATE RENTAL (OR BRING THEIR OWN SKATES)\nNON-SKATING ADULTS MAY ENTER AT NO CHARGE\nALL SKATING INDIVIDUALS (ADULTS & PARENTS OF CHILDREN SKATING) MUST FILL OUT THE SKATING WAIVER. SIGNED WAIVERS MUST BE SHOWN AT ADMISSIONS BEFORE ENTRY\, HAVE IT READY TO KEEP THE CHECK IN PROCESS SMOOTH!   EFFECTIVE 10/11/2024
URL:https://www.unitedskates.com/skate-zone-71/event/nye-skato-friends-skate/
LOCATION:Skate Zone 71\, 4900 Evanswood Ddr.\, Columbus\, OH\, 43229\, United States
CATEGORIES:Public Skates,Special Events
ATTACH;FMTTYPE=image/png:https://unitedskates-assets.sfo3.digitaloceanspaces.com/wp-content/uploads/sites/7/2024/11/Screenshot-2024-11-01-at-3.23.28%E2%80%AFPM.png
END:VEVENT
BEGIN:VEVENT
DTSTART;TZID=America/New_York:20241231T170000
DTEND;TZID=America/New_York:20241231T193000
DTSTAMP:20260424T112258
CREATED:20241101T192856Z
LAST-MODIFIED:20241105T160612Z
UID:33468-1735664400-1735673400@www.unitedskates.com
SUMMARY:NYE Family Style Skate
DESCRIPTION:🎆 New Year’s Eve at Skate Zone 71! 🎆\nJoin us at Skate Zone to ring in the New Year\, with sessions all day we’ve got something for everyone!\nFamily Style Skate just like it implies\, is perfect for families! Head over to make your New Year’s memorable! Great tunes\, games\, laser tag & MORE all session long!\n5PM – 7:30PM\n$17 Online Admission Includes Roller Skate Rental\, Slice of Cheese Pizza & Small Drink\, Noisemakers & Countdown to 2025 \n($19 Admission at Door) \nUpgrade Option:\n$5 for One Laser Tag Game & Glow Stick \n  \nTOP 40 POP\nPURCHASE TICKETS AVAILABLE HERE! \n  \nALL CHILDREN AGES 3-17 MUST PAY ADMISSION & ROLLER SKATE RENTAL (OR BRING THEIR OWN SKATES)\nNON-SKATING ADULTS MAY ENTER AT NO CHARGE\nALL SKATING INDIVIDUALS (ADULTS & PARENTS OF CHILDREN SKATING) MUST FILL OUT THE SKATING WAIVER. SIGNED WAIVERS MUST BE SHOWN AT ADMISSIONS BEFORE ENTRY\, HAVE IT READY TO KEEP THE CHECK IN PROCESS SMOOTH!   EFFECTIVE 10/11/2024
URL:https://www.unitedskates.com/skate-zone-71/event/nye-family-style-skate/
LOCATION:Skate Zone 71\, 4900 Evanswood Ddr.\, Columbus\, OH\, 43229\, United States
CATEGORIES:Public Skates,Special Events
ATTACH;FMTTYPE=image/png:https://unitedskates-assets.sfo3.digitaloceanspaces.com/wp-content/uploads/sites/7/2024/11/12.31-New-Years-Eve-2025-familystyle.png
END:VEVENT
BEGIN:VEVENT
DTSTART;TZID=America/New_York:20241231T200000
DTEND;TZID=America/New_York:20250101T003000
DTSTAMP:20260424T112258
CREATED:20241101T193531Z
LAST-MODIFIED:20241105T161632Z
UID:33471-1735675200-1735691400@www.unitedskates.com
SUMMARY:NYE Skate Party
DESCRIPTION:🎆 New Year’s Eve at Skate Zone 71! 🎆\nJoin us at Skate Zone to ring in the New Year\, we’ve got something for everyone!\nHead over to make your New Year’s memorable with great tunes\, games\, laser tag & MORE all session long!\n8PM – 12:30AM\n$25 Online Admission Includes Roller Skate Rental\, 10 Game Credits\, Slice of Cheese Pizza & Small Drink\, Noisemakers & Countdown to 2025 \n($27 Admission at Door) \nUpgrade Option:\n$5 for One Laser Tag Game & Glow Stick \nNon-Skating Adults: $12 Admission \nTOP 40 POP\nPURCHASE TICKETS AVAILABLE HERE! \nALL GUESTS ARE REQUIRED TO PAY ADMISSION\nALL SKATING INDIVIDUALS (ADULTS & PARENTS OF CHILDREN SKATING) MUST FILL OUT THE SKATING WAIVER. SIGNED WAIVERS MUST BE SHOWN AT ADMISSIONS BEFORE ENTRY\, HAVE IT READY TO KEEP THE CHECK IN PROCESS SMOOTH!   EFFECTIVE 10/11/2024
URL:https://www.unitedskates.com/skate-zone-71/event/nye-skate-party/
LOCATION:Skate Zone 71\, 4900 Evanswood Ddr.\, Columbus\, OH\, 43229\, United States
CATEGORIES:Public Skates,Special Events
ATTACH;FMTTYPE=image/png:https://unitedskates-assets.sfo3.digitaloceanspaces.com/wp-content/uploads/sites/7/2024/11/12.31-new-years-eve-skate-2025.png
END:VEVENT
END:VCALENDAR