BEGIN:VCALENDAR
VERSION:2.0
PRODID:-//Rink 2 - Skate Zone 71 - ECPv6.15.20//NONSGML v1.0//EN
CALSCALE:GREGORIAN
METHOD:PUBLISH
X-ORIGINAL-URL:https://www.unitedskates.com/skate-zone-71
X-WR-CALDESC:Events for Rink 2 - Skate Zone 71
REFRESH-INTERVAL;VALUE=DURATION:PT1H
X-Robots-Tag:noindex
X-PUBLISHED-TTL:PT1H
BEGIN:VTIMEZONE
TZID:America/New_York
BEGIN:DAYLIGHT
TZOFFSETFROM:-0500
TZOFFSETTO:-0400
TZNAME:EDT
DTSTART:20230312T070000
END:DAYLIGHT
BEGIN:STANDARD
TZOFFSETFROM:-0400
TZOFFSETTO:-0500
TZNAME:EST
DTSTART:20231105T060000
END:STANDARD
BEGIN:DAYLIGHT
TZOFFSETFROM:-0500
TZOFFSETTO:-0400
TZNAME:EDT
DTSTART:20240310T070000
END:DAYLIGHT
BEGIN:STANDARD
TZOFFSETFROM:-0400
TZOFFSETTO:-0500
TZNAME:EST
DTSTART:20241103T060000
END:STANDARD
BEGIN:DAYLIGHT
TZOFFSETFROM:-0500
TZOFFSETTO:-0400
TZNAME:EDT
DTSTART:20250309T070000
END:DAYLIGHT
BEGIN:STANDARD
TZOFFSETFROM:-0400
TZOFFSETTO:-0500
TZNAME:EST
DTSTART:20251102T060000
END:STANDARD
BEGIN:DAYLIGHT
TZOFFSETFROM:-0500
TZOFFSETTO:-0400
TZNAME:EDT
DTSTART:20260308T070000
END:DAYLIGHT
BEGIN:STANDARD
TZOFFSETFROM:-0400
TZOFFSETTO:-0500
TZNAME:EST
DTSTART:20261101T060000
END:STANDARD
END:VTIMEZONE
BEGIN:VEVENT
DTSTART;VALUE=DATE:20241220
DTEND;VALUE=DATE:20250105
DTSTAMP:20260424T124846
CREATED:20241108T155529Z
LAST-MODIFIED:20241127T173835Z
UID:33632-1734670800-1735966799@www.unitedskates.com
SUMMARY:WINTER BREAK @ SKATE ZONE 71
DESCRIPTION:We’ve got big things planned over the Holiday Week\, stop in on your day off or for an evening away with Family & Friends!\nCHECK OUT THE FULL SCHEDULE HERE!\nBIRTHDAY PARTIES AVAILABLE – CLICK HERE\nALL CHILDREN AGES 3-17 MUST PAY ADMISSION & ROLLER SKATE RENTAL (OR BRING THEIR OWN SKATES)\nNON-SKATING ADULTS MAY ENTER AT NO CHARGE\nALL SKATING INDIVIDUALS (ADULTS & PARENTS OF CHILDREN SKATING) MUST FILL OUT THE SKATING WAIVER. SIGNED WAIVERS MUST BE SHOWN AT ADMISSIONS BEFORE ENTRY\, HAVE IT READY TO KEEP THE CHECK IN PROCESS SMOOTH!   EFFECTIVE 10/11/2024
URL:https://www.unitedskates.com/skate-zone-71/event/winter-break-skate-zone-71/
LOCATION:Skate Zone 71\, 4900 Evanswood Ddr.\, Columbus\, OH\, 43229\, United States
CATEGORIES:Public Skates,Special Events
ATTACH;FMTTYPE=image/jpeg:https://unitedskates-assets.sfo3.digitaloceanspaces.com/wp-content/uploads/sites/7/2024/11/Winter-Break-Calendar-front-2024.jpg
END:VEVENT
BEGIN:VEVENT
DTSTART;TZID=America/New_York:20241226T120000
DTEND;TZID=America/New_York:20241226T143000
DTSTAMP:20260424T124846
CREATED:20241031T201210Z
LAST-MODIFIED:20241104T190008Z
UID:33251-1735214400-1735223400@www.unitedskates.com
SUMMARY:Indoor Snowball Fight with OLAF
DESCRIPTION:❄️Winter Break Skating at Skate Zone 71❄️\nJoin us at Skate Zone as we welcome the colder weather with FUN Skating Events all week long!!\n12PM – 2:30PM\n3PM – 5:30PM\n$13 Admission \n$6 Skate Rental \n  \nTOP 40 POP/HOLIDAY HITS\nPURCHASE TICKETS HERE! \nBIRTHDAY PARTIES AVAILABLE – CLICK HERE\nALL CHILDREN AGES 3-17 MUST PAY ADMISSION & ROLLER SKATE RENTAL (OR BRING THEIR OWN SKATES)\nNON-SKATING ADULTS MAY ENTER AT NO CHARGE\nALL SKATING INDIVIDUALS (ADULTS & PARENTS OF CHILDREN SKATING) MUST FILL OUT THE SKATING WAIVER. SIGNED WAIVERS MUST BE SHOWN AT ADMISSIONS BEFORE ENTRY\, HAVE IT READY TO KEEP THE CHECK IN PROCESS SMOOTH!   EFFECTIVE 10/11/2024
URL:https://www.unitedskates.com/skate-zone-71/event/indoor-snowball-fight-with-olaf/
LOCATION:Skate Zone 71\, 4900 Evanswood Ddr.\, Columbus\, OH\, 43229\, United States
CATEGORIES:Public Skates,Special Events
ATTACH;FMTTYPE=image/png:https://unitedskates-assets.sfo3.digitaloceanspaces.com/wp-content/uploads/sites/7/2024/10/12.26-Snow-Ball-Fight-Skate-with-Olaf.png
END:VEVENT
BEGIN:VEVENT
DTSTART;TZID=America/New_York:20241226T180000
DTEND;TZID=America/New_York:20241226T203000
DTSTAMP:20260424T124846
CREATED:20241031T202526Z
LAST-MODIFIED:20241104T194333Z
UID:33255-1735236000-1735245000@www.unitedskates.com
SUMMARY:Holiday Dinner Skate
DESCRIPTION:❄️Winter Break Skating at Skate Zone 71❄️\n6PM – 8:30PM\n$16 – Includes Admission\, Skate Rental\, One Slice of Cheese Pizza & Small Drink \n  \nTOP 40 POP/HOLIDAY HITS\nPURCHASE TICKETS HERE! \nBIRTHDAY PARTIES AVAILABLE – CLICK HERE\nALL CHILDREN AGES 3-17 MUST PAY ADMISSION & ROLLER SKATE RENTAL (OR BRING THEIR OWN SKATES)\nNON-SKATING ADULTS MAY ENTER AT NO CHARGE\nALL SKATING INDIVIDUALS (ADULTS & PARENTS OF CHILDREN SKATING) MUST FILL OUT THE SKATING WAIVER. SIGNED WAIVERS MUST BE SHOWN AT ADMISSIONS BEFORE ENTRY\, HAVE IT READY TO KEEP THE CHECK IN PROCESS SMOOTH!   EFFECTIVE 10/11/2024
URL:https://www.unitedskates.com/skate-zone-71/event/holiday-dinner-skate/
LOCATION:Skate Zone 71\, 4900 Evanswood Ddr.\, Columbus\, OH\, 43229\, United States
CATEGORIES:Public Skates,Special Events
ATTACH;FMTTYPE=image/jpeg:https://unitedskates-assets.sfo3.digitaloceanspaces.com/wp-content/uploads/sites/7/2024/10/Holiday-Free-Dinner-Night-1200x1200-1.jpg
END:VEVENT
BEGIN:VEVENT
DTSTART;TZID=America/New_York:20241226T210000
DTEND;TZID=America/New_York:20241227T000000
DTSTAMP:20260424T124846
CREATED:20241101T142826Z
LAST-MODIFIED:20241101T142827Z
UID:33261-1735246800-1735257600@www.unitedskates.com
SUMMARY:Holiday Adult Skate
DESCRIPTION:Holiday Adult Skate\n9PM – 12AM\n$13 Admission \n$6 Skate Rental \n  \nBEST HIP HOP/RNB/SOUL\nPURCHASE TICKETS AVAILABLE SOON! \nADULT SKATES ARE FOR AGES 18 & OVER ONLY. VALID PHOTO ID REQUIRED\nALL GUESTS ARE REQUIRED TO PAY ADMISSION\nALL SKATING INDIVIDUALS (ADULTS & PARENTS OF CHILDREN SKATING) MUST FILL OUT THE SKATING WAIVER. SIGNED WAIVERS MUST BE SHOWN AT ADMISSIONS BEFORE ENTRY\, HAVE IT READY TO KEEP THE CHECK IN PROCESS SMOOTH!   EFFECTIVE 10/11/2024
URL:https://www.unitedskates.com/skate-zone-71/event/holiday-adult-skate-3/
LOCATION:Skate Zone 71\, 4900 Evanswood Ddr.\, Columbus\, OH\, 43229\, United States
CATEGORIES:Public Skates,Special Events
ATTACH;FMTTYPE=image/png:https://unitedskates-assets.sfo3.digitaloceanspaces.com/wp-content/uploads/sites/7/2024/11/12.26-Adult-Happy-Holiday-Skate-Party-2024.png
END:VEVENT
END:VCALENDAR