BEGIN:VCALENDAR
VERSION:2.0
PRODID:-//Rink 2 - Skate Zone 71 - ECPv6.15.20//NONSGML v1.0//EN
CALSCALE:GREGORIAN
METHOD:PUBLISH
X-WR-CALNAME:Rink 2 - Skate Zone 71
X-ORIGINAL-URL:https://www.unitedskates.com/skate-zone-71
X-WR-CALDESC:Events for Rink 2 - Skate Zone 71
REFRESH-INTERVAL;VALUE=DURATION:PT1H
X-Robots-Tag:noindex
X-PUBLISHED-TTL:PT1H
BEGIN:VTIMEZONE
TZID:America/New_York
BEGIN:DAYLIGHT
TZOFFSETFROM:-0500
TZOFFSETTO:-0400
TZNAME:EDT
DTSTART:20230312T070000
END:DAYLIGHT
BEGIN:STANDARD
TZOFFSETFROM:-0400
TZOFFSETTO:-0500
TZNAME:EST
DTSTART:20231105T060000
END:STANDARD
BEGIN:DAYLIGHT
TZOFFSETFROM:-0500
TZOFFSETTO:-0400
TZNAME:EDT
DTSTART:20240310T070000
END:DAYLIGHT
BEGIN:STANDARD
TZOFFSETFROM:-0400
TZOFFSETTO:-0500
TZNAME:EST
DTSTART:20241103T060000
END:STANDARD
BEGIN:DAYLIGHT
TZOFFSETFROM:-0500
TZOFFSETTO:-0400
TZNAME:EDT
DTSTART:20250309T070000
END:DAYLIGHT
BEGIN:STANDARD
TZOFFSETFROM:-0400
TZOFFSETTO:-0500
TZNAME:EST
DTSTART:20251102T060000
END:STANDARD
END:VTIMEZONE
BEGIN:VEVENT
DTSTART;TZID=America/New_York:20241217T180000
DTEND;TZID=America/New_York:20241217T203000
DTSTAMP:20260424T124645
CREATED:20241031T172350Z
LAST-MODIFIED:20241031T172350Z
UID:33200-1734458400-1734467400@www.unitedskates.com
SUMMARY:Public Skating & Birthdays
DESCRIPTION:❄️Winter Break Skating at Skate Zone 71❄️\nJoin us at Skate Zone as we welcome the colder weather with FUN Skating Nights on weeknights and weekends!!\nTWO for $12 TUESDAYS \n✨12/17 Nightmare Before Christmas✨ \n6:00PM – 8:30PM\nPick from Admission Options: \n\nSkate & Play $14/each – includes Admission\, 20 Game Credits & 1 Game of Laser Tag\nSkate Fun 2 Admissions For $12  / or 1 Admission for $7.00 \nAll Ages Welcome\n\n*Sessions Begin and End at Posted Times* \n$6 Skate Rental Additional \nTOP 40 POP/HOLIDAY HITS\nPURCHASE TICKETS HERE! \nBIRTHDAY PARTIES AVAILABLE – CLICK HERE\nALL CHILDREN AGES 3-17 MUST PAY ADMISSION & ROLLER SKATE RENTAL (OR BRING THEIR OWN SKATES)\nNON-SKATING ADULTS MAY ENTER AT NO CHARGE\nALL SKATING INDIVIDUALS (ADULTS & PARENTS OF CHILDREN SKATING) MUST FILL OUT THE SKATING WAIVER. SIGNED WAIVERS MUST BE SHOWN AT ADMISSIONS BEFORE ENTRY\, HAVE IT READY TO KEEP THE CHECK IN PROCESS SMOOTH!   EFFECTIVE 10/11/2024
URL:https://www.unitedskates.com/skate-zone-71/event/public-skating-birthdays-3/
LOCATION:Skate Zone 71\, 4900 Evanswood Ddr.\, Columbus\, OH\, 43229\, United States
CATEGORIES:Public Skates,Special Events
ATTACH;FMTTYPE=image/png:https://unitedskates-assets.sfo3.digitaloceanspaces.com/wp-content/uploads/sites/7/2024/10/12.17-Two-for-Tuesday-Nightmare-Before-Xmas.png
END:VEVENT
END:VCALENDAR