BEGIN:VCALENDAR
VERSION:2.0
PRODID:-//Rink 2 - Skate Zone 71 - ECPv6.15.20//NONSGML v1.0//EN
CALSCALE:GREGORIAN
METHOD:PUBLISH
X-WR-CALNAME:Rink 2 - Skate Zone 71
X-ORIGINAL-URL:https://www.unitedskates.com/skate-zone-71
X-WR-CALDESC:Events for Rink 2 - Skate Zone 71
REFRESH-INTERVAL;VALUE=DURATION:PT1H
X-Robots-Tag:noindex
X-PUBLISHED-TTL:PT1H
BEGIN:VTIMEZONE
TZID:America/New_York
BEGIN:DAYLIGHT
TZOFFSETFROM:-0500
TZOFFSETTO:-0400
TZNAME:EDT
DTSTART:20230312T070000
END:DAYLIGHT
BEGIN:STANDARD
TZOFFSETFROM:-0400
TZOFFSETTO:-0500
TZNAME:EST
DTSTART:20231105T060000
END:STANDARD
BEGIN:DAYLIGHT
TZOFFSETFROM:-0500
TZOFFSETTO:-0400
TZNAME:EDT
DTSTART:20240310T070000
END:DAYLIGHT
BEGIN:STANDARD
TZOFFSETFROM:-0400
TZOFFSETTO:-0500
TZNAME:EST
DTSTART:20241103T060000
END:STANDARD
BEGIN:DAYLIGHT
TZOFFSETFROM:-0500
TZOFFSETTO:-0400
TZNAME:EDT
DTSTART:20250309T070000
END:DAYLIGHT
BEGIN:STANDARD
TZOFFSETFROM:-0400
TZOFFSETTO:-0500
TZNAME:EST
DTSTART:20251102T060000
END:STANDARD
END:VTIMEZONE
BEGIN:VEVENT
DTSTART;TZID=America/New_York:20241121T210000
DTEND;TZID=America/New_York:20241122T000000
DTSTAMP:20260424T230512
CREATED:20240925T142306Z
LAST-MODIFIED:20241024T190101Z
UID:32732-1732222800-1732233600@www.unitedskates.com
SUMMARY:90s THROWBACK ADULT SKATE
DESCRIPTION:One Thursday a Month – Head to Skate Zone 71 for a 90’s JAM SKATE (18+ ONLY)!\nWe will be playing the best of the decade ALL NIGHT LONG!!\nNOVEMBER 21st \nDECEMBER 19th \n9PM – 12AM\n$12.00 Admission \n$6.00 Roller Skate Rental \nPURCHASE TICKETS HERE! \nTHROWBACK ADULT SKATES ARE FOR AGES 18+ AND OVER ONLY\nALL GUESTS ARE REQUIRED TO PAY ADMISSION\nALL ADULT SKATERS ARE REQUIRED TO SIGN A LIABILITY WAIVER
URL:https://www.unitedskates.com/skate-zone-71/event/90s-throwback-adult-skate-4/
LOCATION:Skate Zone 71\, 4900 Evanswood Ddr.\, Columbus\, OH\, 43229\, United States
CATEGORIES:Adult Events,Special Events
ATTACH;FMTTYPE=image/png:https://unitedskates-assets.sfo3.digitaloceanspaces.com/wp-content/uploads/sites/7/2024/09/11.21-OH24-009-90s-Throwback-Adult-Skate.png
END:VEVENT
END:VCALENDAR