BEGIN:VCALENDAR
VERSION:2.0
PRODID:-//Rink 2 - Skate Zone 71 - ECPv6.15.20//NONSGML v1.0//EN
CALSCALE:GREGORIAN
METHOD:PUBLISH
X-WR-CALNAME:Rink 2 - Skate Zone 71
X-ORIGINAL-URL:https://www.unitedskates.com/skate-zone-71
X-WR-CALDESC:Events for Rink 2 - Skate Zone 71
REFRESH-INTERVAL;VALUE=DURATION:PT1H
X-Robots-Tag:noindex
X-PUBLISHED-TTL:PT1H
BEGIN:VTIMEZONE
TZID:America/New_York
BEGIN:DAYLIGHT
TZOFFSETFROM:-0500
TZOFFSETTO:-0400
TZNAME:EDT
DTSTART:20230312T070000
END:DAYLIGHT
BEGIN:STANDARD
TZOFFSETFROM:-0400
TZOFFSETTO:-0500
TZNAME:EST
DTSTART:20231105T060000
END:STANDARD
BEGIN:DAYLIGHT
TZOFFSETFROM:-0500
TZOFFSETTO:-0400
TZNAME:EDT
DTSTART:20240310T070000
END:DAYLIGHT
BEGIN:STANDARD
TZOFFSETFROM:-0400
TZOFFSETTO:-0500
TZNAME:EST
DTSTART:20241103T060000
END:STANDARD
BEGIN:DAYLIGHT
TZOFFSETFROM:-0500
TZOFFSETTO:-0400
TZNAME:EDT
DTSTART:20250309T070000
END:DAYLIGHT
BEGIN:STANDARD
TZOFFSETFROM:-0400
TZOFFSETTO:-0500
TZNAME:EST
DTSTART:20251102T060000
END:STANDARD
END:VTIMEZONE
BEGIN:VEVENT
DTSTART;TZID=America/New_York:20241115T213000
DTEND;TZID=America/New_York:20241116T013000
DTSTAMP:20260424T171134
CREATED:20240924T190425Z
LAST-MODIFIED:20241106T170028Z
UID:32729-1731706200-1731720600@www.unitedskates.com
SUMMARY:Roller Jam Viewing Skate: Adults Only 18+
DESCRIPTION:Roller Jam Late Skate: Meet and Greet with Local Contestants 🎉🛼 \nDate: Friday\, November 15th\, 2024\nTime: 9:30 PM – 1:30 AM\nPre-Sale Online Admission: $12 | Skate Rental: $6 *ends 11/14 at midnight \nDoor Admission: $20 Includes Skate Rental!! \nPurchase Tickets Here:  \nJoin us for an exciting night at our Roller Jam Late Skate! 🎊 Meet contestants from Team Trendsettas\, Team Haus of Sk8 and Team Honor Roll Skate Crew! We’ll be airing clips from the show and celebrating its success with a finale screening! 📺✨ WATCH ROLLER JAM TRAILER HERE \nEvent Highlights: \n\n🤝 Meet and greet with local Columbus – OH contestants\n🎥 Screening of episodes and finale clips\n🌌 Skate under the stars with fellow fans\n\nAge Requirement: Adults only (18+) 🚫👶\nRefreshments: 🍺 Beer & 🍷 Wine available for 21+ \nCome skate and experience the hype! Don’t miss out on this unforgettable night! 🛼💃🎉 \n\nADULT SKATES ARE FOR AGES 18 & OVER ONLY. VALID PHOTO ID REQUIRED\nALL GUESTS ARE REQUIRED TO PAY ADMISSION\nALL SKATING INDIVIDUALS (ADULTS & PARENTS OF CHILDREN SKATING) MUST FILL OUT THE SKATING WAIVER. SIGNED WAIVERS MUST BE SHOWN AT ADMISSIONS BEFORE ENTRY\, HAVE IT READY TO KEEP THE CHECK IN PROCESS SMOOTH!   EFFECTIVE 10/11/2024
URL:https://www.unitedskates.com/skate-zone-71/event/80s-skate-night/
LOCATION:Skate Zone 71\, 4900 Evanswood Ddr.\, Columbus\, OH\, 43229\, United States
CATEGORIES:Adult Events,Special Events
ATTACH;FMTTYPE=image/png:https://unitedskates-assets.sfo3.digitaloceanspaces.com/wp-content/uploads/sites/7/2024/09/Roller-Jam-Poster-Revised.png
END:VEVENT
END:VCALENDAR