BEGIN:VCALENDAR
VERSION:2.0
PRODID:-//Rink 2 - Skate Zone 71 - ECPv6.15.20//NONSGML v1.0//EN
CALSCALE:GREGORIAN
METHOD:PUBLISH
X-WR-CALNAME:Rink 2 - Skate Zone 71
X-ORIGINAL-URL:https://www.unitedskates.com/skate-zone-71
X-WR-CALDESC:Events for Rink 2 - Skate Zone 71
REFRESH-INTERVAL;VALUE=DURATION:PT1H
X-Robots-Tag:noindex
X-PUBLISHED-TTL:PT1H
BEGIN:VTIMEZONE
TZID:America/New_York
BEGIN:DAYLIGHT
TZOFFSETFROM:-0500
TZOFFSETTO:-0400
TZNAME:EDT
DTSTART:20230312T070000
END:DAYLIGHT
BEGIN:STANDARD
TZOFFSETFROM:-0400
TZOFFSETTO:-0500
TZNAME:EST
DTSTART:20231105T060000
END:STANDARD
BEGIN:DAYLIGHT
TZOFFSETFROM:-0500
TZOFFSETTO:-0400
TZNAME:EDT
DTSTART:20240310T070000
END:DAYLIGHT
BEGIN:STANDARD
TZOFFSETFROM:-0400
TZOFFSETTO:-0500
TZNAME:EST
DTSTART:20241103T060000
END:STANDARD
BEGIN:DAYLIGHT
TZOFFSETFROM:-0500
TZOFFSETTO:-0400
TZNAME:EDT
DTSTART:20250309T070000
END:DAYLIGHT
BEGIN:STANDARD
TZOFFSETFROM:-0400
TZOFFSETTO:-0500
TZNAME:EST
DTSTART:20251102T060000
END:STANDARD
END:VTIMEZONE
BEGIN:VEVENT
DTSTART;VALUE=DATE:20241026
DTEND;VALUE=DATE:20241028
DTSTAMP:20260424T193021
CREATED:20240830T171606Z
LAST-MODIFIED:20240830T171607Z
UID:32582-1729918800-1730005199@www.unitedskates.com
SUMMARY:National Roller Skating Month
DESCRIPTION:END NRS MONTH AT SKATE ZONE 71\nStop by for all out guest appreciation at the end of National Roller Skating Month!!\nSaturday OCTOBER 26th: Guest Appreciation Skate – Free Glow Stick with All Paid Admissions\n8pm – 10:30pm Public Skating Session\n\nALL CHILDREN AGES 3-17 MUST PAY ADMISSION & ROLLER SKATE RENTAL (OR BRING THEIR OWN SKATES)\nNON-SKATING ADULTS MAY ENTER AT NO CHARGE\nALL ADULT SKATERS (18+) ARE REQUIRED TO SIGN A LIABILITY WAIVER
URL:https://www.unitedskates.com/skate-zone-71/event/national-roller-skating-month-4/
LOCATION:Skate Zone 71\, 4900 Evanswood Ddr.\, Columbus\, OH\, 43229\, United States
CATEGORIES:Public Skates,Special Events
ATTACH;FMTTYPE=image/png:https://unitedskates-assets.sfo3.digitaloceanspaces.com/wp-content/uploads/sites/7/2024/08/NRS-month-2024-1.png
END:VEVENT
BEGIN:VEVENT
DTSTART;VALUE=DATE:20241026
DTEND;VALUE=DATE:20241102
DTSTAMP:20260424T193021
CREATED:20241009T184241Z
LAST-MODIFIED:20241009T184301Z
UID:32914-1729918800-1730437199@www.unitedskates.com
SUMMARY:🛼👻🎃HALLOWEEN SKATING
DESCRIPTION:Join us for Great Family Skating Spooktacular Fun!!!\nDress-Up Skates\, Parties\, Discounts and More!!
URL:https://www.unitedskates.com/skate-zone-71/event/%f0%9f%9b%bc%f0%9f%91%bb%f0%9f%8e%83halloween-skating/
LOCATION:Skate Zone 71\, 4900 Evanswood Ddr.\, Columbus\, OH\, 43229\, United States
CATEGORIES:Adult Events,Family Events,Public Skates,Special Events
ATTACH;FMTTYPE=image/jpeg:https://unitedskates-assets.sfo3.digitaloceanspaces.com/wp-content/uploads/sites/7/2024/10/R2.-Halloween-week-of-fun-2024.jpg
END:VEVENT
BEGIN:VEVENT
DTSTART;TZID=America/New_York:20241026T110000
DTEND;TZID=America/New_York:20241026T130000
DTSTAMP:20260424T193021
CREATED:20240903T173644Z
LAST-MODIFIED:20241021T193747Z
UID:32648-1729940400-1729947600@www.unitedskates.com
SUMMARY:TINY TOT HALLOWEEN SKATE
DESCRIPTION:🎃👻TINY TOT HALLOWEEN SKATE👻🎃\nJoin us for a spooky themed Little Rollers skate! We’ve got GAMES\, TREATS & PRIZES for BEST COSTUME!\nSATURDAY OCTOBER 26th\n11:00AM – 1:00PM\n$12 Admission – Wear your costume for $2 Off Admission and for our Costume Contest! \n*$6 Skate Rental* \nStop into our Skate Lessons from 10AM – 11AM and stayover into this session for $5.50 Additional\n  \nBIRTHDAY PARTIES AVAILABLE – CLICK HERE\n\nKIDS HALLOWEEN & DISNEY HITS\n  \nALL CHILDREN AGES 3-17 MUST PAY ADMISSION & ROLLER SKATE RENTAL (OR BRING THEIR OWN SKATES)\nNON-SKATING ADULTS MAY ENTER AT NO CHARGE\nAll adults and children who enter the building need to fill out our online waiver which can be found by clicking this link. You will have to show the signed waiver to the admission associate so please have it ready to make check in as quick as possible.   Effective 10/11/2024
URL:https://www.unitedskates.com/skate-zone-71/event/tiny-tot-halloween-skate/
LOCATION:Skate Zone 71\, 4900 Evanswood Ddr.\, Columbus\, OH\, 43229\, United States
CATEGORIES:Public Skates,Special Events
ATTACH;FMTTYPE=image/png:https://unitedskates-assets.sfo3.digitaloceanspaces.com/wp-content/uploads/sites/7/2024/09/10.26-TinyTots-Halloween.png
END:VEVENT
END:VCALENDAR