BEGIN:VCALENDAR
VERSION:2.0
PRODID:-//Rink 2 - Skate Zone 71 - ECPv6.15.20//NONSGML v1.0//EN
CALSCALE:GREGORIAN
METHOD:PUBLISH
X-ORIGINAL-URL:https://www.unitedskates.com/skate-zone-71
X-WR-CALDESC:Events for Rink 2 - Skate Zone 71
REFRESH-INTERVAL;VALUE=DURATION:PT1H
X-Robots-Tag:noindex
X-PUBLISHED-TTL:PT1H
BEGIN:VTIMEZONE
TZID:America/New_York
BEGIN:DAYLIGHT
TZOFFSETFROM:-0500
TZOFFSETTO:-0400
TZNAME:EDT
DTSTART:20230312T070000
END:DAYLIGHT
BEGIN:STANDARD
TZOFFSETFROM:-0400
TZOFFSETTO:-0500
TZNAME:EST
DTSTART:20231105T060000
END:STANDARD
BEGIN:DAYLIGHT
TZOFFSETFROM:-0500
TZOFFSETTO:-0400
TZNAME:EDT
DTSTART:20240310T070000
END:DAYLIGHT
BEGIN:STANDARD
TZOFFSETFROM:-0400
TZOFFSETTO:-0500
TZNAME:EST
DTSTART:20241103T060000
END:STANDARD
BEGIN:DAYLIGHT
TZOFFSETFROM:-0500
TZOFFSETTO:-0400
TZNAME:EDT
DTSTART:20250309T070000
END:DAYLIGHT
BEGIN:STANDARD
TZOFFSETFROM:-0400
TZOFFSETTO:-0500
TZNAME:EST
DTSTART:20251102T060000
END:STANDARD
END:VTIMEZONE
BEGIN:VEVENT
DTSTART;VALUE=DATE:20240920
DTEND;VALUE=DATE:20240924
DTSTAMP:20260425T113926
CREATED:20240917T155941Z
LAST-MODIFIED:20240917T155941Z
UID:32701-1726808400-1727067599@www.unitedskates.com
SUMMARY:🍁🍂AUTUMN SPECIAL - CELEBRATE THE SEASON🍂🍁
DESCRIPTION:☀️Celebrate the balance of day and night with us as we welcome the autumn equinox! ☀️\nFRIDAY September 20th – SUNDAY September 22nd*\n*Coupon Not Valid with Friday & Sunday Adult Nights\, Birthday Party Packages or Group Rates*\nSESSIONS:\nFriday: Latin Artists Glow Night 6:30PM – 9PM\nSaturday: Public Skating Session 1:30PM – 4PM\nSaturday: Public Skating Session 5PM – 7:30PM\nSaturday: Public Skating Session 8PM – 10:30PM**\nSunday: Coco Skate 1PM – 3:30PM\nSunday: Public Skating Session 4PM – 7PM \nLet’s embrace the beauty of the season together. We can’t wait to celebrate with you!\nCOUPON MUST BE PRESENTED AT ADMISSION\, CANNOT BE COMBINED WITH OTHER COUPON/DISCOUNTS\n**SATURDAY 8PM – 10:30PM – GUESTS 17 & UNDER THAT ARE RENTING SKATES MUST HAVE A CHAPERONE 25 YEARS OR OLDER ACCOMPANYING THEM FOR THE ENTIRE SESSION**\nALL CHILDREN AGES 3-17 MUST PAY ADMISSION & ROLLER SKATE RENTAL (OR BRING THEIR OWN SKATES)\nNON-SKATING ADULTS MAY ENTER AT NO CHARGE\nALL ADULT SKATERS (18+) ARE REQUIRED TO SIGN A LIABILITY WAIVER
URL:https://www.unitedskates.com/skate-zone-71/event/%f0%9f%8d%81%f0%9f%8d%82autumn-special-celebrate-the-season%f0%9f%8d%82%f0%9f%8d%81/
LOCATION:Skate Zone 71\, 4900 Evanswood Ddr.\, Columbus\, OH\, 43229\, United States
CATEGORIES:Public Skates,Special Events
ATTACH;FMTTYPE=image/png:https://unitedskates-assets.sfo3.digitaloceanspaces.com/wp-content/uploads/sites/7/2024/09/Saturday-Coupon-September-Weekend.png
END:VEVENT
BEGIN:VEVENT
DTSTART;TZID=America/New_York:20240921T230000
DTEND;TZID=America/New_York:20240922T013000
DTSTAMP:20260425T113926
CREATED:20240905T154508Z
LAST-MODIFIED:20240905T154509Z
UID:32668-1726959600-1726968600@www.unitedskates.com
SUMMARY:DJ JAM SKATE
DESCRIPTION:DJ JAM SKATE\nIt’s a LATE SKATE like NO OTHER! We’ve got 4 DJs spinning the BEST JAMS ALL NIGHT LONG!!\nSEPTEMBER 21st11PM – 1:30PM\n$15 Admission$6 Skate Rental\n\nPURCHASE TICKETS IN ADVANCE!(Admission Available Via Link & At Door)\nADULT SKATES ARE FOR AGES 18+ AND OVER ONLY\nALL GUESTS ARE REQUIRED TO PAY ADMISSION\nALL ADULT SKATERS (18+) ARE REQUIRED TO SIGN A LIABILITY WAIVER
URL:https://www.unitedskates.com/skate-zone-71/event/dj-jam-skate/
LOCATION:Skate Zone 71\, 4900 Evanswood Ddr.\, Columbus\, OH\, 43229\, United States
CATEGORIES:Adult Events,Special Events
ATTACH;FMTTYPE=image/jpeg:https://unitedskates-assets.sfo3.digitaloceanspaces.com/wp-content/uploads/sites/7/2024/09/Jam-Skate-2024.jpg
END:VEVENT
END:VCALENDAR