BEGIN:VCALENDAR
VERSION:2.0
PRODID:-//Rink 2 - Skate Zone 71 - ECPv6.15.20//NONSGML v1.0//EN
CALSCALE:GREGORIAN
METHOD:PUBLISH
X-ORIGINAL-URL:https://www.unitedskates.com/skate-zone-71
X-WR-CALDESC:Events for Rink 2 - Skate Zone 71
REFRESH-INTERVAL;VALUE=DURATION:PT1H
X-Robots-Tag:noindex
X-PUBLISHED-TTL:PT1H
BEGIN:VTIMEZONE
TZID:America/New_York
BEGIN:DAYLIGHT
TZOFFSETFROM:-0500
TZOFFSETTO:-0400
TZNAME:EDT
DTSTART:20230312T070000
END:DAYLIGHT
BEGIN:STANDARD
TZOFFSETFROM:-0400
TZOFFSETTO:-0500
TZNAME:EST
DTSTART:20231105T060000
END:STANDARD
BEGIN:DAYLIGHT
TZOFFSETFROM:-0500
TZOFFSETTO:-0400
TZNAME:EDT
DTSTART:20240310T070000
END:DAYLIGHT
BEGIN:STANDARD
TZOFFSETFROM:-0400
TZOFFSETTO:-0500
TZNAME:EST
DTSTART:20241103T060000
END:STANDARD
BEGIN:DAYLIGHT
TZOFFSETFROM:-0500
TZOFFSETTO:-0400
TZNAME:EDT
DTSTART:20250309T070000
END:DAYLIGHT
BEGIN:STANDARD
TZOFFSETFROM:-0400
TZOFFSETTO:-0500
TZNAME:EST
DTSTART:20251102T060000
END:STANDARD
END:VTIMEZONE
BEGIN:VEVENT
DTSTART;TZID=America/New_York:20240803T100000
DTEND;TZID=America/New_York:20240803T110000
DTSTAMP:20260425T114428
CREATED:20240123T163132Z
LAST-MODIFIED:20241002T151101Z
UID:28845-1722679200-1722682800@www.unitedskates.com
SUMMARY:Saturday Skate School
DESCRIPTION:SATURDAY PROGRAMS\nPrivate Lesson:\n\n9:00AM to 10:00AM\nBy Reservation Only\n\nPURCHASE PRIVATE LESSON HERE!\nPublic Lesson:\n\n10:00AM to 11:00AM*\nAll Ages Welcome – NO Reservations Needed\n$15.00 Admission includes the Lesson & Roller Skate Rental\n\nPURCHASE PUBLIC LESSON HERE! \n\n*Participants in the 10:00am-11:00am session enjoy stay over into the first public skate from 11:00am-1:00pm for only $5.50! \n 
URL:https://www.unitedskates.com/skate-zone-71/event/saturday-skate-school-3/2024-08-03/
LOCATION:Skate Zone 71\, 4900 Evanswood Ddr.\, Columbus\, OH\, 43229\, United States
CATEGORIES:Lessons,Special Events
ATTACH;FMTTYPE=image/png:https://unitedskates-assets.sfo3.digitaloceanspaces.com/wp-content/uploads/sites/7/2024/01/Skate-School-24-PNG.png
END:VEVENT
BEGIN:VEVENT
DTSTART;TZID=America/New_York:20240803T133000
DTEND;TZID=America/New_York:20240803T160000
DTSTAMP:20260425T114428
CREATED:20240708T182712Z
LAST-MODIFIED:20241011T191119Z
UID:31366-1722691800-1722700800@www.unitedskates.com
SUMMARY:Saturday Public Skating and Birthday Parties
DESCRIPTION:🛼SATURDAYS at Skate Zone 71🛼\n1:30PM – 4:00PM\nFAMILY TOP 40\, POP \, R&B & HIP-HOP\nPick from TWO Admission Options: \n\nSkate & Play $19 – includes Admission\, 20 Game Credits & 1 Game of Laser Tag\nSkate Fun $12 – Admission \nAll Ages Welcome\nSession Times Begin and End at posted times – *NO STAYOVERS\n\n$6 Skate Rental Additional \nPURCHASE TICKETS HERE! \nBIRTHDAY PARTIES AVAILABLE – CLICK HERE\nGROUP RATES AVAILABLE FOR PARTIES OF 15+ – CLICK HERE\nALL CHILDREN AGES 3-17 MUST PAY ADMISSION & ROLLER SKATE RENTAL (OR BRING THEIR OWN SKATES)\nNON-SKATING ADULTS MAY ENTER AT NO CHARGE\nAll adults and children who enter the building need to fill out our online waiver which can be found by clicking this link. You will have to show the signed waiver to the admission associate so please have it ready to make check in as quick as possible.   Effective 10/11/2024
URL:https://www.unitedskates.com/skate-zone-71/event/saturday-public-skating-2/
LOCATION:Skate Zone 71\, 4900 Evanswood Ddr.\, Columbus\, OH\, 43229\, United States
CATEGORIES:Public Skates,Special Events
ATTACH;FMTTYPE=image/jpeg:https://unitedskates-assets.sfo3.digitaloceanspaces.com/wp-content/uploads/sites/7/2024/04/Public-Skate.jpg
END:VEVENT
END:VCALENDAR