BEGIN:VCALENDAR
VERSION:2.0
PRODID:-//Rink 2 - Skate Zone 71 - ECPv6.15.20//NONSGML v1.0//EN
CALSCALE:GREGORIAN
METHOD:PUBLISH
X-ORIGINAL-URL:https://www.unitedskates.com/skate-zone-71
X-WR-CALDESC:Events for Rink 2 - Skate Zone 71
REFRESH-INTERVAL;VALUE=DURATION:PT1H
X-Robots-Tag:noindex
X-PUBLISHED-TTL:PT1H
BEGIN:VTIMEZONE
TZID:America/New_York
BEGIN:DAYLIGHT
TZOFFSETFROM:-0500
TZOFFSETTO:-0400
TZNAME:EDT
DTSTART:20230312T070000
END:DAYLIGHT
BEGIN:STANDARD
TZOFFSETFROM:-0400
TZOFFSETTO:-0500
TZNAME:EST
DTSTART:20231105T060000
END:STANDARD
BEGIN:DAYLIGHT
TZOFFSETFROM:-0500
TZOFFSETTO:-0400
TZNAME:EDT
DTSTART:20240310T070000
END:DAYLIGHT
BEGIN:STANDARD
TZOFFSETFROM:-0400
TZOFFSETTO:-0500
TZNAME:EST
DTSTART:20241103T060000
END:STANDARD
BEGIN:DAYLIGHT
TZOFFSETFROM:-0500
TZOFFSETTO:-0400
TZNAME:EDT
DTSTART:20250309T070000
END:DAYLIGHT
BEGIN:STANDARD
TZOFFSETFROM:-0400
TZOFFSETTO:-0500
TZNAME:EST
DTSTART:20251102T060000
END:STANDARD
END:VTIMEZONE
BEGIN:VEVENT
DTSTART;VALUE=DATE:20240701
DTEND;VALUE=DATE:20240709
DTSTAMP:20260425T214933
CREATED:20240523T182452Z
LAST-MODIFIED:20240529T181404Z
UID:30830-1719810000-1720414799@www.unitedskates.com
SUMMARY:HOLIDAY SPECIAL SUPER PASS
DESCRIPTION:Heading to Skate Zone 71 for the holiday week?? We’ve got you covered with this all inclusive family deal!!\nHoliday Family Super Pass includes:\n\n5 Admissions\n5 Skate Rentals\n5 Games of Laser Tag\n5 Pre-Loaded Ten Credit Game Cards\n1 Large 1 Topping Pizza & Soda Pitcher\n\nAdd- On:\n\nICEE in a Souvenir Cup – $8\nJumbo Cotton Candy Bag – $4\n\nPURCHASE SUPER PASS HERE!\nAvailable during Public Sessions from July 1st thru July 7th (excluding Thursday & Sunday Adult Night Skates)\nHoliday Super Pass is not a Birthday Reservation\, and can not be used with Birthday Packages\nONLINE PRE-SALE PURCHASE ONLY
URL:https://www.unitedskates.com/skate-zone-71/event/holiday-special-super-pass/
LOCATION:Skate Zone 71\, 4900 Evanswood Ddr.\, Columbus\, OH\, 43229\, United States
CATEGORIES:Special Events
ATTACH;FMTTYPE=image/png:https://unitedskates-assets.sfo3.digitaloceanspaces.com/wp-content/uploads/sites/7/2024/05/OH24-018-Family-POS-Passes-264x404-4.png
END:VEVENT
BEGIN:VEVENT
DTSTART;VALUE=DATE:20240704
DTEND;VALUE=DATE:20240709
DTSTAMP:20260425T214933
CREATED:20240617T150112Z
LAST-MODIFIED:20240620T175341Z
UID:31084-1720069200-1720414799@www.unitedskates.com
SUMMARY:❤️🤍💙FOURTH OF JULY WEEKEND💙🤍❤️
DESCRIPTION:CELEBRATE THE HOLIDAY WEEKEND WITH SKATE ZONE 71!!\nWe’ve got plenty of skating\, tons of themed parties\, games\, prizes & MORE!!\nTWO ADMISSION OPTIONS:\nREGULAR: \n$12 Regular Admission \n$6 Skate Rental \nPURCHASE TICKETS HERE! \nHOLIDAY FAMILY SUPER PASS INCLUDES: \n\n5 Admissions\n5 Skate Rentals\n5 Games of Laser Tag\n5 Pre-Loaded Ten Credit Game Cards\n1 Large 1 Topping Pizza & Soda Pitcher\n\nADD- ON: \n\nICEE in a Souvenir Cup – $8\nJumbo Cotton Candy Bag – $4\n\nPURCHASE SUPER PASS HERE!\nJoin us for special themes\, games & more all summer long!\nBIRTHDAY PARTIES AVAILABLE – CLICK HERE\nALL CHILDREN AGES 3-17 MUST PAY ADMISSION & ROLLER SKATE RENTAL (OR BRING THEIR OWN SKATES)\nNON-SKATING ADULTS MAY ENTER AT NO CHARGE\nALL ADULT SKATERS (18+) ARE REQUIRED TO SIGN A LIABILITY WAIVER\n 
URL:https://www.unitedskates.com/skate-zone-71/event/%e2%9d%a4%ef%b8%8f%f0%9f%a4%8d%f0%9f%92%99fourth-of-july-weekend%f0%9f%92%99%f0%9f%a4%8d%e2%9d%a4%ef%b8%8f/
LOCATION:Skate Zone 71\, 4900 Evanswood Ddr.\, Columbus\, OH\, 43229\, United States
CATEGORIES:Special Events
ATTACH;FMTTYPE=image/png:https://unitedskates-assets.sfo3.digitaloceanspaces.com/wp-content/uploads/sites/7/2024/06/4th-of-July-Skate-Weekend-2024.png
END:VEVENT
BEGIN:VEVENT
DTSTART;TZID=America/New_York:20240704T120000
DTEND;TZID=America/New_York:20240704T160000
DTSTAMP:20260425T214933
CREATED:20240514T182429Z
LAST-MODIFIED:20240611T175350Z
UID:30849-1720094400-1720108800@www.unitedskates.com
SUMMARY:FOURTH OF JULY CELEBRATION
DESCRIPTION:☀️SUMMER BREAK at Skate Zone 71☀️\nIt’s time to celebrate the holiday with an all out fun session!!\nWear Red White & Blue for a FREE TREAT!\nADMISSION OPTIONS:\nREGULAR: \n$12 Regular Admission \n$6 Skate Rental \nPURCHASE TICKETS HERE! \nHOLIDAY FAMILY SUPER PASS INCLUDES: \n\n5 Admissions\n5 Skate Rentals\n5 Games of Laser Tag\n5 Pre-Loaded Ten Credit Game Cards\n1 Large 1 Topping Pizza & Soda Pitcher\n\nADD- ON: \n\nICEE in a Souvenir Cup – $8\nJumbo Cotton Candy Bag – $4\n\nPURCHASE SUPER PASS HERE!\nJoin us for special themes\, games & more all summer long!\nBIRTHDAY PARTIES AVAILABLE – CLICK HERE\nALL CHILDREN AGES 3-17 MUST PAY ADMISSION & ROLLER SKATE RENTAL (OR BRING THEIR OWN SKATES)\nNON-SKATING ADULTS MAY ENTER AT NO CHARGE\nALL ADULT SKATERS (18+) ARE REQUIRED TO SIGN A LIABILITY WAIVER
URL:https://www.unitedskates.com/skate-zone-71/event/red-white-boom-skate-2024-07-04/
LOCATION:Skate Zone 71\, 4900 Evanswood Ddr.\, Columbus\, OH\, 43229\, United States
CATEGORIES:Public Skates,Special Events
ATTACH;FMTTYPE=image/png:https://unitedskates-assets.sfo3.digitaloceanspaces.com/wp-content/uploads/sites/7/2024/05/7.4-July-4th-Celebration-2024.png
END:VEVENT
BEGIN:VEVENT
DTSTART;TZID=America/New_York:20240704T210000
DTEND;TZID=America/New_York:20240705T000000
DTSTAMP:20260425T214933
CREATED:20240611T185355Z
LAST-MODIFIED:20240617T175742Z
UID:30983-1720126800-1720137600@www.unitedskates.com
SUMMARY:PARTY in the USA ADULT SKATE
DESCRIPTION:$12.00 Admission – each Admission earns one Raffle Ticket for $100 Visa Gift Card (2 Winners)\n$6.00 Roller Skate Rental\n\nPURCHASE TICKETS HERE! \n\n\n\nAdult Skates are for ages 18+ and over ONLY\nAll guests are required to pay admission\nAll Adult Skaters (18+) are required to sign a liability waiver
URL:https://www.unitedskates.com/skate-zone-71/event/fourth-of-july-adult-skate/
LOCATION:Skate Zone 71\, 4900 Evanswood Ddr.\, Columbus\, OH\, 43229\, United States
CATEGORIES:Adult Events,Special Events
ATTACH;FMTTYPE=image/jpeg:https://unitedskates-assets.sfo3.digitaloceanspaces.com/wp-content/uploads/sites/7/2024/06/7.4-Party-in-the-Usa-Skate-ADULT-2024.jpg
END:VEVENT
END:VCALENDAR