BEGIN:VCALENDAR
VERSION:2.0
PRODID:-//Rink 2 - Skate Zone 71 - ECPv6.15.20//NONSGML v1.0//EN
CALSCALE:GREGORIAN
METHOD:PUBLISH
X-ORIGINAL-URL:https://www.unitedskates.com/skate-zone-71
X-WR-CALDESC:Events for Rink 2 - Skate Zone 71
REFRESH-INTERVAL;VALUE=DURATION:PT1H
X-Robots-Tag:noindex
X-PUBLISHED-TTL:PT1H
BEGIN:VTIMEZONE
TZID:America/New_York
BEGIN:DAYLIGHT
TZOFFSETFROM:-0500
TZOFFSETTO:-0400
TZNAME:EDT
DTSTART:20230312T070000
END:DAYLIGHT
BEGIN:STANDARD
TZOFFSETFROM:-0400
TZOFFSETTO:-0500
TZNAME:EST
DTSTART:20231105T060000
END:STANDARD
BEGIN:DAYLIGHT
TZOFFSETFROM:-0500
TZOFFSETTO:-0400
TZNAME:EDT
DTSTART:20240310T070000
END:DAYLIGHT
BEGIN:STANDARD
TZOFFSETFROM:-0400
TZOFFSETTO:-0500
TZNAME:EST
DTSTART:20241103T060000
END:STANDARD
BEGIN:DAYLIGHT
TZOFFSETFROM:-0500
TZOFFSETTO:-0400
TZNAME:EDT
DTSTART:20250309T070000
END:DAYLIGHT
BEGIN:STANDARD
TZOFFSETFROM:-0400
TZOFFSETTO:-0500
TZNAME:EST
DTSTART:20251102T060000
END:STANDARD
END:VTIMEZONE
BEGIN:VEVENT
DTSTART;TZID=America/New_York:20240628T120000
DTEND;TZID=America/New_York:20240628T143000
DTSTAMP:20260425T214848
CREATED:20240514T181506Z
LAST-MODIFIED:20240514T181506Z
UID:30651-1719576000-1719585000@www.unitedskates.com
SUMMARY:TROLL ROLL SKATE
DESCRIPTION:☀️SUMMER BREAK at Skate Zone 71☀️\nHead over for this EPIC TROLL SKATE!! We’ll have visits from Poppy & Branch for Photo Ops and Games!\n12:00PM – 2:30PM\nPick from Two Admission Options: \n\nSkate & Play $19 – includes Admission\, 20 Game Credits & 1 Game of Laser Tag\nSkate Fun $12 – Admission\n\n$6 Skate Rental \nPURCHASE TICKETS HERE! \nJoin us for special themes\, games & more all summer long!\nBIRTHDAY PARTIES AVAILABLE – CLICK HERE\nALL CHILDREN AGES 3-17 MUST PAY ADMISSION & ROLLER SKATE RENTAL (OR BRING THEIR OWN SKATES)\nNON-SKATING ADULTS MAY ENTER AT NO CHARGE\nALL ADULT SKATERS (18+) ARE REQUIRED TO SIGN A LIABILITY WAIVER
URL:https://www.unitedskates.com/skate-zone-71/event/troll-roll-skate/
LOCATION:Skate Zone 71\, 4900 Evanswood Ddr.\, Columbus\, OH\, 43229\, United States
CATEGORIES:Public Skates,Special Events
ATTACH;FMTTYPE=image/png:https://unitedskates-assets.sfo3.digitaloceanspaces.com/wp-content/uploads/sites/7/2024/05/TROLL-GLOW-ROLL.png
END:VEVENT
BEGIN:VEVENT
DTSTART;TZID=America/New_York:20240628T183000
DTEND;TZID=America/New_York:20240628T210000
DTSTAMP:20260425T214848
CREATED:20240626T200639Z
LAST-MODIFIED:20240627T152928Z
UID:31107-1719599400-1719608400@www.unitedskates.com
SUMMARY:FREE SLICE FRIDAYS in JULY
DESCRIPTION:🛼EVERY FRIDAY EVENING IN JULY🛼\n6:30PM – 9:00PM\nPick from TWO Admission Options: Both include FREE Slice of Pizza🍕🍕🍕  \n\nSkate & Play $19 – includes Admission\, 20 Game Credits & 1 Game of Laser Tag\nSkate Fun $12 – Admission \n\n*$6 Skate Rental Additional* \nPURCHASE TICKETS HERE!
URL:https://www.unitedskates.com/skate-zone-71/event/free-slice-friday-night-thru-july/2024-06-28/
LOCATION:Skate Zone 71\, 4900 Evanswood Ddr.\, Columbus\, OH\, 43229\, United States
CATEGORIES:Family Events,Public Skates,Special Events
ATTACH;FMTTYPE=image/jpeg:https://unitedskates-assets.sfo3.digitaloceanspaces.com/wp-content/uploads/sites/7/2024/06/FREE-PIZZA-FRIDAYS-RINK-SK71.jpg
END:VEVENT
END:VCALENDAR