BEGIN:VCALENDAR
VERSION:2.0
PRODID:-//Rink 2 - Skate Zone 71 - ECPv6.15.20//NONSGML v1.0//EN
CALSCALE:GREGORIAN
METHOD:PUBLISH
X-ORIGINAL-URL:https://www.unitedskates.com/skate-zone-71
X-WR-CALDESC:Events for Rink 2 - Skate Zone 71
REFRESH-INTERVAL;VALUE=DURATION:PT1H
X-Robots-Tag:noindex
X-PUBLISHED-TTL:PT1H
BEGIN:VTIMEZONE
TZID:America/New_York
BEGIN:DAYLIGHT
TZOFFSETFROM:-0500
TZOFFSETTO:-0400
TZNAME:EDT
DTSTART:20230312T070000
END:DAYLIGHT
BEGIN:STANDARD
TZOFFSETFROM:-0400
TZOFFSETTO:-0500
TZNAME:EST
DTSTART:20231105T060000
END:STANDARD
BEGIN:DAYLIGHT
TZOFFSETFROM:-0500
TZOFFSETTO:-0400
TZNAME:EDT
DTSTART:20240310T070000
END:DAYLIGHT
BEGIN:STANDARD
TZOFFSETFROM:-0400
TZOFFSETTO:-0500
TZNAME:EST
DTSTART:20241103T060000
END:STANDARD
BEGIN:DAYLIGHT
TZOFFSETFROM:-0500
TZOFFSETTO:-0400
TZNAME:EDT
DTSTART:20250309T070000
END:DAYLIGHT
BEGIN:STANDARD
TZOFFSETFROM:-0400
TZOFFSETTO:-0500
TZNAME:EST
DTSTART:20251102T060000
END:STANDARD
END:VTIMEZONE
BEGIN:VEVENT
DTSTART;TZID=America/New_York:20240616T160000
DTEND;TZID=America/New_York:20240616T190000
DTSTAMP:20260425T185459
CREATED:20240508T172744Z
LAST-MODIFIED:20240509T181230Z
UID:30334-1718553600-1718564400@www.unitedskates.com
SUMMARY:FATHER'S DAY SKATE
DESCRIPTION:🥸 Celebrate all types of Dads in the best way – getting your groove on at the Rink!! 🥸\nWe’ll have a “Be Like Dad” Costume Contest so put on your best look-a-like outfit and be entered to WIN a 20 Credit Game Card!\n4:00PM – 7:00PM\n$12 Admission – Dad’s Receive Free Admission with Paid Child Ticket \n$6 Skate Rental Additional \nPURCHASE TICKETS HERE! \nBIRTHDAY PARTIES AVAILABLE – CLICK HERE\nGROUP RATES AVAILABLE FOR PARTIES OF 15+ – CLICK HERE\nALL CHILDREN AGES 3-17 MUST PAY ADMISSION & ROLLER SKATE RENTAL (OR BRING THEIR OWN SKATES)\nNON-SKATING ADULTS MAY ENTER AT NO CHARGE\nALL ADULT SKATERS (18+) ARE REQUIRED TO SIGN A LIABILITY WAIVER
URL:https://www.unitedskates.com/skate-zone-71/event/fathers-day-skate-2/
LOCATION:Skate Zone 71\, 4900 Evanswood Ddr.\, Columbus\, OH\, 43229\, United States
CATEGORIES:Public Skates,Special Events
ATTACH;FMTTYPE=image/png:https://unitedskates-assets.sfo3.digitaloceanspaces.com/wp-content/uploads/sites/7/2024/05/6.16-Fathers-Day-Skate-2024-V2.png
END:VEVENT
END:VCALENDAR