BEGIN:VCALENDAR
VERSION:2.0
PRODID:-//Rink 2 - Skate Zone 71 - ECPv6.15.20//NONSGML v1.0//EN
CALSCALE:GREGORIAN
METHOD:PUBLISH
X-ORIGINAL-URL:https://www.unitedskates.com/skate-zone-71
X-WR-CALDESC:Events for Rink 2 - Skate Zone 71
REFRESH-INTERVAL;VALUE=DURATION:PT1H
X-Robots-Tag:noindex
X-PUBLISHED-TTL:PT1H
BEGIN:VTIMEZONE
TZID:America/New_York
BEGIN:DAYLIGHT
TZOFFSETFROM:-0500
TZOFFSETTO:-0400
TZNAME:EDT
DTSTART:20230312T070000
END:DAYLIGHT
BEGIN:STANDARD
TZOFFSETFROM:-0400
TZOFFSETTO:-0500
TZNAME:EST
DTSTART:20231105T060000
END:STANDARD
BEGIN:DAYLIGHT
TZOFFSETFROM:-0500
TZOFFSETTO:-0400
TZNAME:EDT
DTSTART:20240310T070000
END:DAYLIGHT
BEGIN:STANDARD
TZOFFSETFROM:-0400
TZOFFSETTO:-0500
TZNAME:EST
DTSTART:20241103T060000
END:STANDARD
BEGIN:DAYLIGHT
TZOFFSETFROM:-0500
TZOFFSETTO:-0400
TZNAME:EDT
DTSTART:20250309T070000
END:DAYLIGHT
BEGIN:STANDARD
TZOFFSETFROM:-0400
TZOFFSETTO:-0500
TZNAME:EST
DTSTART:20251102T060000
END:STANDARD
END:VTIMEZONE
BEGIN:VEVENT
DTSTART;TZID=America/New_York:20240613T120000
DTEND;TZID=America/New_York:20240613T143000
DTSTAMP:20260425T170521
CREATED:20240514T172115Z
LAST-MODIFIED:20240702T134826Z
UID:30640-1718280000-1718289000@www.unitedskates.com
SUMMARY:MARIO & FRIENDS SKATE
DESCRIPTION:☀️SUMMER BREAK at Skate Zone 71☀️\nMario and Friends will be visiting throughout the session\, stop by for skating\, games\, photos & MORE!!!!\n12:00PM – 2:30PM\nPick from Two Admission Options: \n\nSkate & Play $19 – includes Admission\, 20 Game Credits & 1 Game of Laser Tag\nSkate Fun $12 – Admission\n\n$6 Skate Rental \nPURCHASE TICKETS HERE! \nJoin us for special themes\, characters & games all summer long!\nBIRTHDAY PARTIES AVAILABLE – CLICK HERE\nALL CHILDREN AGES 3-17 MUST PAY ADMISSION & ROLLER SKATE RENTAL (OR BRING THEIR OWN SKATES)\nNON-SKATING ADULTS MAY ENTER AT NO CHARGE\nALL ADULT SKATERS (18+) ARE REQUIRED TO SIGN A LIABILITY WAIVER
URL:https://www.unitedskates.com/skate-zone-71/event/mario-friends-skate/2024-06-13/
LOCATION:Skate Zone 71\, 4900 Evanswood Ddr.\, Columbus\, OH\, 43229\, United States
CATEGORIES:Public Skates,Special Events
ATTACH;FMTTYPE=image/png:https://unitedskates-assets.sfo3.digitaloceanspaces.com/wp-content/uploads/sites/7/2024/05/MARIO-Thumbnail.png
END:VEVENT
BEGIN:VEVENT
DTSTART;TZID=America/New_York:20240613T210000
DTEND;TZID=America/New_York:20240614T000000
DTSTAMP:20260425T170521
CREATED:20240508T184236Z
LAST-MODIFIED:20240611T170527Z
UID:30355-1718312400-1718323200@www.unitedskates.com
SUMMARY:Adult PRIDE Skate
DESCRIPTION:🌈It’s Adult Night with a PRIDE Twist!!🌈\nCome celebrate humanity with TWO JAMMIN Adult Skates!\nTHURSDAY JUNE 13th\n9:00PM – 12:00AM\nFRIDAY JUNE 14th\n10:00PM – 12:00AM\nEither Session: \n\n$12.00 Admission\n$6.00 Roller Skate Rental\n\nPURCHASE TICKETS HERE!\nADULT SKATES ARE FOR AGES 18+ AND OVER ONLY\nALL GUESTS ARE REQUIRED TO PAY ADMISSION\nALL ADULT SKATERS (18+) ARE REQUIRED TO SIGN A LIABILITY WAIVER
URL:https://www.unitedskates.com/skate-zone-71/event/adult-pride-skate/
LOCATION:Skate Zone 71\, 4900 Evanswood Ddr.\, Columbus\, OH\, 43229\, United States
CATEGORIES:Adult Events,Special Events
ATTACH;FMTTYPE=image/png:https://unitedskates-assets.sfo3.digitaloceanspaces.com/wp-content/uploads/sites/7/2024/05/6.13-14-LGBTQ-ADULT-SKATE-2024.png
END:VEVENT
END:VCALENDAR