BEGIN:VCALENDAR
VERSION:2.0
PRODID:-//Rink 2 - Skate Zone 71 - ECPv6.15.20//NONSGML v1.0//EN
CALSCALE:GREGORIAN
METHOD:PUBLISH
X-ORIGINAL-URL:https://www.unitedskates.com/skate-zone-71
X-WR-CALDESC:Events for Rink 2 - Skate Zone 71
REFRESH-INTERVAL;VALUE=DURATION:PT1H
X-Robots-Tag:noindex
X-PUBLISHED-TTL:PT1H
BEGIN:VTIMEZONE
TZID:America/New_York
BEGIN:DAYLIGHT
TZOFFSETFROM:-0500
TZOFFSETTO:-0400
TZNAME:EDT
DTSTART:20230312T070000
END:DAYLIGHT
BEGIN:STANDARD
TZOFFSETFROM:-0400
TZOFFSETTO:-0500
TZNAME:EST
DTSTART:20231105T060000
END:STANDARD
BEGIN:DAYLIGHT
TZOFFSETFROM:-0500
TZOFFSETTO:-0400
TZNAME:EDT
DTSTART:20240310T070000
END:DAYLIGHT
BEGIN:STANDARD
TZOFFSETFROM:-0400
TZOFFSETTO:-0500
TZNAME:EST
DTSTART:20241103T060000
END:STANDARD
BEGIN:DAYLIGHT
TZOFFSETFROM:-0500
TZOFFSETTO:-0400
TZNAME:EDT
DTSTART:20250309T070000
END:DAYLIGHT
BEGIN:STANDARD
TZOFFSETFROM:-0400
TZOFFSETTO:-0500
TZNAME:EST
DTSTART:20251102T060000
END:STANDARD
END:VTIMEZONE
BEGIN:VEVENT
DTSTART;TZID=America/New_York:20240612T180000
DTEND;TZID=America/New_York:20240612T203000
DTSTAMP:20260425T185522
CREATED:20240509T191131Z
LAST-MODIFIED:20240611T180917Z
UID:30393-1718215200-1718224200@www.unitedskates.com
SUMMARY:SUMMER Affordable Family Fun Night
DESCRIPTION:☀️SUMMER WEDNESDAYS at Skate Zone 71☀️\nIt’s our usual Wednesday Family Skating with a Summer Twist! Enjoy a $5 All Session Bounce House Pass!\n6:00PM – 8:30PM\nPick from TWO Admission Options: \n\nSkate & Play $14 – includes Admission\, 20 Game Credits & 1 Game of Laser Tag\nSkate Fun $7 – Admission \n\n$6 Skate Rental \n$5 Bounce House Pass \nPURCHASE TICKETS HERE! \nBIRTHDAY PARTIES AVAILABLE – CLICK HERE\nALL CHILDREN AGES 3-17 MUST PAY ADMISSION & ROLLER SKATE RENTAL (OR BRING THEIR OWN SKATES)\nNON-SKATING ADULTS MAY ENTER AT NO CHARGE\nALL ADULT SKATERS (18+) ARE REQUIRED TO SIGN A LIABILITY WAIVER
URL:https://www.unitedskates.com/skate-zone-71/event/summer-affordable-family-fun-night/2024-06-12/
LOCATION:Skate Zone 71\, 4900 Evanswood Ddr.\, Columbus\, OH\, 43229\, United States
CATEGORIES:Public Skates,Special Events
ATTACH;FMTTYPE=image/png:https://unitedskates-assets.sfo3.digitaloceanspaces.com/wp-content/uploads/sites/7/2024/05/summer-AFF.png
END:VEVENT
BEGIN:VEVENT
DTSTART;TZID=America/New_York:20240612T203000
DTEND;TZID=America/New_York:20240612T230000
DTSTAMP:20260425T185522
CREATED:20240508T161623Z
LAST-MODIFIED:20240509T175009Z
UID:30303-1718224200-1718233200@www.unitedskates.com
SUMMARY:Newbie Adult PRIDE Skate
DESCRIPTION:It’s Newbie Skate Night with a PRIDE Twist!!\nWhether you’re learning to skate or a cool pro\, come celebrate humanity with a FUN Adult Night!\n\n$12.00 Admission ($2 Off at Door with Valid College ID)\n$6.00 Roller Skate Rental\n\nPURCHASE TICKETS HERE!\nADULT SKATES ARE FOR AGES 18+ AND OVER ONLY\nALL GUESTS ARE REQUIRED TO PAY ADMISSION\nALL ADULT SKATERS (18+) ARE REQUIRED TO SIGN A LIABILITY WAIVER
URL:https://www.unitedskates.com/skate-zone-71/event/newbie-adult-pride-skate/
LOCATION:Skate Zone 71\, 4900 Evanswood Ddr.\, Columbus\, OH\, 43229\, United States
CATEGORIES:Public Skates,Special Events
ATTACH;FMTTYPE=image/png:https://unitedskates-assets.sfo3.digitaloceanspaces.com/wp-content/uploads/sites/7/2024/05/6.12-Newbie-LGBT-ROLLER-SKATE-2024.png
END:VEVENT
END:VCALENDAR