BEGIN:VCALENDAR
VERSION:2.0
PRODID:-//Rink 2 - Skate Zone 71 - ECPv6.15.20//NONSGML v1.0//EN
CALSCALE:GREGORIAN
METHOD:PUBLISH
X-WR-CALNAME:Rink 2 - Skate Zone 71
X-ORIGINAL-URL:https://www.unitedskates.com/skate-zone-71
X-WR-CALDESC:Events for Rink 2 - Skate Zone 71
REFRESH-INTERVAL;VALUE=DURATION:PT1H
X-Robots-Tag:noindex
X-PUBLISHED-TTL:PT1H
BEGIN:VTIMEZONE
TZID:America/New_York
BEGIN:DAYLIGHT
TZOFFSETFROM:-0500
TZOFFSETTO:-0400
TZNAME:EDT
DTSTART:20230312T070000
END:DAYLIGHT
BEGIN:STANDARD
TZOFFSETFROM:-0400
TZOFFSETTO:-0500
TZNAME:EST
DTSTART:20231105T060000
END:STANDARD
BEGIN:DAYLIGHT
TZOFFSETFROM:-0500
TZOFFSETTO:-0400
TZNAME:EDT
DTSTART:20240310T070000
END:DAYLIGHT
BEGIN:STANDARD
TZOFFSETFROM:-0400
TZOFFSETTO:-0500
TZNAME:EST
DTSTART:20241103T060000
END:STANDARD
BEGIN:DAYLIGHT
TZOFFSETFROM:-0500
TZOFFSETTO:-0400
TZNAME:EDT
DTSTART:20250309T070000
END:DAYLIGHT
BEGIN:STANDARD
TZOFFSETFROM:-0400
TZOFFSETTO:-0500
TZNAME:EST
DTSTART:20251102T060000
END:STANDARD
END:VTIMEZONE
BEGIN:VEVENT
DTSTART;VALUE=DATE:20240524
DTEND;VALUE=DATE:20240529
DTSTAMP:20260425T214312
CREATED:20240412T183020Z
LAST-MODIFIED:20240412T183020Z
UID:30010-1716526800-1716872399@www.unitedskates.com
SUMMARY:MEMORIAL WEEKEND SKATING
DESCRIPTION:May 24th\n6:30PM – 9PM\nRED\, White & Blue Swiftie Skate \nMay 25th\n11AM – 1PM\nDisney Mystery Character Skate \nMay 26th\n1PM – 3:30PM\nSTITCH Luau Skate \nMay 26th\n8PM – 12AM\nGrill Giveaway Adult Skate (18+) \nMay 27th\n12PM – 4PM\nHalf Priced Game Skate \nMay 27th\n6PM – 8:30PM\nDinner Skate
URL:https://www.unitedskates.com/skate-zone-71/event/memorial-weekend-skating/
LOCATION:Skate Zone 71\, 4900 Evanswood Ddr.\, Columbus\, OH\, 43229\, United States
CATEGORIES:Public Skates,Special Events
ATTACH;FMTTYPE=image/png:https://unitedskates-assets.sfo3.digitaloceanspaces.com/wp-content/uploads/sites/7/2024/04/ALL-MemorialDay-Weekend-2024.png
END:VEVENT
BEGIN:VEVENT
DTSTART;TZID=America/New_York:20240526T130000
DTEND;TZID=America/New_York:20240526T153000
DTSTAMP:20260425T214312
CREATED:20240412T163639Z
LAST-MODIFIED:20240415T195230Z
UID:29996-1716728400-1716737400@www.unitedskates.com
SUMMARY:STITCH Luau Skate
DESCRIPTION:🎊STITCH LUAU SKATE🎊\nStop by this session for a FUN FILLED AFTERNOON! We’ll have a special visit from STITCH\, GAMES & MORE!\nEach Admission with receive a Free Lei to Celebrate the Session.\n1:00PM – 3:30PM\nPick from TWO Admission Options: \n\nSkate & Play $19 – includes Admission\, 20 Game Credits & 1 Game of Laser Tag\nSkate Fun $12 – Admission \n\n$6 Skate Rental Additional \nPURCHASE TICKETS HERE! \nBIRTHDAY PARTIES AVAILABLE – CLICK HERE\nGROUP RATES AVAILABLE FOR PARTIES OF 15+ – CLICK HERE\nIS YOUR GROUP LOOKING FOR A FUN EVENT? CLICK HERE TO FIND OUT HOW TO FUNDRAISE DURING THIS SESSION!\nALL CHILDREN AGES 3-17 MUST PAY ADMISSION & ROLLER SKATE RENTAL (OR BRING THEIR OWN SKATES)\nNON-SKATING ADULTS MAY ENTER AT NO CHARGE\nALL ADULT SKATERS (18+) ARE REQUIRED TO SIGN A LIABILITY WAIVER
URL:https://www.unitedskates.com/skate-zone-71/event/stitch-luau-skate/
LOCATION:Skate Zone 71\, 4900 Evanswood Ddr.\, Columbus\, OH\, 43229\, United States
CATEGORIES:Public Skates,Special Events
ATTACH;FMTTYPE=image/png:https://unitedskates-assets.sfo3.digitaloceanspaces.com/wp-content/uploads/sites/7/2024/04/5.26-skate-luau-with-Stitch-2024.png
END:VEVENT
BEGIN:VEVENT
DTSTART;TZID=America/New_York:20240526T200000
DTEND;TZID=America/New_York:20240527T000000
DTSTAMP:20260425T214312
CREATED:20240412T164617Z
LAST-MODIFIED:20240415T200151Z
UID:29999-1716753600-1716768000@www.unitedskates.com
SUMMARY:GRILL GIVEAWAY ADULT NIGHT
DESCRIPTION:✨BBQ GRILL GIVEAWAY ADULT NIGHT ✨\nRoll into this Adult Skate and be Entered to Win a BBQ Grill at the end of the session! (Winner Must Be Present to Claim)\n8:00PM – 12:00AM\n$12.00 Admission – Each Admission Earns One Raffle Entry \n$6.00 Roller Skate Rental \nAdditional Raffle Tickets $2/Each \nPURCHASE TICKETS HERE!\nADULT SKATES ARE FOR AGES 18+ AND OVER ONLY\nALL GUESTS ARE REQUIRED TO PAY ADMISSION\nALL ADULT SKATERS (18+) ARE REQUIRED TO SIGN A LIABILITY WAIVER
URL:https://www.unitedskates.com/skate-zone-71/event/grill-giveaway-adult-night/
LOCATION:Skate Zone 71\, 4900 Evanswood Ddr.\, Columbus\, OH\, 43229\, United States
CATEGORIES:Public Skates,Special Events
ATTACH;FMTTYPE=image/png:https://unitedskates-assets.sfo3.digitaloceanspaces.com/wp-content/uploads/sites/7/2024/04/5.26-memorial-day-adult-skate-2024.png
END:VEVENT
END:VCALENDAR