BEGIN:VCALENDAR
VERSION:2.0
PRODID:-//Rink 2 - Skate Zone 71 - ECPv6.15.20//NONSGML v1.0//EN
CALSCALE:GREGORIAN
METHOD:PUBLISH
X-ORIGINAL-URL:https://www.unitedskates.com/skate-zone-71
X-WR-CALDESC:Events for Rink 2 - Skate Zone 71
REFRESH-INTERVAL;VALUE=DURATION:PT1H
X-Robots-Tag:noindex
X-PUBLISHED-TTL:PT1H
BEGIN:VTIMEZONE
TZID:America/New_York
BEGIN:DAYLIGHT
TZOFFSETFROM:-0500
TZOFFSETTO:-0400
TZNAME:EDT
DTSTART:20230312T070000
END:DAYLIGHT
BEGIN:STANDARD
TZOFFSETFROM:-0400
TZOFFSETTO:-0500
TZNAME:EST
DTSTART:20231105T060000
END:STANDARD
BEGIN:DAYLIGHT
TZOFFSETFROM:-0500
TZOFFSETTO:-0400
TZNAME:EDT
DTSTART:20240310T070000
END:DAYLIGHT
BEGIN:STANDARD
TZOFFSETFROM:-0400
TZOFFSETTO:-0500
TZNAME:EST
DTSTART:20241103T060000
END:STANDARD
BEGIN:DAYLIGHT
TZOFFSETFROM:-0500
TZOFFSETTO:-0400
TZNAME:EDT
DTSTART:20250309T070000
END:DAYLIGHT
BEGIN:STANDARD
TZOFFSETFROM:-0400
TZOFFSETTO:-0500
TZNAME:EST
DTSTART:20251102T060000
END:STANDARD
END:VTIMEZONE
BEGIN:VEVENT
DTSTART;VALUE=DATE:20240401
DTEND;VALUE=DATE:20240407
DTSTAMP:20260425T211908
CREATED:20240207T184437Z
LAST-MODIFIED:20240209T205840Z
UID:29130-1711947600-1712379599@www.unitedskates.com
SUMMARY:Spring Break Skating!
DESCRIPTION:Daytime Sessions & Special Themed Sessions
URL:https://www.unitedskates.com/skate-zone-71/event/spring-break-skating-2/
LOCATION:Skate Zone 71\, 4900 Evanswood Ddr.\, Columbus\, OH\, 43229\, United States
CATEGORIES:Special Events
ATTACH;FMTTYPE=image/jpeg:https://unitedskates-assets.sfo3.digitaloceanspaces.com/wp-content/uploads/sites/7/2024/02/Spring-Break-2024-Calendar-Front-rink-2.jpg
END:VEVENT
BEGIN:VEVENT
DTSTART;TZID=America/New_York:20240405T183000
DTEND;TZID=America/New_York:20240405T210000
DTSTAMP:20260425T211908
CREATED:20240209T204716Z
LAST-MODIFIED:20240313T171206Z
UID:29358-1712341800-1712350800@www.unitedskates.com
SUMMARY:Beyoncé Skate Night
DESCRIPTION:✨ It’s Beyoncé Skate Night ✨\nDress Up & Come Out to Skate to the BEST of QUEEN B with Trivia & Beyhive Stuff Shop Specials!\n6:30PM – 9:00PM\nPick from TWO Admission Options: \n\nVIP Ticket $25 – includes Admission\, Skate Rental & Beyoncé Swag Bag\nSkate Fun $12 – Admission *$5 Skate Rental Additional*\n\nPURCHASE TICKETS HERE! \nALL CHILDREN AGES 3-17 MUST PAY ADMISSION & ROLLER SKATE RENTAL (OR BRING THEIR OWN SKATES)\nNON-SKATING ADULTS MAY ENTER AT NO CHARGE\nALL ADULT SKATERS (18+) ARE REQUIRED TO SIGN A LIABILITY WAIVER
URL:https://www.unitedskates.com/skate-zone-71/event/beyonce-skate-night-2/
LOCATION:Skate Zone 71\, 4900 Evanswood Ddr.\, Columbus\, OH\, 43229\, United States
CATEGORIES:Public Skates,Special Events
ATTACH;FMTTYPE=image/png:https://unitedskates-assets.sfo3.digitaloceanspaces.com/wp-content/uploads/sites/7/2024/02/4.5-BEYONCE-SKATE-NIGHT-1.png
END:VEVENT
BEGIN:VEVENT
DTSTART;TZID=America/New_York:20240405T213000
DTEND;TZID=America/New_York:20240406T003000
DTSTAMP:20260425T211908
CREATED:20240319T143751Z
LAST-MODIFIED:20240319T172518Z
UID:29586-1712352600-1712363400@www.unitedskates.com
SUMMARY:FIRST FRIDAY THROWBACK SKATE
DESCRIPTION:Friday\, April 5th\nWe will be playing the best of Classic Hip-Hop and R&B ALL NIGHT LONG!!\n9:30PM – 12:30AM\n$13.00 Admission \n$5.00 Roller Skate Rental \nPURCHASE TICKETS HERE!  (Admission Available Via Link or At Door) \nTHROWBACK ADULT SKATES ARE FOR AGES 21+ AND OVER ONLY\nALL GUESTS ARE REQUIRED TO PAY ADMISSION\nALL ADULT SKATERS (18+) ARE REQUIRED TO SIGN A LIABILITY WAIVER
URL:https://www.unitedskates.com/skate-zone-71/event/first-friday-throwback-skate/
LOCATION:Skate Zone 71\, 4900 Evanswood Ddr.\, Columbus\, OH\, 43229\, United States
CATEGORIES:Adult Events,Special Events
ATTACH;FMTTYPE=image/jpeg:https://unitedskates-assets.sfo3.digitaloceanspaces.com/wp-content/uploads/sites/7/2024/03/4.5-Throw-back-First-Skate-rink-2-2024.jpg
END:VEVENT
END:VCALENDAR