BEGIN:VCALENDAR
VERSION:2.0
PRODID:-//Rink 2 - Skate Zone 71 - ECPv6.15.20//NONSGML v1.0//EN
CALSCALE:GREGORIAN
METHOD:PUBLISH
X-ORIGINAL-URL:https://www.unitedskates.com/skate-zone-71
X-WR-CALDESC:Events for Rink 2 - Skate Zone 71
REFRESH-INTERVAL;VALUE=DURATION:PT1H
X-Robots-Tag:noindex
X-PUBLISHED-TTL:PT1H
BEGIN:VTIMEZONE
TZID:America/New_York
BEGIN:DAYLIGHT
TZOFFSETFROM:-0500
TZOFFSETTO:-0400
TZNAME:EDT
DTSTART:20230312T070000
END:DAYLIGHT
BEGIN:STANDARD
TZOFFSETFROM:-0400
TZOFFSETTO:-0500
TZNAME:EST
DTSTART:20231105T060000
END:STANDARD
BEGIN:DAYLIGHT
TZOFFSETFROM:-0500
TZOFFSETTO:-0400
TZNAME:EDT
DTSTART:20240310T070000
END:DAYLIGHT
BEGIN:STANDARD
TZOFFSETFROM:-0400
TZOFFSETTO:-0500
TZNAME:EST
DTSTART:20241103T060000
END:STANDARD
BEGIN:DAYLIGHT
TZOFFSETFROM:-0500
TZOFFSETTO:-0400
TZNAME:EDT
DTSTART:20250309T070000
END:DAYLIGHT
BEGIN:STANDARD
TZOFFSETFROM:-0400
TZOFFSETTO:-0500
TZNAME:EST
DTSTART:20251102T060000
END:STANDARD
END:VTIMEZONE
BEGIN:VEVENT
DTSTART;VALUE=DATE:20240830
DTEND;VALUE=DATE:20240904
DTSTAMP:20260424T230517
CREATED:20240805T160132Z
LAST-MODIFIED:20240805T174326Z
UID:31702-1724994000-1725339599@www.unitedskates.com
SUMMARY:Labor Day Weekend Skating 🛼👷🏻‍♀️👷🏻‍♂️
DESCRIPTION:Come Skate for the Holiday!!\nJoin us for Great Family Sessions all Weekend Long! See Schedule for all Events & Session Times\n🛼Friday Aug 30th 6:30-9:00pm: Roll-in Movie Night – Black Panther Movie🎞️🍿\n🛼Saturday Aug 31st 11:00am-1:00pm: Buckeye Tailgate Skate!🩶❤️\n🛼Sunday Sept 1st 1:00pm-3:30pm: Red\, White & Blue Swiftie Skate❤️🤍💙\n🛼Monday Sept 2nd – LABOR DAY: 12:00-2:30pm\, 3:00-5:30pm and 6:00-8:30pm👷🏻👷🏻‍♂️👷🏻‍♀️
URL:https://www.unitedskates.com/skate-zone-71/event/labor-day-weekend-skating-%f0%9f%9b%bc%f0%9f%91%b7%f0%9f%8f%bb%e2%99%80%ef%b8%8f%f0%9f%91%b7%f0%9f%8f%bb%e2%99%82%ef%b8%8f/
LOCATION:Skate Zone 71\, 4900 Evanswood Ddr.\, Columbus\, OH\, 43229\, United States
CATEGORIES:Family Events,Public Skates,Special Events
END:VEVENT
BEGIN:VEVENT
DTSTART;TZID=America/New_York:20240901T130000
DTEND;TZID=America/New_York:20240901T153000
DTSTAMP:20260424T230517
CREATED:20240726T173427Z
LAST-MODIFIED:20240726T173428Z
UID:31539-1725195600-1725204600@www.unitedskates.com
SUMMARY:❤️🤍💙RED\, White & Blue Swiftie Skate❤️🤍💙
DESCRIPTION:Stop by\, DRESSED to IMPRESS\, for our Taylor Look-A-Like Contest!\nEach Admission during this skate will receive a 25% Off Coupon for Swiftie Merchandise from our SWIFTIE SHOP!!\nWe’ve also got Swiftie Trivia & the best of TAYLOR playing all session long!\n1:00PM – 3:30PM\n$12 Admission\n$6 Skate Rental \nPURCHASE TICKETS HERE!   (Admission Available Via Link & At Door) \nHost a Taylor themed Birthday at Skate Zone!\nBIRTHDAY PARTIES AVAILABLE – CLICK HERE\nALL CHILDREN AGES 3-17 MUST PAY ADMISSION & ROLLER SKATE RENTAL (OR BRING THEIR OWN SKATES)\nNON-SKATING ADULTS MAY ENTER AT NO CHARGE\nALL ADULT SKATERS (18+) ARE REQUIRED TO SIGN A LIABILITY WAIVER
URL:https://www.unitedskates.com/skate-zone-71/event/%e2%9d%a4%ef%b8%8f%f0%9f%a4%8d%f0%9f%92%99red-white-blue-swiftie-skate%e2%9d%a4%ef%b8%8f%f0%9f%a4%8d%f0%9f%92%99-2/
LOCATION:Skate Zone 71\, 4900 Evanswood Ddr.\, Columbus\, OH\, 43229\, United States
CATEGORIES:Public Skates,Special Events
ATTACH;FMTTYPE=image/png:https://unitedskates-assets.sfo3.digitaloceanspaces.com/wp-content/uploads/sites/7/2024/07/9.1-Taylor-RED-WHITE-BLUE-Day-2024.png
END:VEVENT
BEGIN:VEVENT
DTSTART;TZID=America/New_York:20240902T120000
DTEND;TZID=America/New_York:20240902T143000
DTSTAMP:20260424T230517
CREATED:20240726T181129Z
LAST-MODIFIED:20240726T181129Z
UID:31542-1725278400-1725287400@www.unitedskates.com
SUMMARY:LABOR DAY SKATING
DESCRIPTION:Head to Skate Zone 71 on your day off!\nWe’ll have discounted Admission\, Games\, Laser Tag\, Cafe Specials & MORE during two great daytime skating sessions!!\n$7 Admission \n$6 Skate Rental \nPURCHASE TICKETS HERE!  (Admission Available Via Link & At Door) \nALL CHILDREN AGES 3-17 MUST PAY ADMISSION & ROLLER SKATE RENTAL (OR BRING THEIR OWN SKATES)\nNON-SKATING ADULTS MAY ENTER AT NO CHARGE\nALL ADULT SKATERS (18+) ARE REQUIRED TO SIGN A LIABILITY WAIVER
URL:https://www.unitedskates.com/skate-zone-71/event/labor-day-skating-3/2024-09-02/
LOCATION:Skate Zone 71\, 4900 Evanswood Ddr.\, Columbus\, OH\, 43229\, United States
CATEGORIES:Public Skates,Special Events
ATTACH;FMTTYPE=image/png:https://unitedskates-assets.sfo3.digitaloceanspaces.com/wp-content/uploads/sites/7/2024/07/9.2-Labor-Day-2024.png
END:VEVENT
BEGIN:VEVENT
DTSTART;TZID=America/New_York:20240902T180000
DTEND;TZID=America/New_York:20240902T203000
DTSTAMP:20260424T230517
CREATED:20240726T181617Z
LAST-MODIFIED:20240726T181617Z
UID:31546-1725300000-1725309000@www.unitedskates.com
SUMMARY:LABOR DAY SKATING
DESCRIPTION:Head to Skate Zone 71 on your day off!\nWe’ve got you covered with Skating\, Games\, Laser Tag\, Cafe Specials & MORE during this great evening skating session!!\n6:00PM – 8:30PM\n$16 Admission includes Skate Rental\, One Slice Cheese Pizza & Small Soft Drink \nPURCHASE TICKETS HERE!  (Admission Available Via Link & At Door) \n  \nTOP 40 POP\, HIP HOP & RnB\nALL CHILDREN AGES 3-17 MUST PAY ADMISSION & ROLLER SKATE RENTAL (OR BRING THEIR OWN SKATES)\nNON-SKATING ADULTS MAY ENTER AT NO CHARGE\nALL ADULT SKATERS (18+) ARE REQUIRED TO SIGN A LIABILITY WAIVER
URL:https://www.unitedskates.com/skate-zone-71/event/labor-day-skating-4/
LOCATION:Skate Zone 71\, 4900 Evanswood Ddr.\, Columbus\, OH\, 43229\, United States
CATEGORIES:Public Skates,Special Events
ATTACH;FMTTYPE=image/png:https://unitedskates-assets.sfo3.digitaloceanspaces.com/wp-content/uploads/sites/7/2024/07/9.2-Labor-Day-2024.png
END:VEVENT
BEGIN:VEVENT
DTSTART;TZID=America/New_York:20240905T180000
DTEND;TZID=America/New_York:20240905T203000
DTSTAMP:20260424T230517
CREATED:20240813T153249Z
LAST-MODIFIED:20240813T153249Z
UID:32493-1725559200-1725568200@www.unitedskates.com
SUMMARY:Public Skating
DESCRIPTION:Thursday September 5th\n6:00-8:30pm\nCome Skate with Family & friends. Enjoy a Free Ice Cream Sandwich with paid admission!\n$10 Admission includes skate rental
URL:https://www.unitedskates.com/skate-zone-71/event/public-skating-2/
LOCATION:Skate Zone 71\, 4900 Evanswood Ddr.\, Columbus\, OH\, 43229\, United States
CATEGORIES:Family Events,Public Skates,Special Events
ATTACH;FMTTYPE=image/jpeg:https://unitedskates-assets.sfo3.digitaloceanspaces.com/wp-content/uploads/sites/7/2024/08/ice-cream-social-skate-090524.jpg
END:VEVENT
BEGIN:VEVENT
DTSTART;TZID=America/New_York:20240907T110000
DTEND;TZID=America/New_York:20240907T130000
DTSTAMP:20260424T230517
CREATED:20240729T163451Z
LAST-MODIFIED:20240924T141216Z
UID:31629-1725706800-1725714000@www.unitedskates.com
SUMMARY:Buckeye Tailskates
DESCRIPTION:Join us in celebrating the Buckeye Season during fun Saturday Tailgate Skates!\n11:00AM – 1:00PM\n$12 Skate Rental✨\n$6.00 Skate Rental\n✨Wear your OSU attire and receive half price admission when you mention this promotion!✨ \n  \nDISNEY HITS\, KIDS POP & TOP 40 POP\nPURCHASE TICKETS HERE!\nBIRTHDAY PARTIES AVAILABLE HERE!\nALL CHILDREN AGES 3-17 MUST PAY ADMISSION & ROLLER SKATE RENTAL (OR BRING THEIR OWN SKATES)\nNON-SKATING ADULTS MAY ENTER AT NO CHARGE\nALL ADULT SKATERS (18+) ARE REQUIRED TO SIGN A LIABILITY WAIVER
URL:https://www.unitedskates.com/skate-zone-71/event/buckeye-tailskates/
LOCATION:Skate Zone 71\, 4900 Evanswood Ddr.\, Columbus\, OH\, 43229\, United States
CATEGORIES:Public Skates,Special Events
ATTACH;FMTTYPE=image/jpeg:https://unitedskates-assets.sfo3.digitaloceanspaces.com/wp-content/uploads/sites/7/2024/07/tailgate-skate-2022-1200x1200-1.jpg
END:VEVENT
BEGIN:VEVENT
DTSTART;TZID=America/New_York:20240908T130000
DTEND;TZID=America/New_York:20240908T153000
DTSTAMP:20260424T230517
CREATED:20240726T183951Z
LAST-MODIFIED:20240726T183952Z
UID:31578-1725800400-1725809400@www.unitedskates.com
SUMMARY:Football Frenzy NFL Kickoff Skate
DESCRIPTION:Skate Zone 71 is kicking off Football Season right with NFL Games playing on our Big Screens each session!\nWear your team’s gear and enjoy an exciting skating session this Sunday!\n1PM – 3:30PM  Bengals vs Patriots\n4PM – 7PM  Browns vs Cowboys\n$12 Admission \n$6 Skate Rental \nPURCHASE TICKETS HERE!  (Admission Available Via Link & At Door) \nALL CHILDREN AGES 3-17 MUST PAY ADMISSION & ROLLER SKATE RENTAL (OR BRING THEIR OWN SKATES)\nNON-SKATING ADULTS MAY ENTER AT NO CHARGE\nALL ADULT SKATERS (18+) ARE REQUIRED TO SIGN A LIABILITY WAIVER
URL:https://www.unitedskates.com/skate-zone-71/event/football-frenzy-nfl-kickoff-skate/2024-09-08/
LOCATION:Skate Zone 71\, 4900 Evanswood Ddr.\, Columbus\, OH\, 43229\, United States
CATEGORIES:Public Skates,Special Events
ATTACH;FMTTYPE=image/png:https://unitedskates-assets.sfo3.digitaloceanspaces.com/wp-content/uploads/sites/7/2024/07/9.8-R2.-Football-frenzy-kickoff-skate-2024.png
END:VEVENT
BEGIN:VEVENT
DTSTART;TZID=America/New_York:20240913T183000
DTEND;TZID=America/New_York:20240913T210000
DTSTAMP:20260424T230517
CREATED:20240905T143618Z
LAST-MODIFIED:20240905T143618Z
UID:32665-1726252200-1726261200@www.unitedskates.com
SUMMARY:HISPANIC HERITAGE SKATE
DESCRIPTION:HISPANIC HERITAGE SKATE with Princess Elena\n🎉 ¡Vamos a bailar sobre ruedas! 🎉\nJoin us for a night of fun music\, smooth moves\, and skating fun! We’ll have a Meet & Greet with the famous Princess of Avalor\, Games & MORE!\n6:30PM – 9:00PM\nPick from TWO Admission Options: \n\nSkate & Play $19 – includes Admission\, 20 Game Credits & 1 Game of Laser Tag\nSkate Fun $12 – Admission \n\n*$6 Skate Rental Additional* \nPURCHASE TICKETS HERE! \nDISNEY HITS\, TOP 40 POP \nBIRTHDAY PARTIES AVAILABLE – CLICK HERE\nGROUP RATES AVAILABLE FOR PARTIES OF 15+ – CLICK HERE\nALL CHILDREN AGES 3-17 MUST PAY ADMISSION & ROLLER SKATE RENTAL (OR BRING THEIR OWN SKATES)\nNON-SKATING ADULTS MAY ENTER AT NO CHARGE\nALL ADULT SKATERS (18+) ARE REQUIRED TO SIGN A LIABILITY WAIVER
URL:https://www.unitedskates.com/skate-zone-71/event/hispanic-heritage-skate/
LOCATION:Skate Zone 71\, 4900 Evanswood Ddr.\, Columbus\, OH\, 43229\, United States
CATEGORIES:Public Skates,Special Events
ATTACH;FMTTYPE=image/png:https://unitedskates-assets.sfo3.digitaloceanspaces.com/wp-content/uploads/sites/7/2024/09/9.13-Hispanic-Heritage-Month-Skate.png
END:VEVENT
BEGIN:VEVENT
DTSTART;TZID=America/New_York:20240914T133000
DTEND;TZID=America/New_York:20240914T160000
DTSTAMP:20260424T230517
CREATED:20240730T164028Z
LAST-MODIFIED:20240805T205036Z
UID:31678-1726320600-1726329600@www.unitedskates.com
SUMMARY:Public Skating and Birthday Parties
DESCRIPTION:✨FALL FESTIVAL at SKATE ZONE 71✨\nCelebrate Fall – Come Skate at our JAM PACKED Carnival!\nMeet DJ Skato\, Play Games\, Skate & Dance – Enjoy our Carnival with FREE Face Painting\, Tattoos\, Balloon Twisting\, Coloring Area & MORE!!\n1:30PM – 4:00PM\n\n$12 Admission includes Carnival Activities\n$6 Skate Rental Additional\nAll Ages Welcome\nSession Times Begin and End at posted times – *NO STAYOVERS\n\nPURCHASE TICKETS HERE! \nFAMILY TOP 40\, POP \, R&B & HIP-HOP\nBIRTHDAY PARTIES AVAILABLE – CLICK HERE\nGROUP RATES AVAILABLE FOR PARTIES OF 15+ – CLICK HERE\nALL CHILDREN AGES 3-17 MUST PAY ADMISSION & ROLLER SKATE RENTAL (OR BRING THEIR OWN SKATES)\nNON-SKATING ADULTS MAY ENTER AT NO CHARGE\nALL ADULT SKATERS (18+) ARE REQUIRED TO SIGN A LIABILITY WAIVER
URL:https://www.unitedskates.com/skate-zone-71/event/fall-festival/
LOCATION:Skate Zone 71\, 4900 Evanswood Ddr.\, Columbus\, OH\, 43229\, United States
CATEGORIES:Public Skates,Special Events
ATTACH;FMTTYPE=image/png:https://unitedskates-assets.sfo3.digitaloceanspaces.com/wp-content/uploads/sites/7/2024/07/9.14-Fall-Carnival-2024.png
END:VEVENT
BEGIN:VEVENT
DTSTART;VALUE=DATE:20240920
DTEND;VALUE=DATE:20240924
DTSTAMP:20260424T230517
CREATED:20240917T155941Z
LAST-MODIFIED:20240917T155941Z
UID:32701-1726808400-1727067599@www.unitedskates.com
SUMMARY:🍁🍂AUTUMN SPECIAL - CELEBRATE THE SEASON🍂🍁
DESCRIPTION:☀️Celebrate the balance of day and night with us as we welcome the autumn equinox! ☀️\nFRIDAY September 20th – SUNDAY September 22nd*\n*Coupon Not Valid with Friday & Sunday Adult Nights\, Birthday Party Packages or Group Rates*\nSESSIONS:\nFriday: Latin Artists Glow Night 6:30PM – 9PM\nSaturday: Public Skating Session 1:30PM – 4PM\nSaturday: Public Skating Session 5PM – 7:30PM\nSaturday: Public Skating Session 8PM – 10:30PM**\nSunday: Coco Skate 1PM – 3:30PM\nSunday: Public Skating Session 4PM – 7PM \nLet’s embrace the beauty of the season together. We can’t wait to celebrate with you!\nCOUPON MUST BE PRESENTED AT ADMISSION\, CANNOT BE COMBINED WITH OTHER COUPON/DISCOUNTS\n**SATURDAY 8PM – 10:30PM – GUESTS 17 & UNDER THAT ARE RENTING SKATES MUST HAVE A CHAPERONE 25 YEARS OR OLDER ACCOMPANYING THEM FOR THE ENTIRE SESSION**\nALL CHILDREN AGES 3-17 MUST PAY ADMISSION & ROLLER SKATE RENTAL (OR BRING THEIR OWN SKATES)\nNON-SKATING ADULTS MAY ENTER AT NO CHARGE\nALL ADULT SKATERS (18+) ARE REQUIRED TO SIGN A LIABILITY WAIVER
URL:https://www.unitedskates.com/skate-zone-71/event/%f0%9f%8d%81%f0%9f%8d%82autumn-special-celebrate-the-season%f0%9f%8d%82%f0%9f%8d%81/
LOCATION:Skate Zone 71\, 4900 Evanswood Ddr.\, Columbus\, OH\, 43229\, United States
CATEGORIES:Public Skates,Special Events
ATTACH;FMTTYPE=image/png:https://unitedskates-assets.sfo3.digitaloceanspaces.com/wp-content/uploads/sites/7/2024/09/Saturday-Coupon-September-Weekend.png
END:VEVENT
BEGIN:VEVENT
DTSTART;TZID=America/New_York:20240920T183000
DTEND;TZID=America/New_York:20240920T210000
DTSTAMP:20260424T230517
CREATED:20240801T175756Z
LAST-MODIFIED:20240801T183543Z
UID:31693-1726857000-1726866000@www.unitedskates.com
SUMMARY:LATIN GLOW SKATE NIGHT
DESCRIPTION:LATIN GLOW SKATE NIGHT\n🎉 ¡Vamos a bailar sobre ruedas! 🎉\nJoin us for a night of vibrant music\, smooth moves\, and skating fun! Whether you’re a seasoned skater or just starting out\, this is the perfect event to groove to your favorite Latin beats and make unforgettable memories.\n6:30PM – 9:00PM\nPick from TWO Admission Options: \n\nSkate & Play $19 – includes Admission\, 20 Game Credits & 1 Game of Laser Tag\nSkate Fun $12 – Admission \n\n*$6 Skate Rental Additional* \nPURCHASE TICKETS HERE! \nTOP 40 LATIN & BEST LATIN LEGENDS \nBIRTHDAY PARTIES AVAILABLE – CLICK HERE\nGROUP RATES AVAILABLE FOR PARTIES OF 15+ – CLICK HERE\nALL CHILDREN AGES 3-17 MUST PAY ADMISSION & ROLLER SKATE RENTAL (OR BRING THEIR OWN SKATES)\nNON-SKATING ADULTS MAY ENTER AT NO CHARGE\nALL ADULT SKATERS (18+) ARE REQUIRED TO SIGN A LIABILITY WAIVER
URL:https://www.unitedskates.com/skate-zone-71/event/latin-glow-skate-night/
LOCATION:Skate Zone 71\, 4900 Evanswood Ddr.\, Columbus\, OH\, 43229\, United States
CATEGORIES:Public Skates,Special Events
ATTACH;FMTTYPE=image/jpeg:https://unitedskates-assets.sfo3.digitaloceanspaces.com/wp-content/uploads/sites/7/2024/08/9.20-Latin-Night-Flyer-2024-scaled.jpg
END:VEVENT
BEGIN:VEVENT
DTSTART;TZID=America/New_York:20240920T213000
DTEND;TZID=America/New_York:20240921T003000
DTSTAMP:20260424T230517
CREATED:20240905T154826Z
LAST-MODIFIED:20240905T154826Z
UID:32671-1726867800-1726878600@www.unitedskates.com
SUMMARY:LATIN SKATE ADULT NIGHT
DESCRIPTION:LATIN SKATE ADULT NIGHT\n ¡Vamos a bailar sobre ruedas! \nJoin us for a night of vibrant music\, smooth moves\, and skating fun! This is the perfect event to groove to your favorite Latin beats and make unforgettable memories!\nSEPTEMBER 20th9:30PM – 12:30AM\n\n$12 Admission$6 Skate Rental\n\nTOP 40 LATIN & BEST LATIN LEGENDS\n\n PURCHASE TICKETS IN ADVANCE! (Admission Available Via Link & At Door)\n\nADULT SKATES ARE FOR AGES 18+ AND OVER ONLY\nALL GUESTS ARE REQUIRED TO PAY ADMISSION\nALL ADULT SKATERS (18+) ARE REQUIRED TO SIGN A LIABILITY WAIVER
URL:https://www.unitedskates.com/skate-zone-71/event/latin-skate-adult-night/
LOCATION:Skate Zone 71\, 4900 Evanswood Ddr.\, Columbus\, OH\, 43229\, United States
CATEGORIES:Adult Events,Special Events
ATTACH;FMTTYPE=image/jpeg:https://unitedskates-assets.sfo3.digitaloceanspaces.com/wp-content/uploads/sites/7/2024/09/Latin-Skate-Party-092024.jpg
END:VEVENT
BEGIN:VEVENT
DTSTART;TZID=America/New_York:20240921T230000
DTEND;TZID=America/New_York:20240922T013000
DTSTAMP:20260424T230517
CREATED:20240905T154508Z
LAST-MODIFIED:20240905T154509Z
UID:32668-1726959600-1726968600@www.unitedskates.com
SUMMARY:DJ JAM SKATE
DESCRIPTION:DJ JAM SKATE\nIt’s a LATE SKATE like NO OTHER! We’ve got 4 DJs spinning the BEST JAMS ALL NIGHT LONG!!\nSEPTEMBER 21st11PM – 1:30PM\n$15 Admission$6 Skate Rental\n\nPURCHASE TICKETS IN ADVANCE!(Admission Available Via Link & At Door)\nADULT SKATES ARE FOR AGES 18+ AND OVER ONLY\nALL GUESTS ARE REQUIRED TO PAY ADMISSION\nALL ADULT SKATERS (18+) ARE REQUIRED TO SIGN A LIABILITY WAIVER
URL:https://www.unitedskates.com/skate-zone-71/event/dj-jam-skate/
LOCATION:Skate Zone 71\, 4900 Evanswood Ddr.\, Columbus\, OH\, 43229\, United States
CATEGORIES:Adult Events,Special Events
ATTACH;FMTTYPE=image/jpeg:https://unitedskates-assets.sfo3.digitaloceanspaces.com/wp-content/uploads/sites/7/2024/09/Jam-Skate-2024.jpg
END:VEVENT
BEGIN:VEVENT
DTSTART;TZID=America/New_York:20240922T130000
DTEND;TZID=America/New_York:20240922T153000
DTSTAMP:20260424T230517
CREATED:20240801T180713Z
LAST-MODIFIED:20240801T184031Z
UID:31696-1727010000-1727019000@www.unitedskates.com
SUMMARY:COCO SKATE
DESCRIPTION:💀 COCO SKATE SUNDAY 💀\nJoin us for an afternoon filled with the enchanting vibes of COCO! Immerse yourself in the colorful world of Miguel as we skate to the soulful sounds of traditional Mexican tunes\, Music from the Soundtrack & Others\, Sugar Skull Coloring Pages\, COCO Trivia & MORE!!\n1:00PM – 3:30PM\nPick from Two Admission Options: \n\nSkate & Play $19 – includes Admission\, 20 Game Credits & 1 Game of Laser Tag\nSkate Fun $12 – Admission\n\n$6 Skate Rental \nPURCHASE TICKETS HERE! \nDISNEY HITS & TOP 40 LATIN\nHost a Birthday and have Miguel make a Special Visit!!\nBIRTHDAY PARTIES AVAILABLE – CLICK HERE\nALL CHILDREN AGES 3-17 MUST PAY ADMISSION & ROLLER SKATE RENTAL (OR BRING THEIR OWN SKATES)\nNON-SKATING ADULTS MAY ENTER AT NO CHARGE\nALL ADULT SKATERS (18+) ARE REQUIRED TO SIGN A LIABILITY WAIVER
URL:https://www.unitedskates.com/skate-zone-71/event/coco-skate/
LOCATION:Skate Zone 71\, 4900 Evanswood Ddr.\, Columbus\, OH\, 43229\, United States
CATEGORIES:Public Skates,Special Events
ATTACH;FMTTYPE=image/png:https://unitedskates-assets.sfo3.digitaloceanspaces.com/wp-content/uploads/sites/7/2024/08/9.22-COCO-Skate-2024.png
END:VEVENT
BEGIN:VEVENT
DTSTART;TZID=America/New_York:20240929T130000
DTEND;TZID=America/New_York:20240929T153000
DTSTAMP:20260424T230517
CREATED:20240730T170019Z
LAST-MODIFIED:20240730T184058Z
UID:31681-1727614800-1727623800@www.unitedskates.com
SUMMARY:BEETLEJUICE SKATE
DESCRIPTION:👻🕷️Start Spooky Season right with this BEETLEJUICE SKATE🕷️👻\nCOSPLAY ALERT! Prizes for the BEST Beetlejuice Character Costume will be awarded throughout the night!\nThere will be Music\, Photo Ops & Spooky Stuff Shop Items!!\nSunday September 29th\n1:00PM – 3:30PM\n$12 Admission \n$6 Skate Rental \nPURCHASE TICKETS HERE! \nBIRTHDAY PARTIES AVAILABLE – CLICK HERE\nALL CHILDREN AGES 3-17 MUST PAY ADMISSION & ROLLER SKATE RENTAL (OR BRING THEIR OWN SKATES)\nNON-SKATING ADULTS MAY ENTER AT NO CHARGE\nALL ADULT SKATERS (18+) ARE REQUIRED TO SIGN A LIABILITY WAIVER
URL:https://www.unitedskates.com/skate-zone-71/event/beetlejuice-skate/
LOCATION:Skate Zone 71\, 4900 Evanswood Ddr.\, Columbus\, OH\, 43229\, United States
CATEGORIES:Public Skates,Special Events
ATTACH;FMTTYPE=image/png:https://unitedskates-assets.sfo3.digitaloceanspaces.com/wp-content/uploads/sites/7/2024/07/9.29-Beetlejuice-Skate.png
END:VEVENT
END:VCALENDAR