BEGIN:VCALENDAR
VERSION:2.0
PRODID:-//Rink 2 - Skate Zone 71 - ECPv6.15.20//NONSGML v1.0//EN
CALSCALE:GREGORIAN
METHOD:PUBLISH
X-ORIGINAL-URL:https://www.unitedskates.com/skate-zone-71
X-WR-CALDESC:Events for Rink 2 - Skate Zone 71
REFRESH-INTERVAL;VALUE=DURATION:PT1H
X-Robots-Tag:noindex
X-PUBLISHED-TTL:PT1H
BEGIN:VTIMEZONE
TZID:America/New_York
BEGIN:DAYLIGHT
TZOFFSETFROM:-0500
TZOFFSETTO:-0400
TZNAME:EDT
DTSTART:20230312T070000
END:DAYLIGHT
BEGIN:STANDARD
TZOFFSETFROM:-0400
TZOFFSETTO:-0500
TZNAME:EST
DTSTART:20231105T060000
END:STANDARD
BEGIN:DAYLIGHT
TZOFFSETFROM:-0500
TZOFFSETTO:-0400
TZNAME:EDT
DTSTART:20240310T070000
END:DAYLIGHT
BEGIN:STANDARD
TZOFFSETFROM:-0400
TZOFFSETTO:-0500
TZNAME:EST
DTSTART:20241103T060000
END:STANDARD
BEGIN:DAYLIGHT
TZOFFSETFROM:-0500
TZOFFSETTO:-0400
TZNAME:EDT
DTSTART:20250309T070000
END:DAYLIGHT
BEGIN:STANDARD
TZOFFSETFROM:-0400
TZOFFSETTO:-0500
TZNAME:EST
DTSTART:20251102T060000
END:STANDARD
END:VTIMEZONE
BEGIN:VEVENT
DTSTART;VALUE=DATE:20240701
DTEND;VALUE=DATE:20240709
DTSTAMP:20260425T095530
CREATED:20240523T182452Z
LAST-MODIFIED:20240529T181404Z
UID:30830-1719810000-1720414799@www.unitedskates.com
SUMMARY:HOLIDAY SPECIAL SUPER PASS
DESCRIPTION:Heading to Skate Zone 71 for the holiday week?? We’ve got you covered with this all inclusive family deal!!\nHoliday Family Super Pass includes:\n\n5 Admissions\n5 Skate Rentals\n5 Games of Laser Tag\n5 Pre-Loaded Ten Credit Game Cards\n1 Large 1 Topping Pizza & Soda Pitcher\n\nAdd- On:\n\nICEE in a Souvenir Cup – $8\nJumbo Cotton Candy Bag – $4\n\nPURCHASE SUPER PASS HERE!\nAvailable during Public Sessions from July 1st thru July 7th (excluding Thursday & Sunday Adult Night Skates)\nHoliday Super Pass is not a Birthday Reservation\, and can not be used with Birthday Packages\nONLINE PRE-SALE PURCHASE ONLY
URL:https://www.unitedskates.com/skate-zone-71/event/holiday-special-super-pass/
LOCATION:Skate Zone 71\, 4900 Evanswood Ddr.\, Columbus\, OH\, 43229\, United States
CATEGORIES:Special Events
ATTACH;FMTTYPE=image/png:https://unitedskates-assets.sfo3.digitaloceanspaces.com/wp-content/uploads/sites/7/2024/05/OH24-018-Family-POS-Passes-264x404-4.png
END:VEVENT
BEGIN:VEVENT
DTSTART;TZID=America/New_York:20240702T120000
DTEND;TZID=America/New_York:20240702T143000
DTSTAMP:20260425T095530
CREATED:20240614T180820Z
LAST-MODIFIED:20240614T180821Z
UID:31050-1719921600-1719930600@www.unitedskates.com
SUMMARY:SKATE & BOUNCE TUESDAYS
DESCRIPTION:✨ SKATE & BOUNCE TUESDAYS in JULY at Skate Zone 71 ✨\nStop by for JAM packed Skating\, Bounce House\, Laser Tag\, & Arcade Games!!\n12:00PM – 2:30PM\n$12 Admission – includes Bounce House Entry \n$6 Skate Rental \n2 for $5 Cafe & Game Combos Available!\nPURCHASE TICKETS HERE! \nBIRTHDAY PARTIES AVAILABLE – CLICK HERE!\nALL CHILDREN AGES 3-17 MUST PAY ADMISSION & ROLLER SKATE RENTAL (OR BRING THEIR OWN SKATES)\nNON-SKATING ADULTS MAY ENTER AT NO CHARGE\nALL ADULT SKATERS (18+) ARE REQUIRED TO SIGN A LIABILITY WAIVER
URL:https://www.unitedskates.com/skate-zone-71/event/skate-bounce-tuesdays/
LOCATION:Skate Zone 71\, 4900 Evanswood Ddr.\, Columbus\, OH\, 43229\, United States
CATEGORIES:Public Skates,Special Events
ATTACH;FMTTYPE=image/jpeg:https://unitedskates-assets.sfo3.digitaloceanspaces.com/wp-content/uploads/sites/7/2024/06/TUES-Skate-and-Bounce-July-2024.jpg
END:VEVENT
BEGIN:VEVENT
DTSTART;TZID=America/New_York:20240703T120000
DTEND;TZID=America/New_York:20240703T143000
DTSTAMP:20260425T095530
CREATED:20240514T182429Z
LAST-MODIFIED:20240611T175627Z
UID:30654-1720008000-1720017000@www.unitedskates.com
SUMMARY:RED\, WHITE & BLUE SKATE
DESCRIPTION:☀️SUMMER BREAK at Skate Zone 71☀️\nIt’s time to kickoff the holiday with this crispy cool skate!!\nWear Red White & Blue for FREE TREAT!\nADMISSION OPTIONS:\nREGULAR: \n$12 Regular Admission \n$6 Skate Rental \nPURCHASE TICKETS HERE! \nHOLIDAY FAMILY SUPER PASS INCLUDES: \n\n5 Admissions\n5 Skate Rentals\n5 Games of Laser Tag\n5 Pre-Loaded Ten Credit Game Cards\n1 Large 1 Topping Pizza & Soda Pitcher\n\nADD- ON: \n\nICEE in a Souvenir Cup – $8\nJumbo Cotton Candy Bag – $4\n\nPURCHASE SUPER PASS HERE!\nJoin us for special themes\, games & more all summer long!\nBIRTHDAY PARTIES AVAILABLE – CLICK HERE\nALL CHILDREN AGES 3-17 MUST PAY ADMISSION & ROLLER SKATE RENTAL (OR BRING THEIR OWN SKATES)\nNON-SKATING ADULTS MAY ENTER AT NO CHARGE\nALL ADULT SKATERS (18+) ARE REQUIRED TO SIGN A LIABILITY WAIVER
URL:https://www.unitedskates.com/skate-zone-71/event/red-white-boom-skate/
LOCATION:Skate Zone 71\, 4900 Evanswood Ddr.\, Columbus\, OH\, 43229\, United States
CATEGORIES:Public Skates,Special Events
ATTACH;FMTTYPE=image/png:https://unitedskates-assets.sfo3.digitaloceanspaces.com/wp-content/uploads/sites/7/2024/05/7.3-red-white-blue-skate.png
END:VEVENT
BEGIN:VEVENT
DTSTART;VALUE=DATE:20240704
DTEND;VALUE=DATE:20240709
DTSTAMP:20260425T095530
CREATED:20240617T150112Z
LAST-MODIFIED:20240620T175341Z
UID:31084-1720069200-1720414799@www.unitedskates.com
SUMMARY:❤️🤍💙FOURTH OF JULY WEEKEND💙🤍❤️
DESCRIPTION:CELEBRATE THE HOLIDAY WEEKEND WITH SKATE ZONE 71!!\nWe’ve got plenty of skating\, tons of themed parties\, games\, prizes & MORE!!\nTWO ADMISSION OPTIONS:\nREGULAR: \n$12 Regular Admission \n$6 Skate Rental \nPURCHASE TICKETS HERE! \nHOLIDAY FAMILY SUPER PASS INCLUDES: \n\n5 Admissions\n5 Skate Rentals\n5 Games of Laser Tag\n5 Pre-Loaded Ten Credit Game Cards\n1 Large 1 Topping Pizza & Soda Pitcher\n\nADD- ON: \n\nICEE in a Souvenir Cup – $8\nJumbo Cotton Candy Bag – $4\n\nPURCHASE SUPER PASS HERE!\nJoin us for special themes\, games & more all summer long!\nBIRTHDAY PARTIES AVAILABLE – CLICK HERE\nALL CHILDREN AGES 3-17 MUST PAY ADMISSION & ROLLER SKATE RENTAL (OR BRING THEIR OWN SKATES)\nNON-SKATING ADULTS MAY ENTER AT NO CHARGE\nALL ADULT SKATERS (18+) ARE REQUIRED TO SIGN A LIABILITY WAIVER\n 
URL:https://www.unitedskates.com/skate-zone-71/event/%e2%9d%a4%ef%b8%8f%f0%9f%a4%8d%f0%9f%92%99fourth-of-july-weekend%f0%9f%92%99%f0%9f%a4%8d%e2%9d%a4%ef%b8%8f/
LOCATION:Skate Zone 71\, 4900 Evanswood Ddr.\, Columbus\, OH\, 43229\, United States
CATEGORIES:Special Events
ATTACH;FMTTYPE=image/png:https://unitedskates-assets.sfo3.digitaloceanspaces.com/wp-content/uploads/sites/7/2024/06/4th-of-July-Skate-Weekend-2024.png
END:VEVENT
BEGIN:VEVENT
DTSTART;TZID=America/New_York:20240704T120000
DTEND;TZID=America/New_York:20240704T160000
DTSTAMP:20260425T095530
CREATED:20240514T182429Z
LAST-MODIFIED:20240611T175350Z
UID:30849-1720094400-1720108800@www.unitedskates.com
SUMMARY:FOURTH OF JULY CELEBRATION
DESCRIPTION:☀️SUMMER BREAK at Skate Zone 71☀️\nIt’s time to celebrate the holiday with an all out fun session!!\nWear Red White & Blue for a FREE TREAT!\nADMISSION OPTIONS:\nREGULAR: \n$12 Regular Admission \n$6 Skate Rental \nPURCHASE TICKETS HERE! \nHOLIDAY FAMILY SUPER PASS INCLUDES: \n\n5 Admissions\n5 Skate Rentals\n5 Games of Laser Tag\n5 Pre-Loaded Ten Credit Game Cards\n1 Large 1 Topping Pizza & Soda Pitcher\n\nADD- ON: \n\nICEE in a Souvenir Cup – $8\nJumbo Cotton Candy Bag – $4\n\nPURCHASE SUPER PASS HERE!\nJoin us for special themes\, games & more all summer long!\nBIRTHDAY PARTIES AVAILABLE – CLICK HERE\nALL CHILDREN AGES 3-17 MUST PAY ADMISSION & ROLLER SKATE RENTAL (OR BRING THEIR OWN SKATES)\nNON-SKATING ADULTS MAY ENTER AT NO CHARGE\nALL ADULT SKATERS (18+) ARE REQUIRED TO SIGN A LIABILITY WAIVER
URL:https://www.unitedskates.com/skate-zone-71/event/red-white-boom-skate-2024-07-04/
LOCATION:Skate Zone 71\, 4900 Evanswood Ddr.\, Columbus\, OH\, 43229\, United States
CATEGORIES:Public Skates,Special Events
ATTACH;FMTTYPE=image/png:https://unitedskates-assets.sfo3.digitaloceanspaces.com/wp-content/uploads/sites/7/2024/05/7.4-July-4th-Celebration-2024.png
END:VEVENT
BEGIN:VEVENT
DTSTART;TZID=America/New_York:20240704T210000
DTEND;TZID=America/New_York:20240705T000000
DTSTAMP:20260425T095530
CREATED:20240611T185355Z
LAST-MODIFIED:20240617T175742Z
UID:30983-1720126800-1720137600@www.unitedskates.com
SUMMARY:PARTY in the USA ADULT SKATE
DESCRIPTION:$12.00 Admission – each Admission earns one Raffle Ticket for $100 Visa Gift Card (2 Winners)\n$6.00 Roller Skate Rental\n\nPURCHASE TICKETS HERE! \n\n\n\nAdult Skates are for ages 18+ and over ONLY\nAll guests are required to pay admission\nAll Adult Skaters (18+) are required to sign a liability waiver
URL:https://www.unitedskates.com/skate-zone-71/event/fourth-of-july-adult-skate/
LOCATION:Skate Zone 71\, 4900 Evanswood Ddr.\, Columbus\, OH\, 43229\, United States
CATEGORIES:Adult Events,Special Events
ATTACH;FMTTYPE=image/jpeg:https://unitedskates-assets.sfo3.digitaloceanspaces.com/wp-content/uploads/sites/7/2024/06/7.4-Party-in-the-Usa-Skate-ADULT-2024.jpg
END:VEVENT
BEGIN:VEVENT
DTSTART;TZID=America/New_York:20240705T183000
DTEND;TZID=America/New_York:20240705T210000
DTSTAMP:20260425T095530
CREATED:20240614T154047Z
LAST-MODIFIED:20240617T165416Z
UID:31001-1720204200-1720213200@www.unitedskates.com
SUMMARY:❤️🤍💙RED\, White & Blue Swiftie Skate❤️🤍💙
DESCRIPTION:Stop by\, DRESSED to IMPRESS\, for our Taylor Look-A-Like Contest!\nWe’ve also got Swiftie Trivia\, a packed Swiftie Shop\, & the best of TAYLOR playing all session long!\n6:30PM – 9:00PM\nPick from Two Admission Options:\nREGULAR:\n$12 Admission\n$6 Skate Rental \nOR \nHOLIDAY FAMILY SUPER PASS INCLUDES:\n\n5 Admissions\n5 Skate Rentals\n5 Games of Laser Tag\n5 Pre-Loaded Ten Credit Game Cards\n1 Large 1 Topping Pizza & Soda Pitcher\n\nPURCHASE TICKETS HERE!   (Admission Available Via Link & At Door) \nHost a Taylor themed Birthday at Skate Zone!\nBIRTHDAY PARTIES AVAILABLE – CLICK HERE\nALL CHILDREN AGES 3-17 MUST PAY ADMISSION & ROLLER SKATE RENTAL (OR BRING THEIR OWN SKATES)\nNON-SKATING ADULTS MAY ENTER AT NO CHARGE\nALL ADULT SKATERS (18+) ARE REQUIRED TO SIGN A LIABILITY WAIVER
URL:https://www.unitedskates.com/skate-zone-71/event/%e2%9d%a4%ef%b8%8f%f0%9f%a4%8d%f0%9f%92%99red-white-blue-swiftie-skate%e2%9d%a4%ef%b8%8f%f0%9f%a4%8d%f0%9f%92%99/
LOCATION:Skate Zone 71\, 4900 Evanswood Ddr.\, Columbus\, OH\, 43229\, United States
CATEGORIES:Public Skates,Special Events
ATTACH;FMTTYPE=image/jpeg:https://unitedskates-assets.sfo3.digitaloceanspaces.com/wp-content/uploads/sites/7/2024/06/7.5-Taylor-RED-WHITE-BLUE-Day-2024.jpg
END:VEVENT
BEGIN:VEVENT
DTSTART;TZID=America/New_York:20240706T110000
DTEND;TZID=America/New_York:20240706T130000
DTSTAMP:20260425T095530
CREATED:20240614T155606Z
LAST-MODIFIED:20240614T155607Z
UID:31005-1720263600-1720270800@www.unitedskates.com
SUMMARY:Disney Music BINGO Skates
DESCRIPTION:🛼DISNEY MUSIC BINGO SATURDAY SKATING IN JULY🛼\n11:00AM – 1:00PM\n$12 Admission  PURCHASE TICKETS HERE! \n$6 Skate Rental \nStop into our Skate Lessons from 10AM – 11AM and stayover into this session for $5.50 Additional\nBIRTHDAY PARTIES AVAILABLE – CLICK HERE\nALL CHILDREN AGES 3-17 MUST PAY ADMISSION & ROLLER SKATE RENTAL (OR BRING THEIR OWN SKATES)\nNON-SKATING ADULTS MAY ENTER AT NO CHARGE\nALL ADULT SKATERS (18+) ARE REQUIRED TO SIGN A LIABILITY WAIVER
URL:https://www.unitedskates.com/skate-zone-71/event/disney-music-bingo-skates/
LOCATION:Skate Zone 71\, 4900 Evanswood Ddr.\, Columbus\, OH\, 43229\, United States
CATEGORIES:Public Skates,Special Events
ATTACH;FMTTYPE=image/png:https://unitedskates-assets.sfo3.digitaloceanspaces.com/wp-content/uploads/sites/7/2022/07/SATS-Disney-Music-Bingo-2024.png
END:VEVENT
BEGIN:VEVENT
DTSTART;TZID=America/New_York:20240706T133000
DTEND;TZID=America/New_York:20240706T160000
DTSTAMP:20260425T095530
CREATED:20240614T161056Z
LAST-MODIFIED:20240614T161056Z
UID:31011-1720272600-1720281600@www.unitedskates.com
SUMMARY:Hello Kitty Skates
DESCRIPTION:🎊HELLO KITTY SKATES IN JULY🎊\nHello Kitty & Keroppi will be taking over Saturday afternoons in July!\nWe’ll have a Special Visits\, Photo Ops\, Games & MORE!\n1:30PM – 4:00PM\nPick from TWO Admission Options: \n\nSkate & Play $19 – includes Admission\, 20 Game Credits & 1 Game of Laser Tag\nSkate Fun $12 – Admission \n\n$6 Skate Rental Additional \nPURCHASE TICKETS HERE! \nCelebrate your birthday with Hello Kitty & Keroppi in July!!\nBIRTHDAY PARTIES AVAILABLE – CLICK HERE\nALL CHILDREN AGES 3-17 MUST PAY ADMISSION & ROLLER SKATE RENTAL (OR BRING THEIR OWN SKATES)\nNON-SKATING ADULTS MAY ENTER AT NO CHARGE\nALL ADULT SKATERS (18+) ARE REQUIRED TO SIGN A LIABILITY WAIVER
URL:https://www.unitedskates.com/skate-zone-71/event/hello-kitty-skates/
LOCATION:Skate Zone 71\, 4900 Evanswood Ddr.\, Columbus\, OH\, 43229\, United States
CATEGORIES:Public Skates,Special Events
ATTACH;FMTTYPE=image/png:https://unitedskates-assets.sfo3.digitaloceanspaces.com/wp-content/uploads/sites/7/2024/06/SATS-Hello-Kitty-skate-2024.png
END:VEVENT
BEGIN:VEVENT
DTSTART;TZID=America/New_York:20240707T130000
DTEND;TZID=America/New_York:20240707T153000
DTSTAMP:20260425T095530
CREATED:20240614T173412Z
LAST-MODIFIED:20240627T161934Z
UID:31043-1720357200-1720366200@www.unitedskates.com
SUMMARY:Barbie Sundae Skates on Sundays
DESCRIPTION:🍨 Barbie Sundae Skates on Sundays in July! 🍨\nMeet & Greet with Barbie & President Barbie\, Barbie Look-A-Like Contest\, Photo Ops in our Life Sized Barbie Box & MORE!!!\n1:00PM – 3:30PM\nPick from TWO Admission Options: \n\nSkate & Play $19 – includes Admission\, 20 Game Credits & 1 Game of Laser Tag\nSkate Fun $12 – Admission \n\n$6 Skate Rental Additional \nIce Cream Sundae Bar Available for $4\nPURCHASE TICKETS HERE! \nMake your birthday a BARBIE SPECTACULAR in JULY!\nBIRTHDAY PARTIES AVAILABLE – CLICK HERE\nALL CHILDREN AGES 3-17 MUST PAY ADMISSION & ROLLER SKATE RENTAL (OR BRING THEIR OWN SKATES)\nNON-SKATING ADULTS MAY ENTER AT NO CHARGE\nALL ADULT SKATERS (18+) ARE REQUIRED TO SIGN A LIABILITY WAIVER\n 
URL:https://www.unitedskates.com/skate-zone-71/event/barbie-sundae-skates-on-sundays/
LOCATION:Skate Zone 71\, 4900 Evanswood Ddr.\, Columbus\, OH\, 43229\, United States
CATEGORIES:Public Skates,Special Events
ATTACH;FMTTYPE=image/png:https://unitedskates-assets.sfo3.digitaloceanspaces.com/wp-content/uploads/sites/7/2024/06/SUNS-Barbies-Sundaes-July-24.png
END:VEVENT
BEGIN:VEVENT
DTSTART;TZID=America/New_York:20240708T120000
DTEND;TZID=America/New_York:20240708T143000
DTSTAMP:20260425T095530
CREATED:20240514T185940Z
LAST-MODIFIED:20240514T185941Z
UID:30657-1720440000-1720449000@www.unitedskates.com
SUMMARY:MINION SLIME SKATE
DESCRIPTION:☀️SUMMER BREAK at Skate Zone 71☀️\nHead over for this EPIC MINION SKATE!! We’ll have visits from MINION Troublemakers for Games\, Photo Ops and MORE!\n12:00PM – 2:30PM\nPick from Two Admission Options: \n\nSkate & Play $19 – includes Admission\, 20 Game Credits & 1 Game of Laser Tag\nSkate Fun $12 – Admission includes Slime with Every Child’s Admission\n\n$6 Skate Rental \nPURCHASE TICKETS HERE! \nJoin us for special themes\, games & more all summer long!\nBIRTHDAY PARTIES AVAILABLE – CLICK HERE\nALL CHILDREN AGES 3-17 MUST PAY ADMISSION & ROLLER SKATE RENTAL (OR BRING THEIR OWN SKATES)\nNON-SKATING ADULTS MAY ENTER AT NO CHARGE\nALL ADULT SKATERS (18+) ARE REQUIRED TO SIGN A LIABILITY WAIVER
URL:https://www.unitedskates.com/skate-zone-71/event/minion-slime-skate/
LOCATION:Skate Zone 71\, 4900 Evanswood Ddr.\, Columbus\, OH\, 43229\, United States
CATEGORIES:Public Skates,Special Events
ATTACH;FMTTYPE=image/png:https://unitedskates-assets.sfo3.digitaloceanspaces.com/wp-content/uploads/sites/7/2024/05/minion-slime-skate-tile.png
END:VEVENT
BEGIN:VEVENT
DTSTART;TZID=America/New_York:20240709T120000
DTEND;TZID=America/New_York:20240709T143000
DTSTAMP:20260425T095530
CREATED:20240614T181034Z
LAST-MODIFIED:20240614T181034Z
UID:31053-1720526400-1720535400@www.unitedskates.com
SUMMARY:SKATE & BOUNCE TUESDAYS
DESCRIPTION:✨ SKATE & BOUNCE TUESDAYS in JULY at Skate Zone 71 ✨\nStop by for JAM packed Skating\, Bounce House\, Laser Tag\, & Arcade Games!!\n12:00PM – 2:30PM\n$12 Admission – includes Bounce House Entry \n$6 Skate Rental \n2 for $5 Cafe & Game Combos Available!\nPURCHASE TICKETS HERE! \nBIRTHDAY PARTIES AVAILABLE – CLICK HERE!\nALL CHILDREN AGES 3-17 MUST PAY ADMISSION & ROLLER SKATE RENTAL (OR BRING THEIR OWN SKATES)\nNON-SKATING ADULTS MAY ENTER AT NO CHARGE\nALL ADULT SKATERS (18+) ARE REQUIRED TO SIGN A LIABILITY WAIVER
URL:https://www.unitedskates.com/skate-zone-71/event/skate-bounce-tuesdays-2/
LOCATION:Skate Zone 71\, 4900 Evanswood Ddr.\, Columbus\, OH\, 43229\, United States
CATEGORIES:Public Skates,Special Events
ATTACH;FMTTYPE=image/jpeg:https://unitedskates-assets.sfo3.digitaloceanspaces.com/wp-content/uploads/sites/7/2024/06/TUES-Skate-and-Bounce-July-2024.jpg
END:VEVENT
BEGIN:VEVENT
DTSTART;TZID=America/New_York:20240712T120000
DTEND;TZID=America/New_York:20240712T143000
DTSTAMP:20260425T095530
CREATED:20240514T171332Z
LAST-MODIFIED:20240514T171333Z
UID:30637-1720785600-1720794600@www.unitedskates.com
SUMMARY:GLOW SKATE
DESCRIPTION:It’s an EPIC Glow Skate!!\n12:00PM – 2:30PM\nPick from Two Admission Options: \n\nSkate & Play $19 – includes Admission\, 20 Game Credits & 1 Game of Laser Tag\nSkate Fun $12 – Admission includes FREE Glow Stick\n\n$6 Skate Rental \nPURCHASE TICKETS HERE! \nJoin us for special themes\, games & more all summer long!\nBIRTHDAY PARTIES AVAILABLE – CLICK HERE\nALL CHILDREN AGES 3-17 MUST PAY ADMISSION & ROLLER SKATE RENTAL (OR BRING THEIR OWN SKATES)\nNON-SKATING ADULTS MAY ENTER AT NO CHARGE\nALL ADULT SKATERS (18+) ARE REQUIRED TO SIGN A LIABILITY WAIVER
URL:https://www.unitedskates.com/skate-zone-71/event/glow-skate-2/
LOCATION:Skate Zone 71\, 4900 Evanswood Ddr.\, Columbus\, OH\, 43229\, United States
CATEGORIES:Public Skates,Special Events
ATTACH;FMTTYPE=image/jpeg:https://unitedskates-assets.sfo3.digitaloceanspaces.com/wp-content/uploads/sites/7/2024/05/Glow-Skate-1200x1200-1.jpg
END:VEVENT
BEGIN:VEVENT
DTSTART;TZID=America/New_York:20240713T110000
DTEND;TZID=America/New_York:20240713T130000
DTSTAMP:20260425T095530
CREATED:20240614T160307Z
LAST-MODIFIED:20240614T160307Z
UID:31007-1720868400-1720875600@www.unitedskates.com
SUMMARY:Disney Music BINGO Skates
DESCRIPTION:🛼DISNEY MUSIC BINGO SATURDAY SKATING IN JULY🛼\n11:00AM – 1:00PM\n$12 Admission  PURCHASE TICKETS HERE! \n$6 Skate Rental \nCelebrate your Birthday During One of these FUN-tastic Skates!\nBIRTHDAY PARTIES AVAILABLE – CLICK HERE\nALL CHILDREN AGES 3-17 MUST PAY ADMISSION & ROLLER SKATE RENTAL (OR BRING THEIR OWN SKATES)\nNON-SKATING ADULTS MAY ENTER AT NO CHARGE\nALL ADULT SKATERS (18+) ARE REQUIRED TO SIGN A LIABILITY WAIVER
URL:https://www.unitedskates.com/skate-zone-71/event/disney-music-bingo-skates-2/
LOCATION:Skate Zone 71\, 4900 Evanswood Ddr.\, Columbus\, OH\, 43229\, United States
CATEGORIES:Public Skates,Special Events
ATTACH;FMTTYPE=image/png:https://unitedskates-assets.sfo3.digitaloceanspaces.com/wp-content/uploads/sites/7/2022/07/SATS-Disney-Music-Bingo-2024.png
END:VEVENT
BEGIN:VEVENT
DTSTART;TZID=America/New_York:20240713T133000
DTEND;TZID=America/New_York:20240713T160000
DTSTAMP:20260425T095530
CREATED:20240614T161402Z
LAST-MODIFIED:20240614T161402Z
UID:31014-1720877400-1720886400@www.unitedskates.com
SUMMARY:Hello Kitty Skates
DESCRIPTION:🎊HELLO KITTY SKATES IN JULY🎊\nHello Kitty & Keroppi will be taking over Saturday afternoons in July!\nWe’ll have a Special Visits\, Photo Ops\, Games & MORE!\n1:30PM – 4:00PM\nPick from TWO Admission Options: \n\nSkate & Play $19 – includes Admission\, 20 Game Credits & 1 Game of Laser Tag\nSkate Fun $12 – Admission \n\n$6 Skate Rental Additional \nPURCHASE TICKETS HERE! \nCelebrate your birthday with Hello Kitty & Keroppi in July!!\nBIRTHDAY PARTIES AVAILABLE – CLICK HERE\nALL CHILDREN AGES 3-17 MUST PAY ADMISSION & ROLLER SKATE RENTAL (OR BRING THEIR OWN SKATES)\nNON-SKATING ADULTS MAY ENTER AT NO CHARGE\nALL ADULT SKATERS (18+) ARE REQUIRED TO SIGN A LIABILITY WAIVER
URL:https://www.unitedskates.com/skate-zone-71/event/hello-kitty-skates-2/
LOCATION:Skate Zone 71\, 4900 Evanswood Ddr.\, Columbus\, OH\, 43229\, United States
CATEGORIES:Public Skates,Special Events
ATTACH;FMTTYPE=image/png:https://unitedskates-assets.sfo3.digitaloceanspaces.com/wp-content/uploads/sites/7/2024/06/SATS-Hello-Kitty-skate-2024.png
END:VEVENT
BEGIN:VEVENT
DTSTART;TZID=America/New_York:20240715T120000
DTEND;TZID=America/New_York:20240715T143000
DTSTAMP:20260425T095530
CREATED:20240514T192155Z
LAST-MODIFIED:20240514T192156Z
UID:30660-1721044800-1721053800@www.unitedskates.com
SUMMARY:EAT\, SKATE & PLAY!
DESCRIPTION:☀️SUMMER BREAK at Skate Zone 71☀️\nHead over for this all inclusive skate session!! Each Admission has Skate Rental included as well as a Slice of Cheese Pizza\, Small Drink and a Pre-Loaded 5 Credit Game Card!\n12:00PM – 2:30PM\nPick from Two Admission Options: \n\nSkate & Play $19 – includes Admission\, 20 Game Credits & 1 Game of Laser Tag\nSkate Fun $12 – Admission includes Skate Rental\, Slice of Cheese Pizza\, Small Drink and a Pre-Loaded 5 Credit Game Card!\n\n$6 Skate Rental \nPURCHASE TICKETS HERE! \nJoin us for special themes\, games & more all summer long!\nBIRTHDAY PARTIES AVAILABLE – CLICK HERE\nALL CHILDREN AGES 3-17 MUST PAY ADMISSION & ROLLER SKATE RENTAL (OR BRING THEIR OWN SKATES)\nNON-SKATING ADULTS MAY ENTER AT NO CHARGE\nALL ADULT SKATERS (18+) ARE REQUIRED TO SIGN A LIABILITY WAIVER
URL:https://www.unitedskates.com/skate-zone-71/event/eat-skate-play/
LOCATION:Skate Zone 71\, 4900 Evanswood Ddr.\, Columbus\, OH\, 43229\, United States
CATEGORIES:Public Skates,Special Events
ATTACH;FMTTYPE=image/png:https://unitedskates-assets.sfo3.digitaloceanspaces.com/wp-content/uploads/sites/7/2024/05/7.15-eat-play-skate-2024.png
END:VEVENT
BEGIN:VEVENT
DTSTART;TZID=America/New_York:20240721T160000
DTEND;TZID=America/New_York:20240721T190000
DTSTAMP:20260425T095530
CREATED:20240627T143225Z
LAST-MODIFIED:20240710T144813Z
UID:31141-1721577600-1721588400@www.unitedskates.com
SUMMARY:Church Appreciation Skate
DESCRIPTION:SUNDAY JULY 21st\nRoll into Fun and Fellowship at Church Appreciation Roller Skating!\nJoin us after a day of faith at our Church Appreciation Roller Skating event! Whether you’re a skating pro or just learning\, everyone is welcome to enjoy this unique blend of fellowship and fitness. \n4:00PM – 7:00PM\n$15 Admission includes Skate Rental \nCHURCH GROUP RESERVATIONS:\nGroups with reservations that bring in 10+ Skaters can earn a $4 rebate/person for their Church! \nCall us at 614-846-5626 to Reserve! \n  \nGOSPEL\, SOUL\, RnB & TOP 40\n  \nALL CHILDREN AGES 3-17 MUST PAY ADMISSION & ROLLER SKATE RENTAL (OR BRING THEIR OWN SKATES)\nNON-SKATING ADULTS MAY ENTER AT NO CHARGE\nALL ADULT SKATERS (18+) ARE REQUIRED TO SIGN A LIABILITY WAIVER
URL:https://www.unitedskates.com/skate-zone-71/event/church-appreciation-skate/
LOCATION:Skate Zone 71\, 4900 Evanswood Ddr.\, Columbus\, OH\, 43229\, United States
CATEGORIES:Public Skates,Special Events
ATTACH;FMTTYPE=image/png:https://unitedskates-assets.sfo3.digitaloceanspaces.com/wp-content/uploads/sites/7/2024/06/7.21-Church-Appreciation-Skate.png
END:VEVENT
BEGIN:VEVENT
DTSTART;TZID=America/New_York:20240724T120000
DTEND;TZID=America/New_York:20240724T143000
DTSTAMP:20260425T095530
CREATED:20240620T155240Z
LAST-MODIFIED:20240620T155240Z
UID:31092-1721822400-1721831400@www.unitedskates.com
SUMMARY:BOMB POP SKATE
DESCRIPTION:☀️SUMMER BREAK at Skate Zone 71☀️\nStay cool at Skate Zone 71 with a frozen treat between indoor skating!!\nStop by the cafe for a FREE Frozen Treat for Each Paid Admission!\n12:00PM – 2:30PM\nPick from Two Admission Options: \n\nSkate & Play $19 – includes Admission\, 20 Game Credits & 1 Game of Laser Tag\nSkate Fun $12 – Admission – includes FREE Frozen Treat\n\n$6 Skate Rental \nPURCHASE TICKETS HERE! \nJoin us for special themes\, games & more all summer long!\nBIRTHDAY PARTIES AVAILABLE – CLICK HERE\nALL CHILDREN AGES 3-17 MUST PAY ADMISSION & ROLLER SKATE RENTAL (OR BRING THEIR OWN SKATES)\nNON-SKATING ADULTS MAY ENTER AT NO CHARGE\nALL ADULT SKATERS (18+) ARE REQUIRED TO SIGN A LIABILITY WAIVER
URL:https://www.unitedskates.com/skate-zone-71/event/bomb-pop-skate/
LOCATION:Skate Zone 71\, 4900 Evanswood Ddr.\, Columbus\, OH\, 43229\, United States
CATEGORIES:Public Skates,Special Events
ATTACH;FMTTYPE=image/png:https://unitedskates-assets.sfo3.digitaloceanspaces.com/wp-content/uploads/sites/7/2024/06/7.24-bomb-pop-skate-2024.png
END:VEVENT
BEGIN:VEVENT
DTSTART;TZID=America/New_York:20240726T120000
DTEND;TZID=America/New_York:20240726T143000
DTSTAMP:20260425T095530
CREATED:20240614T190403Z
LAST-MODIFIED:20240627T153334Z
UID:31081-1721995200-1722004200@www.unitedskates.com
SUMMARY:Lucky Spin Skate
DESCRIPTION:☀️SUMMER BREAK at Skate Zone 71☀️\nEarn a Free Lucky Spin on our Wheel of Prizes if you Reserve Your Group!\n12:00PM – 2:30PM\nPick from Two Admission Options: \n\nSkate & Play $19 – includes Admission\, 20 Game Credits & 1 Game of Laser Tag\nSkate Fun $12 – Admission\n\n$6 Skate Rental \nPURCHASE TICKETS HERE! \nBIRTHDAY PARTIES AVAILABLE – CLICK HERE\nALL CHILDREN AGES 3-17 MUST PAY ADMISSION & ROLLER SKATE RENTAL (OR BRING THEIR OWN SKATES)\nNON-SKATING ADULTS MAY ENTER AT NO CHARGE\nALL ADULT SKATERS (18+) ARE REQUIRED TO SIGN A LIABILITY WAIVER
URL:https://www.unitedskates.com/skate-zone-71/event/lucky-spin-skate/
LOCATION:Skate Zone 71\, 4900 Evanswood Ddr.\, Columbus\, OH\, 43229\, United States
CATEGORIES:Public Skates,Special Events
ATTACH;FMTTYPE=image/png:https://unitedskates-assets.sfo3.digitaloceanspaces.com/wp-content/uploads/sites/7/2024/06/Lucky-Spin-Thumbnail.png
END:VEVENT
BEGIN:VEVENT
DTSTART;TZID=America/New_York:20240726T213000
DTEND;TZID=America/New_York:20240727T003000
DTSTAMP:20260425T095530
CREATED:20240709T183409Z
LAST-MODIFIED:20240716T143041Z
UID:31392-1722029400-1722040200@www.unitedskates.com
SUMMARY:LATE NIGHT ADULT SKATE
DESCRIPTION:$12.00 Admission\n$6.00 Roller Skate Rental\n\nPURCHASE TICKETS HERE! \nADULT SKATES ARE FOR AGES 18+ AND OVER ONLY\nALL GUESTS ARE REQUIRED TO PAY ADMISSION\nALL ADULT SKATERS (18+) ARE REQUIRED TO SIGN A LIABILITY WAIVER
URL:https://www.unitedskates.com/skate-zone-71/event/late-night-adult-skate/
LOCATION:Skate Zone 71\, 4900 Evanswood Ddr.\, Columbus\, OH\, 43229\, United States
CATEGORIES:Adult Events,Special Events
ATTACH;FMTTYPE=image/png:https://unitedskates-assets.sfo3.digitaloceanspaces.com/wp-content/uploads/sites/7/2024/07/7.26-late-skate-FLYER-2024.png
END:VEVENT
BEGIN:VEVENT
DTSTART;TZID=America/New_York:20240729T120000
DTEND;TZID=America/New_York:20240729T143000
DTSTAMP:20260425T095530
CREATED:20240614T185823Z
LAST-MODIFIED:20240614T185823Z
UID:31078-1722254400-1722263400@www.unitedskates.com
SUMMARY:Hello Kitty Skate
DESCRIPTION:☀️SUMMER BREAK at Skate Zone 71☀️\nHello Kitty & Keroppi will be taking over this Monday Daytime Skate Session!\nWe’ll have a Special Visits\, Photo Ops\, Games & MORE!\n12:00PM – 2:30PM\nPick from TWO Admission Options: \n\nSkate & Play $19 – includes Admission\, 20 Game Credits & 1 Game of Laser Tag\nSkate Fun $12 – Admission \n\n$6 Skate Rental Additional \nPURCHASE TICKETS HERE! \nCelebrate your birthday with Hello Kitty & Keroppi!!\nBIRTHDAY PARTIES AVAILABLE – CLICK HERE\nALL CHILDREN AGES 3-17 MUST PAY ADMISSION & ROLLER SKATE RENTAL (OR BRING THEIR OWN SKATES)\nNON-SKATING ADULTS MAY ENTER AT NO CHARGE\nALL ADULT SKATERS (18+) ARE REQUIRED TO SIGN A LIABILITY WAIVER
URL:https://www.unitedskates.com/skate-zone-71/event/hello-kitty-skate/
LOCATION:Skate Zone 71\, 4900 Evanswood Ddr.\, Columbus\, OH\, 43229\, United States
CATEGORIES:Public Skates,Special Events
ATTACH;FMTTYPE=image/png:https://unitedskates-assets.sfo3.digitaloceanspaces.com/wp-content/uploads/sites/7/2024/06/7.29-Hello-Kitty-Skate.png
END:VEVENT
END:VCALENDAR