BEGIN:VCALENDAR
VERSION:2.0
PRODID:-//Rink 2 - Skate Zone 71 - ECPv6.15.20//NONSGML v1.0//EN
CALSCALE:GREGORIAN
METHOD:PUBLISH
X-ORIGINAL-URL:https://www.unitedskates.com/skate-zone-71
X-WR-CALDESC:Events for Rink 2 - Skate Zone 71
REFRESH-INTERVAL;VALUE=DURATION:PT1H
X-Robots-Tag:noindex
X-PUBLISHED-TTL:PT1H
BEGIN:VTIMEZONE
TZID:America/New_York
BEGIN:DAYLIGHT
TZOFFSETFROM:-0500
TZOFFSETTO:-0400
TZNAME:EDT
DTSTART:20230312T070000
END:DAYLIGHT
BEGIN:STANDARD
TZOFFSETFROM:-0400
TZOFFSETTO:-0500
TZNAME:EST
DTSTART:20231105T060000
END:STANDARD
BEGIN:DAYLIGHT
TZOFFSETFROM:-0500
TZOFFSETTO:-0400
TZNAME:EDT
DTSTART:20240310T070000
END:DAYLIGHT
BEGIN:STANDARD
TZOFFSETFROM:-0400
TZOFFSETTO:-0500
TZNAME:EST
DTSTART:20241103T060000
END:STANDARD
BEGIN:DAYLIGHT
TZOFFSETFROM:-0500
TZOFFSETTO:-0400
TZNAME:EDT
DTSTART:20250309T070000
END:DAYLIGHT
BEGIN:STANDARD
TZOFFSETFROM:-0400
TZOFFSETTO:-0500
TZNAME:EST
DTSTART:20251102T060000
END:STANDARD
END:VTIMEZONE
BEGIN:VEVENT
DTSTART;TZID=America/New_York:20240603T110000
DTEND;TZID=America/New_York:20240603T130000
DTSTAMP:20260425T143210
CREATED:20240529T172046Z
LAST-MODIFIED:20240605T171509Z
UID:30914-1717412400-1717419600@www.unitedskates.com
SUMMARY:GAME SESSIONS ONLY
DESCRIPTION:While we work on renovating the skating rink – we’re inviting you in for ALL OUT GAME SESSIONS!\n11:00AM – 1:00PM\nChoose ONE (or BOTH!) of the Admission Options below to enjoy Skate Zone 71’s awesome ARCADE and LASER CRAZE!\n$15.99 Unlimited Laser Tag \n$10 Cafe & Game Combo includes 25 Credit Game Card with Meal Combo (Choice of Pizza Slice\, Hot Dog or Chicken Tenders) with French Fries & a Medium Soft Drink \nPURCHASE TICKETS HERE!\nNON-SKATING SESSIONS ONLY\nCHAPERONING ADULTS MAY ENTER AT NO CHARGE
URL:https://www.unitedskates.com/skate-zone-71/event/game-sessions-only/2024-06-03/
LOCATION:OH
CATEGORIES:Special Events
ATTACH;FMTTYPE=image/png:https://unitedskates-assets.sfo3.digitaloceanspaces.com/wp-content/uploads/sites/7/2024/05/Laser-Tag-Only.png
END:VEVENT
BEGIN:VEVENT
DTSTART;TZID=America/New_York:20240603T180000
DTEND;TZID=America/New_York:20240603T203000
DTSTAMP:20260425T143210
CREATED:20240508T183143Z
LAST-MODIFIED:20240520T145242Z
UID:30343-1717437600-1717446600@www.unitedskates.com
SUMMARY:MARIO KART MONDAYS
DESCRIPTION:Join us for FUN & GAMES every Monday during this Evening Skating Session!!\nMario & Friends will be stopping by every Monday to hang out\, play games & take pictures!\n$12 Admission – includes 5 Credit Game Card* \n*Between 6:30PM – 7:30PM ONLY ➡️ Enjoy Half Priced Game Play on Select Games* \n$6 Skate Rental \nPURCHASE TICKETS HERE!  (Admission Available Via Link & At Door) \nALL CHILDREN AGES 3-17 MUST PAY ADMISSION & ROLLER SKATE RENTAL (OR BRING THEIR OWN SKATES)\nNON-SKATING ADULTS MAY ENTER AT NO CHARGE\nALL ADULT SKATERS (18+) ARE REQUIRED TO SIGN A LIABILITY WAIVER
URL:https://www.unitedskates.com/skate-zone-71/event/super-mario-mondays/2024-06-03/
LOCATION:Skate Zone 71\, 4900 Evanswood Ddr.\, Columbus\, OH\, 43229\, United States
CATEGORIES:Public Skates,Special Events
ATTACH;FMTTYPE=image/png:https://unitedskates-assets.sfo3.digitaloceanspaces.com/wp-content/uploads/sites/7/2024/05/MONS-MARIO-KART-mondays-editable.png
END:VEVENT
BEGIN:VEVENT
DTSTART;TZID=America/New_York:20240606T180000
DTEND;TZID=America/New_York:20240606T203000
DTSTAMP:20260425T143211
CREATED:20240508T155828Z
LAST-MODIFIED:20240723T165241Z
UID:30293-1717696800-1717705800@www.unitedskates.com
SUMMARY:SUMMER MUSIC AYCE SKATES
DESCRIPTION:☀️ SUMMER MUSIC All You Can Eat SKATES☀️\nStop by Skate Zone 71\, we’ve got all the Pizza and the best JAMS every Thursday!\n6:00PM – 8:30PM\n$20 Admission – includes Skate Rental & Unlimited Cheese Pizza \n$10 Admission for Non-Skating Adults will include Unlimited Cheese Pizza \nPURCHASE TICKETS HERE! \n**THERE WILL NOT BE A SESSION ON JULY 4TH**\nBIRTHDAY PARTIES AVAILABLE – CLICK HERE!\nALL ADULT SKATERS (18+) ARE REQUIRED TO SIGN A LIABILITY WAIVER
URL:https://www.unitedskates.com/skate-zone-71/event/summer-music-ayce-skates/2024-06-06/
LOCATION:Skate Zone 71\, 4900 Evanswood Ddr.\, Columbus\, OH\, 43229\, United States
CATEGORIES:Public Skates,Special Events
ATTACH;FMTTYPE=image/png:https://unitedskates-assets.sfo3.digitaloceanspaces.com/wp-content/uploads/sites/7/2024/05/THURS-Summer-Music-AYCE-Skate-Rink2.png
END:VEVENT
BEGIN:VEVENT
DTSTART;VALUE=DATE:20240607
DTEND;VALUE=DATE:20240611
DTSTAMP:20260425T143211
CREATED:20240604T191618Z
LAST-MODIFIED:20240604T191646Z
UID:30960-1717736400-1717995599@www.unitedskates.com
SUMMARY:NEW COLOR FLOOR GRAND OPENING!!!🛼🧨
DESCRIPTION:Come Skate on our NEW COLOR Skate Floor THIS WEEKEND!!\n\n\n Starts Friday June 7th\, 2024 at 6:30pm\n\n\nFree Glow Stick with every paid admission!!\nCLICK HERE TO PURCHASE YOUR ADMISSION ONLINE\n*******🎂Birthday Party Packages Available!!  Click Here to Reserve!!
URL:https://www.unitedskates.com/skate-zone-71/event/new-color-floor-grand-opening%f0%9f%9b%bc%f0%9f%a7%a8/
LOCATION:Skate Zone 71\, 4900 Evanswood Ddr.\, Columbus\, OH\, 43229\, United States
CATEGORIES:Family Events,Public Skates,Special Events
ATTACH;FMTTYPE=image/jpeg:https://unitedskates-assets.sfo3.digitaloceanspaces.com/wp-content/uploads/sites/7/2024/06/color-skate-floor-skate-zone-71-v2.jpg
END:VEVENT
BEGIN:VEVENT
DTSTART;TZID=America/New_York:20240610T120000
DTEND;TZID=America/New_York:20240610T143000
DTSTAMP:20260425T143211
CREATED:20240513T170524Z
LAST-MODIFIED:20240514T170742Z
UID:30559-1718020800-1718029800@www.unitedskates.com
SUMMARY:SUMMER BREAK KICK OFF
DESCRIPTION:☀️SUMMER BREAK at Skate Zone 71☀️\nIt’s time for weekday daily skates with this EPIC Glow Skate!!\nJoin us for special themes\, games & more all summer long!\n12:00PM – 2:30PM\nPick from Two Admission Options: \n\nSkate & Play $19 – includes Admission\, 20 Game Credits & 1 Game of Laser Tag\nSkate Fun $12 – Admission – includes FREE Glow Stick\n\n$6 Skate Rental \nPURCHASE TICKETS HERE! \nBIRTHDAY PARTIES AVAILABLE – CLICK HERE\nALL CHILDREN AGES 3-17 MUST PAY ADMISSION & ROLLER SKATE RENTAL (OR BRING THEIR OWN SKATES)\nNON-SKATING ADULTS MAY ENTER AT NO CHARGE\nALL ADULT SKATERS (18+) ARE REQUIRED TO SIGN A LIABILITY WAIVER
URL:https://www.unitedskates.com/skate-zone-71/event/summer-break-kick-off/
LOCATION:Skate Zone 71\, 4900 Evanswood Ddr.\, Columbus\, OH\, 43229\, United States
CATEGORIES:Public Skates,Special Events
ATTACH;FMTTYPE=image/jpeg:https://unitedskates-assets.sfo3.digitaloceanspaces.com/wp-content/uploads/sites/7/2024/05/600px-Summer-Kick-Off-2022-1200x1200-1.jpg
END:VEVENT
BEGIN:VEVENT
DTSTART;TZID=America/New_York:20240611T120000
DTEND;TZID=America/New_York:20240611T143000
DTSTAMP:20260425T143211
CREATED:20240513T171003Z
LAST-MODIFIED:20240614T174622Z
UID:30562-1718107200-1718116200@www.unitedskates.com
SUMMARY:SUMMER BREAK SKATING
DESCRIPTION:☀️SUMMER BREAK at Skate Zone 71☀️\nWeekday daily skates are here!! Join us for special themes\, games & more all summer long!\n12:00PM – 2:30PM\nPick from Two Admission Options: \n\nSkate & Play $19 – includes Admission\, 20 Game Credits & 1 Game of Laser Tag\nSkate Fun $12 – Admission\n\n$6 Skate Rental \nPURCHASE TICKETS HERE! \nBIRTHDAY PARTIES AVAILABLE – CLICK HERE\nALL CHILDREN AGES 3-17 MUST PAY ADMISSION & ROLLER SKATE RENTAL (OR BRING THEIR OWN SKATES)\nNON-SKATING ADULTS MAY ENTER AT NO CHARGE\nALL ADULT SKATERS (18+) ARE REQUIRED TO SIGN A LIABILITY WAIVER
URL:https://www.unitedskates.com/skate-zone-71/event/summer-break-skating/2024-06-11/
LOCATION:Skate Zone 71\, 4900 Evanswood Ddr.\, Columbus\, OH\, 43229\, United States
CATEGORIES:Public Skates,Special Events
ATTACH;FMTTYPE=image/jpeg:https://unitedskates-assets.sfo3.digitaloceanspaces.com/wp-content/uploads/sites/7/2024/05/600px-Summer-Days-Skate-2022-1200x1200-1.jpg
END:VEVENT
BEGIN:VEVENT
DTSTART;TZID=America/New_York:20240611T180000
DTEND;TZID=America/New_York:20240611T203000
DTSTAMP:20260425T143211
CREATED:20240509T190707Z
LAST-MODIFIED:20240509T190708Z
UID:30382-1718128800-1718137800@www.unitedskates.com
SUMMARY:SUMMER 2 for $10 Tuesdays
DESCRIPTION:☀️SUMMER TUESDAYS at Skate Zone 71☀️\nIt’s our usual Tuesday Skating with a Summer Twist! Enjoy a $5 All Session Bounce House Pass!\n6:00PM – 8:30PM\nPick from Two Admission Options: \n\nSkate & Play $14 – includes Admission\, 20 Game Credits & 1 Game of Laser Tag\nSkate Fun 2 For $10 – Admission / or 1 for $6.00 – Admission\n\n$6 Skate Rental \n$5 Bounce House Pass \nPURCHASE TICKETS HERE! \nBIRTHDAY PARTIES AVAILABLE – CLICK HERE\nALL CHILDREN AGES 3-17 MUST PAY ADMISSION & ROLLER SKATE RENTAL (OR BRING THEIR OWN SKATES)\nNON-SKATING ADULTS MAY ENTER AT NO CHARGE\nALL ADULT SKATERS (18+) ARE REQUIRED TO SIGN A LIABILITY WAIVER
URL:https://www.unitedskates.com/skate-zone-71/event/summer-2-for-10-tuesdays/2024-06-11/
LOCATION:Skate Zone 71\, 4900 Evanswood Ddr.\, Columbus\, OH\, 43229\, United States
CATEGORIES:Public Skates,Special Events
ATTACH;FMTTYPE=image/png:https://unitedskates-assets.sfo3.digitaloceanspaces.com/wp-content/uploads/sites/7/2024/05/summer-2-for-Tues.png
END:VEVENT
BEGIN:VEVENT
DTSTART;TZID=America/New_York:20240612T180000
DTEND;TZID=America/New_York:20240612T203000
DTSTAMP:20260425T143211
CREATED:20240509T191131Z
LAST-MODIFIED:20240611T180917Z
UID:30393-1718215200-1718224200@www.unitedskates.com
SUMMARY:SUMMER Affordable Family Fun Night
DESCRIPTION:☀️SUMMER WEDNESDAYS at Skate Zone 71☀️\nIt’s our usual Wednesday Family Skating with a Summer Twist! Enjoy a $5 All Session Bounce House Pass!\n6:00PM – 8:30PM\nPick from TWO Admission Options: \n\nSkate & Play $14 – includes Admission\, 20 Game Credits & 1 Game of Laser Tag\nSkate Fun $7 – Admission \n\n$6 Skate Rental \n$5 Bounce House Pass \nPURCHASE TICKETS HERE! \nBIRTHDAY PARTIES AVAILABLE – CLICK HERE\nALL CHILDREN AGES 3-17 MUST PAY ADMISSION & ROLLER SKATE RENTAL (OR BRING THEIR OWN SKATES)\nNON-SKATING ADULTS MAY ENTER AT NO CHARGE\nALL ADULT SKATERS (18+) ARE REQUIRED TO SIGN A LIABILITY WAIVER
URL:https://www.unitedskates.com/skate-zone-71/event/summer-affordable-family-fun-night/2024-06-12/
LOCATION:Skate Zone 71\, 4900 Evanswood Ddr.\, Columbus\, OH\, 43229\, United States
CATEGORIES:Public Skates,Special Events
ATTACH;FMTTYPE=image/png:https://unitedskates-assets.sfo3.digitaloceanspaces.com/wp-content/uploads/sites/7/2024/05/summer-AFF.png
END:VEVENT
BEGIN:VEVENT
DTSTART;TZID=America/New_York:20240612T203000
DTEND;TZID=America/New_York:20240612T230000
DTSTAMP:20260425T143211
CREATED:20240508T161623Z
LAST-MODIFIED:20240509T175009Z
UID:30303-1718224200-1718233200@www.unitedskates.com
SUMMARY:Newbie Adult PRIDE Skate
DESCRIPTION:It’s Newbie Skate Night with a PRIDE Twist!!\nWhether you’re learning to skate or a cool pro\, come celebrate humanity with a FUN Adult Night!\n\n$12.00 Admission ($2 Off at Door with Valid College ID)\n$6.00 Roller Skate Rental\n\nPURCHASE TICKETS HERE!\nADULT SKATES ARE FOR AGES 18+ AND OVER ONLY\nALL GUESTS ARE REQUIRED TO PAY ADMISSION\nALL ADULT SKATERS (18+) ARE REQUIRED TO SIGN A LIABILITY WAIVER
URL:https://www.unitedskates.com/skate-zone-71/event/newbie-adult-pride-skate/
LOCATION:Skate Zone 71\, 4900 Evanswood Ddr.\, Columbus\, OH\, 43229\, United States
CATEGORIES:Public Skates,Special Events
ATTACH;FMTTYPE=image/png:https://unitedskates-assets.sfo3.digitaloceanspaces.com/wp-content/uploads/sites/7/2024/05/6.12-Newbie-LGBT-ROLLER-SKATE-2024.png
END:VEVENT
BEGIN:VEVENT
DTSTART;TZID=America/New_York:20240613T120000
DTEND;TZID=America/New_York:20240613T143000
DTSTAMP:20260425T143211
CREATED:20240514T172115Z
LAST-MODIFIED:20240702T134826Z
UID:30640-1718280000-1718289000@www.unitedskates.com
SUMMARY:MARIO & FRIENDS SKATE
DESCRIPTION:☀️SUMMER BREAK at Skate Zone 71☀️\nMario and Friends will be visiting throughout the session\, stop by for skating\, games\, photos & MORE!!!!\n12:00PM – 2:30PM\nPick from Two Admission Options: \n\nSkate & Play $19 – includes Admission\, 20 Game Credits & 1 Game of Laser Tag\nSkate Fun $12 – Admission\n\n$6 Skate Rental \nPURCHASE TICKETS HERE! \nJoin us for special themes\, characters & games all summer long!\nBIRTHDAY PARTIES AVAILABLE – CLICK HERE\nALL CHILDREN AGES 3-17 MUST PAY ADMISSION & ROLLER SKATE RENTAL (OR BRING THEIR OWN SKATES)\nNON-SKATING ADULTS MAY ENTER AT NO CHARGE\nALL ADULT SKATERS (18+) ARE REQUIRED TO SIGN A LIABILITY WAIVER
URL:https://www.unitedskates.com/skate-zone-71/event/mario-friends-skate/2024-06-13/
LOCATION:Skate Zone 71\, 4900 Evanswood Ddr.\, Columbus\, OH\, 43229\, United States
CATEGORIES:Public Skates,Special Events
ATTACH;FMTTYPE=image/png:https://unitedskates-assets.sfo3.digitaloceanspaces.com/wp-content/uploads/sites/7/2024/05/MARIO-Thumbnail.png
END:VEVENT
BEGIN:VEVENT
DTSTART;TZID=America/New_York:20240613T210000
DTEND;TZID=America/New_York:20240614T000000
DTSTAMP:20260425T143211
CREATED:20240508T184236Z
LAST-MODIFIED:20240611T170527Z
UID:30355-1718312400-1718323200@www.unitedskates.com
SUMMARY:Adult PRIDE Skate
DESCRIPTION:🌈It’s Adult Night with a PRIDE Twist!!🌈\nCome celebrate humanity with TWO JAMMIN Adult Skates!\nTHURSDAY JUNE 13th\n9:00PM – 12:00AM\nFRIDAY JUNE 14th\n10:00PM – 12:00AM\nEither Session: \n\n$12.00 Admission\n$6.00 Roller Skate Rental\n\nPURCHASE TICKETS HERE!\nADULT SKATES ARE FOR AGES 18+ AND OVER ONLY\nALL GUESTS ARE REQUIRED TO PAY ADMISSION\nALL ADULT SKATERS (18+) ARE REQUIRED TO SIGN A LIABILITY WAIVER
URL:https://www.unitedskates.com/skate-zone-71/event/adult-pride-skate/
LOCATION:Skate Zone 71\, 4900 Evanswood Ddr.\, Columbus\, OH\, 43229\, United States
CATEGORIES:Adult Events,Special Events
ATTACH;FMTTYPE=image/png:https://unitedskates-assets.sfo3.digitaloceanspaces.com/wp-content/uploads/sites/7/2024/05/6.13-14-LGBTQ-ADULT-SKATE-2024.png
END:VEVENT
BEGIN:VEVENT
DTSTART;TZID=America/New_York:20240614T183000
DTEND;TZID=America/New_York:20240614T210000
DTSTAMP:20260425T143211
CREATED:20240508T172216Z
LAST-MODIFIED:20240522T161708Z
UID:30331-1718389800-1718398800@www.unitedskates.com
SUMMARY:PRIDE Glow Skate
DESCRIPTION:🌈It’s our Friday Glow Skate with a PRIDE Twist!!🌈\nGlow Sticks and Great Tunes ALL SESSION LONG!\n6:30PM – 9:00PM\nPick from TWO Admission Options: \n\nSkate & Play $20 – includes Admission\, 20 Game Credits & 1 Game of Laser Tag\nSkate Fun $12 – includes Admission & Free Glow Stick \n\n*$6 Skate Rental Additional* \nPURCHASE TICKETS HERE! \nBIRTHDAY PARTIES AVAILABLE – CLICK HERE\nGROUP RATES AVAILABLE FOR PARTIES OF 15+ – CLICK HERE\nIS YOUR GROUP LOOKING FOR A FUN EVENT? CLICK HERE TO FIND OUT HOW TO FUNDRAISE DURING THIS SESSION!\nALL CHILDREN AGES 3-17 MUST PAY ADMISSION & ROLLER SKATE RENTAL (OR BRING THEIR OWN SKATES)\nNON-SKATING ADULTS MAY ENTER AT NO CHARGE\nALL ADULT SKATERS (18+) ARE REQUIRED TO SIGN A LIABILITY WAIVER
URL:https://www.unitedskates.com/skate-zone-71/event/pride-glow-skate/
LOCATION:Skate Zone 71\, 4900 Evanswood Ddr.\, Columbus\, OH\, 43229\, United States
CATEGORIES:Public Skates,Special Events
ATTACH;FMTTYPE=image/png:https://unitedskates-assets.sfo3.digitaloceanspaces.com/wp-content/uploads/sites/7/2024/05/6.14-PRIDE-glow-skate.png
END:VEVENT
BEGIN:VEVENT
DTSTART;TZID=America/New_York:20240616T160000
DTEND;TZID=America/New_York:20240616T190000
DTSTAMP:20260425T143211
CREATED:20240508T172744Z
LAST-MODIFIED:20240509T181230Z
UID:30334-1718553600-1718564400@www.unitedskates.com
SUMMARY:FATHER'S DAY SKATE
DESCRIPTION:🥸 Celebrate all types of Dads in the best way – getting your groove on at the Rink!! 🥸\nWe’ll have a “Be Like Dad” Costume Contest so put on your best look-a-like outfit and be entered to WIN a 20 Credit Game Card!\n4:00PM – 7:00PM\n$12 Admission – Dad’s Receive Free Admission with Paid Child Ticket \n$6 Skate Rental Additional \nPURCHASE TICKETS HERE! \nBIRTHDAY PARTIES AVAILABLE – CLICK HERE\nGROUP RATES AVAILABLE FOR PARTIES OF 15+ – CLICK HERE\nALL CHILDREN AGES 3-17 MUST PAY ADMISSION & ROLLER SKATE RENTAL (OR BRING THEIR OWN SKATES)\nNON-SKATING ADULTS MAY ENTER AT NO CHARGE\nALL ADULT SKATERS (18+) ARE REQUIRED TO SIGN A LIABILITY WAIVER
URL:https://www.unitedskates.com/skate-zone-71/event/fathers-day-skate-2/
LOCATION:Skate Zone 71\, 4900 Evanswood Ddr.\, Columbus\, OH\, 43229\, United States
CATEGORIES:Public Skates,Special Events
ATTACH;FMTTYPE=image/png:https://unitedskates-assets.sfo3.digitaloceanspaces.com/wp-content/uploads/sites/7/2024/05/6.16-Fathers-Day-Skate-2024-V2.png
END:VEVENT
BEGIN:VEVENT
DTSTART;TZID=America/New_York:20240617T120000
DTEND;TZID=America/New_York:20240617T143000
DTSTAMP:20260425T143211
CREATED:20240514T173920Z
LAST-MODIFIED:20240514T174444Z
UID:30642-1718625600-1718634600@www.unitedskates.com
SUMMARY:FREE COOKIE SKATE
DESCRIPTION:☀️SUMMER BREAK at Skate Zone 71☀️\nGrab a sweet treat during this skate session\, each admission will include a fresh baked cookie from our Cafe!!\n12:00PM – 2:30PM\nPick from Two Admission Options: \n\nSkate & Play $19 – includes Admission\, 20 Game Credits & 1 Game of Laser Tag\nSkate Fun $12 – Admission includes FREE Cookie \n\n$6 Skate Rental \nPURCHASE TICKETS HERE! \nBIRTHDAY PARTIES AVAILABLE – CLICK HERE\nALL CHILDREN AGES 3-17 MUST PAY ADMISSION & ROLLER SKATE RENTAL (OR BRING THEIR OWN SKATES)\nNON-SKATING ADULTS MAY ENTER AT NO CHARGE\nALL ADULT SKATERS (18+) ARE REQUIRED TO SIGN A LIABILITY WAIVER
URL:https://www.unitedskates.com/skate-zone-71/event/free-cookie-skate/
LOCATION:Skate Zone 71\, 4900 Evanswood Ddr.\, Columbus\, OH\, 43229\, United States
CATEGORIES:Public Skates,Special Events
ATTACH;FMTTYPE=image/jpeg:https://unitedskates-assets.sfo3.digitaloceanspaces.com/wp-content/uploads/sites/7/2024/05/600px-free-cookie-skate-1200x1200-1.jpg
END:VEVENT
BEGIN:VEVENT
DTSTART;TZID=America/New_York:20240618T120000
DTEND;TZID=America/New_York:20240618T143000
DTSTAMP:20260425T143211
CREATED:20240514T174904Z
LAST-MODIFIED:20240514T174904Z
UID:30647-1718712000-1718721000@www.unitedskates.com
SUMMARY:BRAIN FREEZE SKATE
DESCRIPTION:☀️SUMMER BREAK at Skate Zone 71☀️\nStay cool at Skate Zone 71 with a frozen treat between indoor skating!!\nStop by the cafe for a FREE Snow Cone for Each Paid Admission!\n12:00PM – 2:30PM\nPick from Two Admission Options: \n\nSkate & Play $19 – includes Admission\, 20 Game Credits & 1 Game of Laser Tag\nSkate Fun $12 – Admission – includes FREE Snow Cone\n\n$6 Skate Rental \nPURCHASE TICKETS HERE! \nJoin us for special themes\, games & more all summer long!\nBIRTHDAY PARTIES AVAILABLE – CLICK HERE\nALL CHILDREN AGES 3-17 MUST PAY ADMISSION & ROLLER SKATE RENTAL (OR BRING THEIR OWN SKATES)\nNON-SKATING ADULTS MAY ENTER AT NO CHARGE\nALL ADULT SKATERS (18+) ARE REQUIRED TO SIGN A LIABILITY WAIVER
URL:https://www.unitedskates.com/skate-zone-71/event/brain-freeze-skate/2024-06-18/
LOCATION:Skate Zone 71\, 4900 Evanswood Ddr.\, Columbus\, OH\, 43229\, United States
CATEGORIES:Public Skates,Special Events
ATTACH;FMTTYPE=image/jpeg:https://unitedskates-assets.sfo3.digitaloceanspaces.com/wp-content/uploads/sites/7/2024/05/600px-brain-freeze-skate-2022-1200x1200-v2.jpg
END:VEVENT
BEGIN:VEVENT
DTSTART;TZID=America/New_York:20240619T180000
DTEND;TZID=America/New_York:20240619T203000
DTSTAMP:20260425T143211
CREATED:20240508T174306Z
LAST-MODIFIED:20240509T171813Z
UID:30337-1718820000-1718829000@www.unitedskates.com
SUMMARY:JUNETEENTH FAMILY SKATE
DESCRIPTION:Bring your family and friends for a wonderful celebration of Freedom and Community!\nSkate Zone 71 will bring the tunes and the skates\, head over to bring the FUN!!\n6:00PM – 8:30PM\nPick from TWO Admission Options: \n\nSkate & Play $14 – includes Admission\, 20 Game Credits & 1 Game of Laser Tag\nSkate Fun $7 – Admission \n\n*$6 Skate Rental Additional* \nWe’ll have a full session Bounce House with Unlimited Bouncing available for $5/Participant!!\nPURCHASE TICKETS HERE! \nBIRTHDAY PARTIES AVAILABLE – CLICK HERE\nGROUP RATES AVAILABLE FOR PARTIES OF 15+ – CLICK HERE\nIS YOUR GROUP LOOKING FOR A FUN EVENT? CLICK HERE TO FIND OUT HOW TO FUNDRAISE DURING THIS SESSION!\nALL CHILDREN AGES 3-17 MUST PAY ADMISSION & ROLLER SKATE RENTAL (OR BRING THEIR OWN SKATES)\nNON-SKATING ADULTS MAY ENTER AT NO CHARGE\nALL ADULT SKATERS (18+) ARE REQUIRED TO SIGN A LIABILITY WAIVER
URL:https://www.unitedskates.com/skate-zone-71/event/juneteenth-family-skate/
LOCATION:Skate Zone 71\, 4900 Evanswood Ddr.\, Columbus\, OH\, 43229\, United States
CATEGORIES:Public Skates,Special Events
ATTACH;FMTTYPE=image/png:https://unitedskates-assets.sfo3.digitaloceanspaces.com/wp-content/uploads/sites/7/2024/05/6.19-Juneteenth-Editable-2024-1.png
END:VEVENT
BEGIN:VEVENT
DTSTART;TZID=America/New_York:20240621T120000
DTEND;TZID=America/New_York:20240621T143000
DTSTAMP:20260425T143211
CREATED:20240522T183922Z
LAST-MODIFIED:20240614T150653Z
UID:30771-1718971200-1718980200@www.unitedskates.com
SUMMARY:SUMMER CARNIVAL
DESCRIPTION:☀️SUMMER BREAK at Skate Zone 71☀️\nCelebrate Summer – Come Skate at our Summer Break Carnival!\nMeet DJ Skato\, Play Games\, Skate & Dance – Enjoy our Carnival with FREE Face Painting\, Balloon Twisting Bounce House & MORE!!\n12:00PM – 2:30PM\nPick from Two Admission Options: \n\nSkate & Play $19 – includes Admission\, 20 Game Credits & 1 Game of Laser Tag\nSkate Fun $12 – Admission\n\n$6 Skate Rental \nPURCHASE TICKETS HERE! \n*Groups 10+ with Reservations Get a Tour of the Booth*\nRESERVE GROUP 10+ HERE\nBIRTHDAY PARTIES AVAILABLE – CLICK HERE\nALL CHILDREN AGES 3-17 MUST PAY ADMISSION & ROLLER SKATE RENTAL (OR BRING THEIR OWN SKATES)\nNON-SKATING ADULTS MAY ENTER AT NO CHARGE\nALL ADULT SKATERS (18+) ARE REQUIRED TO SIGN A LIABILITY WAIVER
URL:https://www.unitedskates.com/skate-zone-71/event/be-a-dj-skate/
LOCATION:Skate Zone 71\, 4900 Evanswood Ddr.\, Columbus\, OH\, 43229\, United States
CATEGORIES:Public Skates,Special Events
ATTACH;FMTTYPE=image/jpeg:https://unitedskates-assets.sfo3.digitaloceanspaces.com/wp-content/uploads/sites/7/2024/05/Summer-Carnival-skate-2024.jpg
END:VEVENT
BEGIN:VEVENT
DTSTART;TZID=America/New_York:20240621T183000
DTEND;TZID=America/New_York:20240621T210000
DTSTAMP:20260425T143211
CREATED:20240508T171421Z
LAST-MODIFIED:20240508T171506Z
UID:30328-1718994600-1719003600@www.unitedskates.com
SUMMARY:BARBIE 80S SKATE PARTY
DESCRIPTION:💖BARBIE SK80s PARTY 💖\nHead back to the 80’s at Skate Zone 71 where we will have an exciting retro night!!\nDress in those neon brights and take photos in our Life Sized Barbie Box!!\n6:30PM – 9:00PM\nPick from TWO Admission Options: \n\nSkate & Play $20 – includes Admission\, 20 Game Credits & 1 Game of Laser Tag\nSkate Fun $12 – Admission \n\n*$6 Skate Rental Additional* \nPURCHASE TICKETS HERE! \nBIRTHDAY PARTIES AVAILABLE – CLICK HERE\nGROUP RATES AVAILABLE FOR PARTIES OF 15+ – CLICK HERE\nIS YOUR GROUP LOOKING FOR A FUN EVENT? CLICK HERE TO FIND OUT HOW TO FUNDRAISE DURING THIS SESSION!\nALL CHILDREN AGES 3-17 MUST PAY ADMISSION & ROLLER SKATE RENTAL (OR BRING THEIR OWN SKATES)\nNON-SKATING ADULTS MAY ENTER AT NO CHARGE\nALL ADULT SKATERS (18+) ARE REQUIRED TO SIGN A LIABILITY WAIVER
URL:https://www.unitedskates.com/skate-zone-71/event/barbie-80s-skate-party-4/
LOCATION:Skate Zone 71\, 4900 Evanswood Ddr.\, Columbus\, OH\, 43229\, United States
CATEGORIES:Public Skates,Special Events
ATTACH;FMTTYPE=image/png:https://unitedskates-assets.sfo3.digitaloceanspaces.com/wp-content/uploads/sites/7/2024/05/6.21-barbies-80s-skate-party-rink-2.png
END:VEVENT
BEGIN:VEVENT
DTSTART;TZID=America/New_York:20240623T130000
DTEND;TZID=America/New_York:20240623T153000
DTSTAMP:20260425T143211
CREATED:20240508T181919Z
LAST-MODIFIED:20240508T181920Z
UID:30340-1719147600-1719156600@www.unitedskates.com
SUMMARY:TAYLOR & FRIENDS SKATE
DESCRIPTION:✨TAYLOR & FRIENDS SKATE ✨\nStop by for Great Skating\, the BEST NEW JAMS from Taylor\, Beyonce & Olivia\, Arcade Games\, and MORE!!\n1:00PM – 3:30PM\nPick from Two Admission Options:\n$12 Regular Admission with $6 Skate Rental\nOR\n$28 VIP Ticket Includes: Admission\, Skate Rental & CHOICE of Artist Swag Bag (Swifties\, Beyhive or Livies) \nPURCHASE TICKETS HERE! \nBIRTHDAY PARTIES AVAILABLE – CLICK HERE\nALL CHILDREN AGES 3-17 MUST PAY ADMISSION & ROLLER SKATE RENTAL (OR BRING THEIR OWN SKATES)\nNON-SKATING ADULTS MAY ENTER AT NO CHARGE\nALL ADULT SKATERS (18+) ARE REQUIRED TO SIGN A LIABILITY WAIVER
URL:https://www.unitedskates.com/skate-zone-71/event/taylor-friends-skate-2/
LOCATION:Skate Zone 71\, 4900 Evanswood Ddr.\, Columbus\, OH\, 43229\, United States
CATEGORIES:Public Skates,Special Events
ATTACH;FMTTYPE=image/png:https://unitedskates-assets.sfo3.digitaloceanspaces.com/wp-content/uploads/sites/7/2024/05/6.23-taylor-and-friends-skate.png
END:VEVENT
BEGIN:VEVENT
DTSTART;TZID=America/New_York:20240628T120000
DTEND;TZID=America/New_York:20240628T143000
DTSTAMP:20260425T143211
CREATED:20240514T181506Z
LAST-MODIFIED:20240514T181506Z
UID:30651-1719576000-1719585000@www.unitedskates.com
SUMMARY:TROLL ROLL SKATE
DESCRIPTION:☀️SUMMER BREAK at Skate Zone 71☀️\nHead over for this EPIC TROLL SKATE!! We’ll have visits from Poppy & Branch for Photo Ops and Games!\n12:00PM – 2:30PM\nPick from Two Admission Options: \n\nSkate & Play $19 – includes Admission\, 20 Game Credits & 1 Game of Laser Tag\nSkate Fun $12 – Admission\n\n$6 Skate Rental \nPURCHASE TICKETS HERE! \nJoin us for special themes\, games & more all summer long!\nBIRTHDAY PARTIES AVAILABLE – CLICK HERE\nALL CHILDREN AGES 3-17 MUST PAY ADMISSION & ROLLER SKATE RENTAL (OR BRING THEIR OWN SKATES)\nNON-SKATING ADULTS MAY ENTER AT NO CHARGE\nALL ADULT SKATERS (18+) ARE REQUIRED TO SIGN A LIABILITY WAIVER
URL:https://www.unitedskates.com/skate-zone-71/event/troll-roll-skate/
LOCATION:Skate Zone 71\, 4900 Evanswood Ddr.\, Columbus\, OH\, 43229\, United States
CATEGORIES:Public Skates,Special Events
ATTACH;FMTTYPE=image/png:https://unitedskates-assets.sfo3.digitaloceanspaces.com/wp-content/uploads/sites/7/2024/05/TROLL-GLOW-ROLL.png
END:VEVENT
BEGIN:VEVENT
DTSTART;TZID=America/New_York:20240628T183000
DTEND;TZID=America/New_York:20240628T210000
DTSTAMP:20260425T143211
CREATED:20240626T200639Z
LAST-MODIFIED:20240627T152928Z
UID:31107-1719599400-1719608400@www.unitedskates.com
SUMMARY:FREE SLICE FRIDAYS in JULY
DESCRIPTION:🛼EVERY FRIDAY EVENING IN JULY🛼\n6:30PM – 9:00PM\nPick from TWO Admission Options: Both include FREE Slice of Pizza🍕🍕🍕  \n\nSkate & Play $19 – includes Admission\, 20 Game Credits & 1 Game of Laser Tag\nSkate Fun $12 – Admission \n\n*$6 Skate Rental Additional* \nPURCHASE TICKETS HERE!
URL:https://www.unitedskates.com/skate-zone-71/event/free-slice-friday-night-thru-july/2024-06-28/
LOCATION:Skate Zone 71\, 4900 Evanswood Ddr.\, Columbus\, OH\, 43229\, United States
CATEGORIES:Family Events,Public Skates,Special Events
ATTACH;FMTTYPE=image/jpeg:https://unitedskates-assets.sfo3.digitaloceanspaces.com/wp-content/uploads/sites/7/2024/06/FREE-PIZZA-FRIDAYS-RINK-SK71.jpg
END:VEVENT
END:VCALENDAR