BEGIN:VCALENDAR
VERSION:2.0
PRODID:-//Rink 2 - Skate Zone 71 - ECPv6.15.20//NONSGML v1.0//EN
CALSCALE:GREGORIAN
METHOD:PUBLISH
X-ORIGINAL-URL:https://www.unitedskates.com/skate-zone-71
X-WR-CALDESC:Events for Rink 2 - Skate Zone 71
REFRESH-INTERVAL;VALUE=DURATION:PT1H
X-Robots-Tag:noindex
X-PUBLISHED-TTL:PT1H
BEGIN:VTIMEZONE
TZID:America/New_York
BEGIN:DAYLIGHT
TZOFFSETFROM:-0500
TZOFFSETTO:-0400
TZNAME:EDT
DTSTART:20250309T070000
END:DAYLIGHT
BEGIN:STANDARD
TZOFFSETFROM:-0400
TZOFFSETTO:-0500
TZNAME:EST
DTSTART:20251102T060000
END:STANDARD
BEGIN:DAYLIGHT
TZOFFSETFROM:-0500
TZOFFSETTO:-0400
TZNAME:EDT
DTSTART:20260308T070000
END:DAYLIGHT
BEGIN:STANDARD
TZOFFSETFROM:-0400
TZOFFSETTO:-0500
TZNAME:EST
DTSTART:20261101T060000
END:STANDARD
BEGIN:DAYLIGHT
TZOFFSETFROM:-0500
TZOFFSETTO:-0400
TZNAME:EDT
DTSTART:20270314T070000
END:DAYLIGHT
BEGIN:STANDARD
TZOFFSETFROM:-0400
TZOFFSETTO:-0500
TZNAME:EST
DTSTART:20271107T060000
END:STANDARD
END:VTIMEZONE
BEGIN:VEVENT
DTSTART;TZID=America/New_York:20260524T130000
DTEND;TZID=America/New_York:20260524T153000
DTSTAMP:20260421T143411
CREATED:20260407T192141Z
LAST-MODIFIED:20260407T192141Z
UID:40621-1779627600-1779636600@www.unitedskates.com
SUMMARY:SpongeBob Skate Party
DESCRIPTION:
URL:https://www.unitedskates.com/skate-zone-71/event/spongebob-skate-party-2/
LOCATION:Skate Zone 71\, 4900 Evanswood Ddr.\, Columbus\, OH\, 43229\, United States
CATEGORIES:Public Skates,Special Events
ATTACH;FMTTYPE=image/png:https://unitedskates-assets.sfo3.digitaloceanspaces.com/wp-content/uploads/sites/7/2026/04/5.24-Bikini-Bottom-Under-the-Sea-Luau.png
END:VEVENT
BEGIN:VEVENT
DTSTART;TZID=America/New_York:20260524T160000
DTEND;TZID=America/New_York:20260524T190000
DTSTAMP:20260421T143411
CREATED:20250807T165024Z
LAST-MODIFIED:20260330T210224Z
UID:38480-1779638400-1779649200@www.unitedskates.com
SUMMARY:Public Skating and Birthdays
DESCRIPTION:Public Skating and Birthdays\nSundays | 4:00 PM – 7:00 PM \nBring your friends\, family\, or just your good vibes! \n🎟️ Admission: $13.00 \n🛼 Skate Rental: $6.00 \nPURCHASE TICKETS HERE! \n⏰ Session Times: Begin and end at the posted start & end time—no stayovers allowed. \n🚨 Important Info: \n\nAll guests ages 3-17 must pay admission & skate rental (or bring their own skates).\nNon-skating adults may enter at no charge.\nOnline waiver required for all adults and children entering the building. Click here to fill it out. Please have your signed waiver ready to show at check-in to make the process quick and easy. Effective 10/11/2024\n\n🎉 Birthday Parties available—CLICK HERE\n💡 Looking for a fun group event to earn money?—Click here for more info
URL:https://www.unitedskates.com/skate-zone-71/event/public-skating-and-birthdays-9/2026-05-24/
LOCATION:Skate Zone 71\, 4900 Evanswood Ddr.\, Columbus\, OH\, 43229\, United States
CATEGORIES:Public Skates
ATTACH;FMTTYPE=image/jpeg:https://unitedskates-assets.sfo3.digitaloceanspaces.com/wp-content/uploads/sites/7/2024/11/Public-Skate.jpg
END:VEVENT
BEGIN:VEVENT
DTSTART;TZID=America/New_York:20260524T200000
DTEND;TZID=America/New_York:20260525T000000
DTSTAMP:20260421T143411
CREATED:20260407T193305Z
LAST-MODIFIED:20260409T211136Z
UID:40630-1779652800-1779667200@www.unitedskates.com
SUMMARY:Grill Giveaway Memorial Adult Skate
DESCRIPTION:Grill Giveaway Memorial Adult Skate 18+\nSunday May 24th \n8:00PM – 12:00AM \nAdmission: $13.00 (Includes One Raffle Ticket)\nSkate Rental: $6.00\nNon-Skating Adults: $19.00 \nAdditional Raffle Tickets can be purchased for $2/Ticket\nWinner MUST be PRESENT to claim \nPURCHASE TICKETS IN ADVANCE! \n🚨 Important Info:🚨\nAdult Skates are for Guests Ages 18+ Only with Valid Photo ID Check\nOnline waiver required all Skating Individuals Must Fill Out The Skating Waiver. Signed Waivers Must Be Shown At Admissions Before Entry\, Download The Confirmation And Have It Ready To Keep The Check In Process Smooth!
URL:https://www.unitedskates.com/skate-zone-71/event/grill-giveaway-memorial-adult-skate/
LOCATION:Skate Zone 71\, 4900 Evanswood Ddr.\, Columbus\, OH\, 43229\, United States
CATEGORIES:Public Skates,Special Events
ATTACH;FMTTYPE=image/png:https://unitedskates-assets.sfo3.digitaloceanspaces.com/wp-content/uploads/sites/7/2026/04/5.24-Memorial-Day-Great-Grill-Giveaway-Skate.png
END:VEVENT
END:VCALENDAR