BEGIN:VCALENDAR
VERSION:2.0
PRODID:-//Rink 2 - Skate Zone 71 - ECPv6.15.20//NONSGML v1.0//EN
CALSCALE:GREGORIAN
METHOD:PUBLISH
X-ORIGINAL-URL:https://www.unitedskates.com/skate-zone-71
X-WR-CALDESC:Events for Rink 2 - Skate Zone 71
REFRESH-INTERVAL;VALUE=DURATION:PT1H
X-Robots-Tag:noindex
X-PUBLISHED-TTL:PT1H
BEGIN:VTIMEZONE
TZID:America/New_York
BEGIN:DAYLIGHT
TZOFFSETFROM:-0500
TZOFFSETTO:-0400
TZNAME:EDT
DTSTART:20250309T070000
END:DAYLIGHT
BEGIN:STANDARD
TZOFFSETFROM:-0400
TZOFFSETTO:-0500
TZNAME:EST
DTSTART:20251102T060000
END:STANDARD
BEGIN:DAYLIGHT
TZOFFSETFROM:-0500
TZOFFSETTO:-0400
TZNAME:EDT
DTSTART:20260308T070000
END:DAYLIGHT
BEGIN:STANDARD
TZOFFSETFROM:-0400
TZOFFSETTO:-0500
TZNAME:EST
DTSTART:20261101T060000
END:STANDARD
BEGIN:DAYLIGHT
TZOFFSETFROM:-0500
TZOFFSETTO:-0400
TZNAME:EDT
DTSTART:20270314T070000
END:DAYLIGHT
BEGIN:STANDARD
TZOFFSETFROM:-0400
TZOFFSETTO:-0500
TZNAME:EST
DTSTART:20271107T060000
END:STANDARD
END:VTIMEZONE
BEGIN:VEVENT
DTSTART;VALUE=DATE:20260116
DTEND;VALUE=DATE:20260121
DTSTAMP:20260421T184223
CREATED:20251201T175228Z
LAST-MODIFIED:20251201T175228Z
UID:39756-1768539600-1768885199@www.unitedskates.com
SUMMARY:Dr. MLK Jr. Weekend Skating
DESCRIPTION:🛼❄️Dr. MLK Jr. Weekend Skating❄️🛼\nSchool’s out — time to roll into winter fun! Bring your friends and family to our Dr. MLK Jr. Weekend Skating Sessions for cool tunes\, hot games\, and nonstop fun on wheels! \nCHECK THE SCHEDULE FOR TIMES & THEMES! \nPURCHASE TICKETS HERE! \nBIRTHDAY PARTIES AVAILABLE! \n⏰ Session Times: Begin and end at the posted start & end time—no stayovers allowed. \n🚨 Important Info: \n\nAll guests ages 3-17 must pay admission & skate rental (or bring their own skates).\nNon-skating adults may enter at no charge.\nOnline waiver required for all adults and children entering the building. Click here to fill it out. Please have your signed waiver ready to show at check-in to make the process quick and easy.
URL:https://www.unitedskates.com/skate-zone-71/event/dr-mlk-jr-weekend-skating-2/
LOCATION:Skate Zone 71\, 4900 Evanswood Ddr.\, Columbus\, OH\, 43229\, United States
CATEGORIES:Public Skates,Special Events
ATTACH;FMTTYPE=image/png:https://unitedskates-assets.sfo3.digitaloceanspaces.com/wp-content/uploads/sites/7/2025/12/Dr.-MLK-Jr.-Roller-Skate-Weekend.png
END:VEVENT
BEGIN:VEVENT
DTSTART;TZID=America/New_York:20260119T110000
DTEND;TZID=America/New_York:20260119T140000
DTSTAMP:20260421T184223
CREATED:20251201T175856Z
LAST-MODIFIED:20251216T183737Z
UID:39782-1768820400-1768831200@www.unitedskates.com
SUMMARY:Dr. MLK Jr. Day Skating
DESCRIPTION:Dr. MLK Jr. Day Skating\nMonday January 19th 11:00 AM – 2:00 PM \nWhen the school doors close for the day\, the rink opens wide with a warm\, lively welcome. Wheels hum\, music lifts the room\, and the whole place feels like a holiday exhale. \nStopping by the first session? Enjoy Half Off Admission before 12pm! \nAdmission: $13.00Skate Rental: $6.00 \nPURCHASE TICKETS HERE! \nBIRTHDAY PARTIES AVAILABLE! \n⏰ Session Times: Begin and end at the posted start & end time—no stayovers allowed. \n🚨 Important Info: \n\nAll guests ages 3-17 must pay admission & skate rental (or bring their own skates).\nNon-skating adults may enter at no charge.\nOnline waiver required for all adults and children entering the building. Click here to fill it out. Please have your signed waiver ready to show at check-in to make the process quick and easy.\nAll Sales Final.
URL:https://www.unitedskates.com/skate-zone-71/event/dr-mlk-jr-day-skating/
LOCATION:Skate Zone 71\, 4900 Evanswood Ddr.\, Columbus\, OH\, 43229\, United States
CATEGORIES:Public Skates,Special Events
ATTACH;FMTTYPE=image/png:https://unitedskates-assets.sfo3.digitaloceanspaces.com/wp-content/uploads/sites/7/2025/12/1.19-Dr.-MLK-Jr.-Day-Skate.png
END:VEVENT
BEGIN:VEVENT
DTSTART;TZID=America/New_York:20260119T150000
DTEND;TZID=America/New_York:20260119T173000
DTSTAMP:20260421T184223
CREATED:20251216T183955Z
LAST-MODIFIED:20251216T183956Z
UID:39841-1768834800-1768843800@www.unitedskates.com
SUMMARY:Dr. MLK Jr. Day Skating
DESCRIPTION:Dr. MLK Jr. Day Skating\nMonday January 19th | 3:00 PM – 5:30 PM \nWhen the school doors close for the day\, the rink opens wide with a warm\, lively welcome. Wheels hum\, music lifts the room\, and the whole place feels like a holiday exhale. \nAdmission: $13.00Skate Rental: $6.00 \nPURCHASE TICKETS HERE! \nBIRTHDAY PARTIES AVAILABLE! \n⏰ Session Times: Begin and end at the posted start & end time—no stayovers allowed. \n🚨 Important Info: \n\nAll guests ages 3-17 must pay admission & skate rental (or bring their own skates).\nNon-skating adults may enter at no charge.\nOnline waiver required for all adults and children entering the building. Click here to fill it out. Please have your signed waiver ready to show at check-in to make the process quick and easy.\nAll Sales Final.
URL:https://www.unitedskates.com/skate-zone-71/event/dr-mlk-jr-day-skating-2/
LOCATION:Skate Zone 71\, 4900 Evanswood Ddr.\, Columbus\, OH\, 43229\, United States
CATEGORIES:Public Skates,Special Events
ATTACH;FMTTYPE=image/png:https://unitedskates-assets.sfo3.digitaloceanspaces.com/wp-content/uploads/sites/7/2025/12/1.19-Dr.-MLK-Jr.-Day-Skate.png
END:VEVENT
BEGIN:VEVENT
DTSTART;TZID=America/New_York:20260119T180000
DTEND;TZID=America/New_York:20260119T203000
DTSTAMP:20260421T184223
CREATED:20251216T184228Z
LAST-MODIFIED:20251216T184229Z
UID:39843-1768845600-1768854600@www.unitedskates.com
SUMMARY:Dr. MLK Jr. Day Skating
DESCRIPTION:Dr. MLK Jr. Day Skating\nMonday January 19th | 6:00 PM – 8:30 PM \nSchool’s out\, the arcade is on\, and the rink is calling! Half Credit Arcade Games between 7:30pm – 8:30pm! \nAdmission: $13.00Skate Rental: $6.00 \nPURCHASE TICKETS HERE! \nBIRTHDAY PARTIES AVAILABLE! \n⏰ Session Times: Begin and end at the posted start & end time—no stayovers allowed. \n🚨 Important Info: \n\nAll guests ages 3-17 must pay admission & skate rental (or bring their own skates).\nNon-skating adults may enter at no charge.\nOnline waiver required for all adults and children entering the building. Click here to fill it out. Please have your signed waiver ready to show at check-in to make the process quick and easy.\nAll Sales Final.
URL:https://www.unitedskates.com/skate-zone-71/event/dr-mlk-jr-day-skating-3/
LOCATION:Skate Zone 71\, 4900 Evanswood Ddr.\, Columbus\, OH\, 43229\, United States
CATEGORIES:Public Skates,Special Events
ATTACH;FMTTYPE=image/png:https://unitedskates-assets.sfo3.digitaloceanspaces.com/wp-content/uploads/sites/7/2025/12/1.19-Dr.-MLK-Jr.-Day-Skate.png
END:VEVENT
END:VCALENDAR