BEGIN:VCALENDAR
VERSION:2.0
PRODID:-//Rink 2 - Skate Zone 71 - ECPv6.15.20//NONSGML v1.0//EN
CALSCALE:GREGORIAN
METHOD:PUBLISH
X-WR-CALNAME:Rink 2 - Skate Zone 71
X-ORIGINAL-URL:https://www.unitedskates.com/skate-zone-71
X-WR-CALDESC:Events for Rink 2 - Skate Zone 71
REFRESH-INTERVAL;VALUE=DURATION:PT1H
X-Robots-Tag:noindex
X-PUBLISHED-TTL:PT1H
BEGIN:VTIMEZONE
TZID:America/New_York
BEGIN:DAYLIGHT
TZOFFSETFROM:-0500
TZOFFSETTO:-0400
TZNAME:EDT
DTSTART:20240310T070000
END:DAYLIGHT
BEGIN:STANDARD
TZOFFSETFROM:-0400
TZOFFSETTO:-0500
TZNAME:EST
DTSTART:20241103T060000
END:STANDARD
BEGIN:DAYLIGHT
TZOFFSETFROM:-0500
TZOFFSETTO:-0400
TZNAME:EDT
DTSTART:20250309T070000
END:DAYLIGHT
BEGIN:STANDARD
TZOFFSETFROM:-0400
TZOFFSETTO:-0500
TZNAME:EST
DTSTART:20251102T060000
END:STANDARD
BEGIN:DAYLIGHT
TZOFFSETFROM:-0500
TZOFFSETTO:-0400
TZNAME:EDT
DTSTART:20260308T070000
END:DAYLIGHT
BEGIN:STANDARD
TZOFFSETFROM:-0400
TZOFFSETTO:-0500
TZNAME:EST
DTSTART:20261101T060000
END:STANDARD
END:VTIMEZONE
BEGIN:VEVENT
DTSTART;TZID=America/New_York:20251030T170000
DTEND;TZID=America/New_York:20251030T200000
DTSTAMP:20260423T005734
CREATED:20250910T172954Z
LAST-MODIFIED:20251030T190806Z
UID:38905-1761843600-1761854400@www.unitedskates.com
SUMMARY:🎃🍬3rd Annual Skate & Treat🍬🎃
DESCRIPTION:RESERVATIONS CURRENTLY CLOSED! \n✨Urban One & Skate Zone 71 present✨\nThursday October 30th | 5:00 PM – 8:00 PM \nJoin us for a clean\, fun\, friendly & safe trick-or-treat skate party! Come dressed in your best costumes\, visit our Treat Stations\, and enjoy a spooky skate session on the rink! \nRESERVATIONS CURRENTLY CLOSED! \nURBAN ONE as DJ ALL SESSION! \n⏰ Session Times: Begin and end at the posted start & end time—no stayovers allowed. \n🚨 Important Info: \n\nAll Free Guests ages 3-17 must be registered for this event.\nNon-Skating Adults may enter at no charge\, Admission including Skate Rental available at $6 for Skating Adults (18+)\nOnline waiver required for all Skating Individuals (Adults & Parents of Children Skating) Must Fill Out The Skating Waiver. Signed Waivers Must Be Shown At Admissions Before Entry\, Download the Confirmation And Have It Ready To Keep The Check In Process Smooth! Effective 10/11/2024
URL:https://www.unitedskates.com/skate-zone-71/event/%f0%9f%8e%83%f0%9f%8d%ac3rd-annual-skate-treat%f0%9f%8d%ac%f0%9f%8e%83/
LOCATION:Skate Zone 71\, 4900 Evanswood Ddr.\, Columbus\, OH\, 43229\, United States
CATEGORIES:Public Skates,Special Events
ATTACH;FMTTYPE=image/jpeg:https://unitedskates-assets.sfo3.digitaloceanspaces.com/wp-content/uploads/sites/7/2025/09/OH24-025-Halloween-Skate-and-Treat-event-cover-scaled.jpg
END:VEVENT
END:VCALENDAR