BEGIN:VCALENDAR
VERSION:2.0
PRODID:-//Rink 2 - Skate Zone 71 - ECPv6.15.20//NONSGML v1.0//EN
CALSCALE:GREGORIAN
METHOD:PUBLISH
X-ORIGINAL-URL:https://www.unitedskates.com/skate-zone-71
X-WR-CALDESC:Events for Rink 2 - Skate Zone 71
REFRESH-INTERVAL;VALUE=DURATION:PT1H
X-Robots-Tag:noindex
X-PUBLISHED-TTL:PT1H
BEGIN:VTIMEZONE
TZID:America/New_York
BEGIN:DAYLIGHT
TZOFFSETFROM:-0500
TZOFFSETTO:-0400
TZNAME:EDT
DTSTART:20240310T070000
END:DAYLIGHT
BEGIN:STANDARD
TZOFFSETFROM:-0400
TZOFFSETTO:-0500
TZNAME:EST
DTSTART:20241103T060000
END:STANDARD
BEGIN:DAYLIGHT
TZOFFSETFROM:-0500
TZOFFSETTO:-0400
TZNAME:EDT
DTSTART:20250309T070000
END:DAYLIGHT
BEGIN:STANDARD
TZOFFSETFROM:-0400
TZOFFSETTO:-0500
TZNAME:EST
DTSTART:20251102T060000
END:STANDARD
BEGIN:DAYLIGHT
TZOFFSETFROM:-0500
TZOFFSETTO:-0400
TZNAME:EDT
DTSTART:20260308T070000
END:DAYLIGHT
BEGIN:STANDARD
TZOFFSETFROM:-0400
TZOFFSETTO:-0500
TZNAME:EST
DTSTART:20261101T060000
END:STANDARD
END:VTIMEZONE
BEGIN:VEVENT
DTSTART;TZID=America/New_York:20251020T120000
DTEND;TZID=America/New_York:20251020T150000
DTSTAMP:20260422T205451
CREATED:20250910T191404Z
LAST-MODIFIED:20250910T191404Z
UID:38992-1760961600-1760972400@www.unitedskates.com
SUMMARY:School's Out Skate
DESCRIPTION:School’s Out Skate\nMonday October 20th | 12:00 PM – 3:00 PM \nNo School – Come Skate With Us!! We’ve got a daytime session for everyone that needs something fun to do while school is out! \n🎟️ Admission: $5.00 \n🛼 Skate Rental: $6.00 \nPURCHASE TICKETS HERE!\nImportant Info: \n\nAll guests ages 3-17 must pay admission & skate rental (or bring their own skates).\nNon-skating adults may enter at no charge.\nOnline waiver required for all Skating Individuals (Adults & Parents of Children Skating) Must Fill Out The Skating Waiver. Signed Waivers Must Be Shown At Admissions Before Entry\, Download the Confirmation And Have It Ready To Keep The Check In Process Smooth! Effective 10/11/2024\n\n⏰ Session Times: Begin and end at the posted start & end time—no stayovers allowed. \n🎉 Birthday Parties available – CLICK HERE
URL:https://www.unitedskates.com/skate-zone-71/event/schools-out-skate-6/
LOCATION:Skate Zone 71\, 4900 Evanswood Ddr.\, Columbus\, OH\, 43229\, United States
CATEGORIES:Public Skates,Special Events
ATTACH;FMTTYPE=image/png:https://unitedskates-assets.sfo3.digitaloceanspaces.com/wp-content/uploads/sites/7/2025/09/10.20-School-Is-Out-Flyer.png
END:VEVENT
BEGIN:VEVENT
DTSTART;TZID=America/New_York:20251020T180000
DTEND;TZID=America/New_York:20251020T203000
DTSTAMP:20260422T205451
CREATED:20250924T204050Z
LAST-MODIFIED:20250924T204435Z
UID:39167-1760983200-1760992200@www.unitedskates.com
SUMMARY:Public Skate and Birthday Parties
DESCRIPTION:🛼🎶 Gospel Skate; Bounce & Skate  🎶🛼Monday\, October 20th\, 2025 | 6:00 PM – 8:30 PM \nJoin us for an uplifting evening of skating to all Gospel & Christian music – this session only! 🙌Whether you’re bringing the family\, your youth group\, or your church crew\, it’s a celebration of faith\, fun\, and fellowship on wheels. \n🎟️ Admission: $13.00 *includes unlimited Bounce house access🛼 Skate Rental: $6.00🎉 Group Rates & Fundraising Available (10+) Contact our sales team today for more information at #614-846-5626 or jjones@usa-skating.com \n👉 PURCHASE TICKETS HERE! \n⏰ Session starts and ends promptly at the posted time. No stayovers allowed. \n\n🚨 Important Info: \n\n\nAll guests ages 3–17 must pay admission & rental (or bring their own skates). \n\n\nNon-skating adults may enter at no charge. \n\n\nAn online waiver is required for everyone entering the building. [Click here to fill it out.]Have your signed waiver ready at check-in to speed up the process. (Policy effective 10/11/2024) \n\n\n\n🎉 Birthday Parties? [CLICK HERE]💡 Want to fundraise with us? [Click here for more info] \nLet’s roll in faith and fellowship this summer — see you on the rink! 🙏🛼✨
URL:https://www.unitedskates.com/skate-zone-71/event/public-skate-birthday-parties-3/
LOCATION:Skate Zone 71\, 4900 Evanswood Ddr.\, Columbus\, OH\, 43229\, United States
CATEGORIES:Family Events,Public Skates,Special Events
ATTACH;FMTTYPE=image/jpeg:https://unitedskates-assets.sfo3.digitaloceanspaces.com/wp-content/uploads/sites/7/2025/09/Bounce-and-Roll-Gospel-Skate.jpg
END:VEVENT
END:VCALENDAR