BEGIN:VCALENDAR
VERSION:2.0
PRODID:-//Rink 2 - Skate Zone 71 - ECPv6.15.20//NONSGML v1.0//EN
CALSCALE:GREGORIAN
METHOD:PUBLISH
X-WR-CALNAME:Rink 2 - Skate Zone 71
X-ORIGINAL-URL:https://www.unitedskates.com/skate-zone-71
X-WR-CALDESC:Events for Rink 2 - Skate Zone 71
REFRESH-INTERVAL;VALUE=DURATION:PT1H
X-Robots-Tag:noindex
X-PUBLISHED-TTL:PT1H
BEGIN:VTIMEZONE
TZID:America/New_York
BEGIN:DAYLIGHT
TZOFFSETFROM:-0500
TZOFFSETTO:-0400
TZNAME:EDT
DTSTART:20240310T070000
END:DAYLIGHT
BEGIN:STANDARD
TZOFFSETFROM:-0400
TZOFFSETTO:-0500
TZNAME:EST
DTSTART:20241103T060000
END:STANDARD
BEGIN:DAYLIGHT
TZOFFSETFROM:-0500
TZOFFSETTO:-0400
TZNAME:EDT
DTSTART:20250309T070000
END:DAYLIGHT
BEGIN:STANDARD
TZOFFSETFROM:-0400
TZOFFSETTO:-0500
TZNAME:EST
DTSTART:20251102T060000
END:STANDARD
BEGIN:DAYLIGHT
TZOFFSETFROM:-0500
TZOFFSETTO:-0400
TZNAME:EDT
DTSTART:20260308T070000
END:DAYLIGHT
BEGIN:STANDARD
TZOFFSETFROM:-0400
TZOFFSETTO:-0500
TZNAME:EST
DTSTART:20261101T060000
END:STANDARD
END:VTIMEZONE
BEGIN:VEVENT
DTSTART;TZID=America/New_York:20250929T180000
DTEND;TZID=America/New_York:20250929T203000
DTSTAMP:20260423T035356
CREATED:20250716T154035Z
LAST-MODIFIED:20250716T154036Z
UID:38098-1759168800-1759177800@www.unitedskates.com
SUMMARY:Public Skate and Birthdays; Gospel Skate
DESCRIPTION:🛼🎶 Gospel Skate at Skate Zone 71 🎶🛼Monday\, September 29th\, 2025 | 6:00 PM – 8:30 PM \nJoin us for an uplifting evening of skating to all Gospel & Christian music – this session only! 🙌Whether you’re bringing the family\, your youth group\, or your church crew\, it’s a celebration of faith\, fun\, and fellowship on wheels. \n🎟️ Admission: $13.00🛼 Skate Rental: $6.00🎉 Group Rates & Fundraising Available (10+) Contact our sales team today for more information at #614-846-5626 or jjones@usa-skating.com \n👉 PURCHASE TICKETS HERE! \n⏰ Session starts and ends promptly at the posted time. No stayovers allowed. \n\n🚨 Important Info: \n\n\nAll guests ages 3–17 must pay admission & rental (or bring their own skates). \n\n\nNon-skating adults may enter at no charge. \n\n\nAn online waiver is required for everyone entering the building. [Click here to fill it out.]Have your signed waiver ready at check-in to speed up the process. (Policy effective 10/11/2024) \n\n\n\n🎉 Birthday Parties? [CLICK HERE]💡 Want to fundraise with us? [Click here for more info] \nLet’s roll in faith and fellowship this summer — see you on the rink! 🙏🛼✨
URL:https://www.unitedskates.com/skate-zone-71/event/public-skate-and-birthdays-gospel-skate/
LOCATION:Skate Zone 71\, 4900 Evanswood Ddr.\, Columbus\, OH\, 43229\, United States
CATEGORIES:Family Events,Public Skates,Special Events
ATTACH;FMTTYPE=image/jpeg:https://unitedskates-assets.sfo3.digitaloceanspaces.com/wp-content/uploads/sites/7/2025/07/Gospel-skate-flyer092925.jpg
END:VEVENT
END:VCALENDAR