BEGIN:VCALENDAR
VERSION:2.0
PRODID:-//Rink 2 - Skate Zone 71 - ECPv6.15.20//NONSGML v1.0//EN
CALSCALE:GREGORIAN
METHOD:PUBLISH
X-WR-CALNAME:Rink 2 - Skate Zone 71
X-ORIGINAL-URL:https://www.unitedskates.com/skate-zone-71
X-WR-CALDESC:Events for Rink 2 - Skate Zone 71
REFRESH-INTERVAL;VALUE=DURATION:PT1H
X-Robots-Tag:noindex
X-PUBLISHED-TTL:PT1H
BEGIN:VTIMEZONE
TZID:America/New_York
BEGIN:DAYLIGHT
TZOFFSETFROM:-0500
TZOFFSETTO:-0400
TZNAME:EDT
DTSTART:20240310T070000
END:DAYLIGHT
BEGIN:STANDARD
TZOFFSETFROM:-0400
TZOFFSETTO:-0500
TZNAME:EST
DTSTART:20241103T060000
END:STANDARD
BEGIN:DAYLIGHT
TZOFFSETFROM:-0500
TZOFFSETTO:-0400
TZNAME:EDT
DTSTART:20250309T070000
END:DAYLIGHT
BEGIN:STANDARD
TZOFFSETFROM:-0400
TZOFFSETTO:-0500
TZNAME:EST
DTSTART:20251102T060000
END:STANDARD
BEGIN:DAYLIGHT
TZOFFSETFROM:-0500
TZOFFSETTO:-0400
TZNAME:EDT
DTSTART:20260308T070000
END:DAYLIGHT
BEGIN:STANDARD
TZOFFSETFROM:-0400
TZOFFSETTO:-0500
TZNAME:EST
DTSTART:20261101T060000
END:STANDARD
END:VTIMEZONE
BEGIN:VEVENT
DTSTART;TZID=America/New_York:20250927T100000
DTEND;TZID=America/New_York:20250927T110000
DTSTAMP:20260422T223508
CREATED:20250127T182133Z
LAST-MODIFIED:20250807T172550Z
UID:37247-1758967200-1758970800@www.unitedskates.com
SUMMARY:Roller Skating Lessons
DESCRIPTION:🎉 Every Saturday Morning! 🎉 \n🕙 10:00 AM – 11:00 AM\n✨ Join Our Public Learn to Skate Program! ✨\n💰 $15 Admission Includes: \n\n🛼 Group Lesson\n🎟️ Admission\n👟 Skate Rental\n\n👶 All Ages Welcome!\n❌ No Reservations Necessary!\n📋 Assessments will be made at arrival for group learning. \nCLICK HERE TO PURCHASE PUBLIC LESSON TICKETS! \n➡️ Stay Over for just $5.50 and enjoy the 11:00 AM – 1:00 PM session! \n*Private Lessons will be unavailable during Summer*
URL:https://www.unitedskates.com/skate-zone-71/event/roller-skating-lessons/2025-09-27/
LOCATION:Skate Zone 71\, 4900 Evanswood Ddr.\, Columbus\, OH\, 43229\, United States
CATEGORIES:Family Events,Public Skates
ATTACH;FMTTYPE=image/jpeg:https://unitedskates-assets.sfo3.digitaloceanspaces.com/wp-content/uploads/sites/7/2025/01/302425029_10158796290955736_5631829807259739703_n.jpg
END:VEVENT
BEGIN:VEVENT
DTSTART;TZID=America/New_York:20250927T133000
DTEND;TZID=America/New_York:20250927T160000
DTSTAMP:20260422T223508
CREATED:20250807T171553Z
LAST-MODIFIED:20250807T171554Z
UID:38500-1758979800-1758988800@www.unitedskates.com
SUMMARY:Fall Festival
DESCRIPTION:Fall Festival\nSaturday September 27th | 1:30 PM – 4:00 PM \nIt’s our fantastic Fall Festival complete with special visit by Skato\, Carnival Raffle\, Face Painting\, Skating Fun & MORE! \n🎟️ Admission: $13.00 includes One Raffle Ticket for Family Four Pack Raffle \n🛼 Skate Rental: $6.00 \nPURCHASE TICKETS HERE! \n⏰ Session Times: Begin and end at the posted start & end time—no stayovers allowed. \n🚨 Important Info: \n\nAll guests ages 3-17 must pay admission & skate rental (or bring their own skates).\nNon-skating adults may enter at no charge.\nOnline waiver required for all adults and children entering the building. Click here to fill it out. Please have your signed waiver ready to show at check-in to make the process quick and easy. Effective 10/11/2024\n\n🎉 Birthday Parties available—CLICK HERE\n💡 Looking for a fun group event to earn money?—Click here for more info
URL:https://www.unitedskates.com/skate-zone-71/event/fall-festival-2/
LOCATION:Skate Zone 71\, 4900 Evanswood Ddr.\, Columbus\, OH\, 43229\, United States
CATEGORIES:Public Skates,Special Events
ATTACH;FMTTYPE=image/png:https://unitedskates-assets.sfo3.digitaloceanspaces.com/wp-content/uploads/sites/7/2025/08/9.27-Fall-Festival.png
END:VEVENT
END:VCALENDAR