BEGIN:VCALENDAR
VERSION:2.0
PRODID:-//Rink 2 - Skate Zone 71 - ECPv6.15.20//NONSGML v1.0//EN
CALSCALE:GREGORIAN
METHOD:PUBLISH
X-WR-CALNAME:Rink 2 - Skate Zone 71
X-ORIGINAL-URL:https://www.unitedskates.com/skate-zone-71
X-WR-CALDESC:Events for Rink 2 - Skate Zone 71
REFRESH-INTERVAL;VALUE=DURATION:PT1H
X-Robots-Tag:noindex
X-PUBLISHED-TTL:PT1H
BEGIN:VTIMEZONE
TZID:America/New_York
BEGIN:DAYLIGHT
TZOFFSETFROM:-0500
TZOFFSETTO:-0400
TZNAME:EDT
DTSTART:20240310T070000
END:DAYLIGHT
BEGIN:STANDARD
TZOFFSETFROM:-0400
TZOFFSETTO:-0500
TZNAME:EST
DTSTART:20241103T060000
END:STANDARD
BEGIN:DAYLIGHT
TZOFFSETFROM:-0500
TZOFFSETTO:-0400
TZNAME:EDT
DTSTART:20250309T070000
END:DAYLIGHT
BEGIN:STANDARD
TZOFFSETFROM:-0400
TZOFFSETTO:-0500
TZNAME:EST
DTSTART:20251102T060000
END:STANDARD
BEGIN:DAYLIGHT
TZOFFSETFROM:-0500
TZOFFSETTO:-0400
TZNAME:EDT
DTSTART:20260308T070000
END:DAYLIGHT
BEGIN:STANDARD
TZOFFSETFROM:-0400
TZOFFSETTO:-0500
TZNAME:EST
DTSTART:20261101T060000
END:STANDARD
END:VTIMEZONE
BEGIN:VEVENT
DTSTART;TZID=America/New_York:20250425T133000
DTEND;TZID=America/New_York:20250425T160000
DTSTAMP:20260424T112740
CREATED:20250228T202308Z
LAST-MODIFIED:20250303T160143Z
UID:35999-1745587800-1745596800@www.unitedskates.com
SUMMARY:Fire ‘Til You Tire
DESCRIPTION:🌷Spring Break at Skate Zone 71🌷\nBring your friends and family in during these sessions to experience Lazer Craze the right way – each admission earns two FREE games of laser tag!! 😮\nFAMILY TOP 40/POP\n1:30PM – 4:00PM\n\nAdmission: $13.00\nSkate Rental: $6.00\n\nPURCHASE TICKETS HERE! \nTOP 40 POP\n⏰ Session Times: Begin and end at the posted start & end time—no stayovers allowed. \n💥 Daytime Group Rates available for parties of 10+—CLICK HERE FOR RESERVATIONS\n🎉 Birthday Parties available—CLICK HERE TO BOOK \n🚨 Important Info: \n\nAll guests ages 3-17 must pay admission & skate rental (or bring their own skates).\nNon-skating Adults may enter at no charge.\nOnline waiver required for all adults and children entering the building. Click HERE to fill it out. Please have your signed waiver ready to show at check-in to make the process quick and easy. Effective 10/11/2024
URL:https://www.unitedskates.com/skate-zone-71/event/fire-til-you-tire-2/
LOCATION:Skate Zone 71\, 4900 Evanswood Ddr.\, Columbus\, OH\, 43229\, United States
CATEGORIES:Public Skates,Special Events
ATTACH;FMTTYPE=image/png:https://unitedskates-assets.sfo3.digitaloceanspaces.com/wp-content/uploads/sites/7/2025/02/4.25-OH25-007-Fire-Til-You-Tire-Flyer.png
END:VEVENT
END:VCALENDAR