BEGIN:VCALENDAR
VERSION:2.0
PRODID:-//Rink 2 - Skate Zone 71 - ECPv6.15.20//NONSGML v1.0//EN
CALSCALE:GREGORIAN
METHOD:PUBLISH
X-WR-CALNAME:Rink 2 - Skate Zone 71
X-ORIGINAL-URL:https://www.unitedskates.com/skate-zone-71
X-WR-CALDESC:Events for Rink 2 - Skate Zone 71
REFRESH-INTERVAL;VALUE=DURATION:PT1H
X-Robots-Tag:noindex
X-PUBLISHED-TTL:PT1H
BEGIN:VTIMEZONE
TZID:America/New_York
BEGIN:DAYLIGHT
TZOFFSETFROM:-0500
TZOFFSETTO:-0400
TZNAME:EDT
DTSTART:20240310T070000
END:DAYLIGHT
BEGIN:STANDARD
TZOFFSETFROM:-0400
TZOFFSETTO:-0500
TZNAME:EST
DTSTART:20241103T060000
END:STANDARD
BEGIN:DAYLIGHT
TZOFFSETFROM:-0500
TZOFFSETTO:-0400
TZNAME:EDT
DTSTART:20250309T070000
END:DAYLIGHT
BEGIN:STANDARD
TZOFFSETFROM:-0400
TZOFFSETTO:-0500
TZNAME:EST
DTSTART:20251102T060000
END:STANDARD
BEGIN:DAYLIGHT
TZOFFSETFROM:-0500
TZOFFSETTO:-0400
TZNAME:EDT
DTSTART:20260308T070000
END:DAYLIGHT
BEGIN:STANDARD
TZOFFSETFROM:-0400
TZOFFSETTO:-0500
TZNAME:EST
DTSTART:20261101T060000
END:STANDARD
END:VTIMEZONE
BEGIN:VEVENT
DTSTART;VALUE=DATE:20250418
DTEND;VALUE=DATE:20250424
DTSTAMP:20260424T112744
CREATED:20250211T164530Z
LAST-MODIFIED:20250408T171501Z
UID:35837-1744952400-1745384399@www.unitedskates.com
SUMMARY:🌷Spring Break Skating🌷
DESCRIPTION:☀️Get ready to roll into fun this Spring Break!☀️\nWhether you’re a pro or just getting started\, grab your skates and join us for epic daytime and evening sessions!!\nCHECK OUT THE FULL SCHEDULE HERE!\nBIRTHDAY PARTIES AVAILABLE – CLICK HERE\n  \nALL CHILDREN AGES 3-17 MUST PAY ADMISSION & ROLLER SKATE RENTAL (OR BRING THEIR OWN SKATES)\nNON-SKATING ADULTS MAY ENTER AT NO CHARGE\nALL SKATING INDIVIDUALS (ADULTS & PARENTS OF CHILDREN SKATING) MUST FILL OUT THE SKATING WAIVER. SIGNED WAIVERS MUST BE SHOWN AT ADMISSIONS BEFORE ENTRY\, HAVE IT READY TO KEEP THE CHECK IN PROCESS SMOOTH!   EFFECTIVE 10/11/2024
URL:https://www.unitedskates.com/skate-zone-71/event/%f0%9f%8c%b7spring-break-skating%f0%9f%8c%b7/
LOCATION:Skate Zone 71\, 4900 Evanswood Ddr.\, Columbus\, OH\, 43229\, United States
CATEGORIES:Public Skates,Special Events
ATTACH;FMTTYPE=image/jpeg:https://unitedskates-assets.sfo3.digitaloceanspaces.com/wp-content/uploads/sites/7/2025/04/Spring-2nd-Break-2025-Calendar-Front-rink-2.jpg
END:VEVENT
BEGIN:VEVENT
DTSTART;TZID=America/New_York:20250418T110000
DTEND;TZID=America/New_York:20250418T130000
DTSTAMP:20260424T112744
CREATED:20250227T190733Z
LAST-MODIFIED:20250227T190733Z
UID:35965-1744974000-1744981200@www.unitedskates.com
SUMMARY:Donuts with The Easter Bunny!
DESCRIPTION:🌷Spring Skating at Skate Zone 71🌷\nJoin us Friday April 18th & Saturday April 19th for a fun morning session with a special guest\, the Easter Bunny!!\nEach Paid Admission receives a special donut treat from the cafe!\n11:00AM – 1:00PM\n\nAdmission: $13.00\nSkate Rental: $6.00\nSESSION TICKETS AVAILABLE HERE!\n\nTop 40 Pop & Disney Hits\n⏰ Session Times: Begin and end at the posted start & end time—no stayovers allowed. \n🚨 Important Info: \n\nAll guests ages 3-17 must pay admission & skate rental (or bring their own skates).\nNon-skating adults may enter at no charge.\nOnline waiver required for all adults and children entering the building. Click here to fill it out. Please have your signed waiver ready to show at check-in to make the process quick and easy. Effective 10/11/2024\n\n🎉 Birthday Parties available—CLICK HERE
URL:https://www.unitedskates.com/skate-zone-71/event/donuts-with-the-easter-bunny/2025-04-18/
LOCATION:Skate Zone 71\, 4900 Evanswood Ddr.\, Columbus\, OH\, 43229\, United States
CATEGORIES:Public Skates,Special Events
ATTACH;FMTTYPE=image/png:https://unitedskates-assets.sfo3.digitaloceanspaces.com/wp-content/uploads/sites/7/2025/02/4.18-19-Donuts-with-the-Easter-Bunny-2025.png
END:VEVENT
BEGIN:VEVENT
DTSTART;TZID=America/New_York:20250418T133000
DTEND;TZID=America/New_York:20250418T160000
DTSTAMP:20260424T112744
CREATED:20250227T192455Z
LAST-MODIFIED:20250303T155113Z
UID:35970-1744983000-1744992000@www.unitedskates.com
SUMMARY:Spring Break Carnival
DESCRIPTION:🌷Spring Skating at Skate Zone 71🌷\nJoin us Friday April 18th for our Spring Carnival!!\nEach Paid Admission includes an All Session Bounce House & Face Painting!\n1:30PM – 4:00PM\n\nAdmission: $13.00\nSkate Rental: $6.00\nSESSION TICKETS AVAILABLE HERE!\n\nTOP 40 POP\n⏰ Session Times: Begin and end at the posted start & end time—no stayovers allowed. \n💥 Daytime Group Rates available for parties of 10+—CLICK HERE FOR RESERVATIONS\n🎉 Birthday Parties available—CLICK HERE TO BOOK \n🚨 Important Info: \n\nAll guests ages 3-17 must pay admission & skate rental (or bring their own skates).\nNon-skating Adults may enter at no charge.\nOnline waiver required for all adults and children entering the building. Click HERE to fill it out. Please have your signed waiver ready to show at check-in to make the process quick and easy. Effective 10/11/2024
URL:https://www.unitedskates.com/skate-zone-71/event/spring-break-carnival/
LOCATION:Skate Zone 71\, 4900 Evanswood Ddr.\, Columbus\, OH\, 43229\, United States
CATEGORIES:Public Skates,Special Events
ATTACH;FMTTYPE=image/png:https://unitedskates-assets.sfo3.digitaloceanspaces.com/wp-content/uploads/sites/7/2025/02/4.18-Spring-Carnival-Skate-2025.png
END:VEVENT
BEGIN:VEVENT
DTSTART;TZID=America/New_York:20250418T183000
DTEND;TZID=America/New_York:20250418T210000
DTSTAMP:20260424T112744
CREATED:20250227T193759Z
LAST-MODIFIED:20250227T193759Z
UID:35973-1745001000-1745010000@www.unitedskates.com
SUMMARY:Glow Bunny Jam Skate
DESCRIPTION:🌷Spring Skating at Skate Zone 71🌷\nJoin us in the evening on Friday April 18th for our annual Bunny Jam Skate\nWe’ll have our cool Glow Bunny visit and make this session an absolute Jam Session!!\n6:30PM – 9:00PM\n\nAdmission: $16.00 includes Skate Rental\, Slice Cheese Pizza & Small Drink\nSESSION TICKETS AVAILABLE HERE!\n\nTop 40 Pop\n⏰ Session Times: Begin and end at the posted start & end time—no stayovers allowed. \n🚨 Important Info: \n\nAll guests ages 3-17 must pay admission & skate rental (or bring their own skates).\nNon-skating adults may enter at no charge.\nOnline waiver required for all adults and children entering the building. Click here to fill it out. Please have your signed waiver ready to show at check-in to make the process quick and easy. Effective 10/11/2024\n\n🎉 Birthday Parties available—CLICK HERE
URL:https://www.unitedskates.com/skate-zone-71/event/glow-bunny-jam-skate/
LOCATION:Skate Zone 71\, 4900 Evanswood Ddr.\, Columbus\, OH\, 43229\, United States
CATEGORIES:Public Skates,Special Events
ATTACH;FMTTYPE=image/png:https://unitedskates-assets.sfo3.digitaloceanspaces.com/wp-content/uploads/sites/7/2025/02/4.18-Glow-Bunny-Jam-2025.png
END:VEVENT
END:VCALENDAR