BEGIN:VCALENDAR
VERSION:2.0
PRODID:-//Rink 2 - Skate Zone 71 - ECPv6.15.20//NONSGML v1.0//EN
CALSCALE:GREGORIAN
METHOD:PUBLISH
X-ORIGINAL-URL:https://www.unitedskates.com/skate-zone-71
X-WR-CALDESC:Events for Rink 2 - Skate Zone 71
REFRESH-INTERVAL;VALUE=DURATION:PT1H
X-Robots-Tag:noindex
X-PUBLISHED-TTL:PT1H
BEGIN:VTIMEZONE
TZID:America/New_York
BEGIN:DAYLIGHT
TZOFFSETFROM:-0500
TZOFFSETTO:-0400
TZNAME:EDT
DTSTART:20240310T070000
END:DAYLIGHT
BEGIN:STANDARD
TZOFFSETFROM:-0400
TZOFFSETTO:-0500
TZNAME:EST
DTSTART:20241103T060000
END:STANDARD
BEGIN:DAYLIGHT
TZOFFSETFROM:-0500
TZOFFSETTO:-0400
TZNAME:EDT
DTSTART:20250309T070000
END:DAYLIGHT
BEGIN:STANDARD
TZOFFSETFROM:-0400
TZOFFSETTO:-0500
TZNAME:EST
DTSTART:20251102T060000
END:STANDARD
BEGIN:DAYLIGHT
TZOFFSETFROM:-0500
TZOFFSETTO:-0400
TZNAME:EDT
DTSTART:20260308T070000
END:DAYLIGHT
BEGIN:STANDARD
TZOFFSETFROM:-0400
TZOFFSETTO:-0500
TZNAME:EST
DTSTART:20261101T060000
END:STANDARD
END:VTIMEZONE
BEGIN:VEVENT
DTSTART;TZID=America/New_York:20250209T130000
DTEND;TZID=America/New_York:20250209T153000
DTSTAMP:20260424T124836
CREATED:20241227T161734Z
LAST-MODIFIED:20241227T164602Z
UID:34259-1739106000-1739115000@www.unitedskates.com
SUMMARY:Puppy Bowl Skate Party
DESCRIPTION:🐶PUPPY BOWL SUNDAY at Skate Zone 71🐶\nGet ready for the ultimate tail-wagging\, fun-filled event! Bring your family\, friends to our Puppy Bowl Skating Party\, where we’ll have the games playing on our screens. Come roll to the best music while you cheer on your favorite champ!\nWear your favorite NFL Jersey to Celebrate the Biggest Football Day of the Year – and receive $2.00 OFF Regular Priced Admission!!\n1PM – 3:30PM\n$13 Admission\n$6 Skate Rental\nPURCHASE TICKETS HERE! \nFAMILY TOP 40\, POP\nBIRTHDAY PARTIES AVAILABLE – CLICK HERE\nALL CHILDREN AGES 3-17 MUST PAY ADMISSION & ROLLER SKATE RENTAL (OR BRING THEIR OWN SKATES)\nNON-SKATING ADULTS MAY ENTER AT NO CHARGE\nALL SKATING INDIVIDUALS (ADULTS & PARENTS OF CHILDREN SKATING) MUST FILL OUT THE SKATING WAIVER. SIGNED WAIVERS MUST BE SHOWN AT ADMISSIONS BEFORE ENTRY\, HAVE IT READY TO KEEP THE CHECK IN PROCESS SMOOTH!   EFFECTIVE 10/11/2024
URL:https://www.unitedskates.com/skate-zone-71/event/puppy-bowl-skate-party/
LOCATION:Skate Zone 71\, 4900 Evanswood Ddr.\, Columbus\, OH\, 43229\, United States
CATEGORIES:Public Skates,Special Events
ATTACH;FMTTYPE=image/png:https://unitedskates-assets.sfo3.digitaloceanspaces.com/wp-content/uploads/sites/7/2024/12/2.9-Puppy-Bowl-Skate-Editable-2025.png
END:VEVENT
BEGIN:VEVENT
DTSTART;TZID=America/New_York:20250209T160000
DTEND;TZID=America/New_York:20250209T190000
DTSTAMP:20260424T124836
CREATED:20241227T164425Z
LAST-MODIFIED:20241227T164728Z
UID:34262-1739116800-1739127600@www.unitedskates.com
SUMMARY:Super Bowl Party
DESCRIPTION:🏈SUPER BOWL SUNDAY at Skate Zone 71🏈\nGet ready to tackle the rink and celebrate the big game like never before! We’ll have the games playing on our screens. Come roll to the best music while you cheer on your favorite champ!\nWear your favorite NFL Jersey to Celebrate the Biggest Football Day of the Year – and receive $2.00 OFF Regular Priced Admission!!\n4PM – 7PM\n$13 Admission\n$6 Skate Rental\nPURCHASE TICKETS HERE! \nFAMILY TOP 40\, POP\nBIRTHDAY PARTIES AVAILABLE – CLICK HERE\nALL CHILDREN AGES 3-17 MUST PAY ADMISSION & ROLLER SKATE RENTAL (OR BRING THEIR OWN SKATES)\nNON-SKATING ADULTS MAY ENTER AT NO CHARGE\nALL SKATING INDIVIDUALS (ADULTS & PARENTS OF CHILDREN SKATING) MUST FILL OUT THE SKATING WAIVER. SIGNED WAIVERS MUST BE SHOWN AT ADMISSIONS BEFORE ENTRY\, HAVE IT READY TO KEEP THE CHECK IN PROCESS SMOOTH!   EFFECTIVE 10/11/2024
URL:https://www.unitedskates.com/skate-zone-71/event/super-bowl-party/
LOCATION:Skate Zone 71\, 4900 Evanswood Ddr.\, Columbus\, OH\, 43229\, United States
CATEGORIES:Public Skates,Special Events
ATTACH;FMTTYPE=image/png:https://unitedskates-assets.sfo3.digitaloceanspaces.com/wp-content/uploads/sites/7/2024/12/2.9-Super-Bowl-Skate-2025.png
END:VEVENT
END:VCALENDAR