BEGIN:VCALENDAR
VERSION:2.0
PRODID:-//Rink 2 - Skate Zone 71 - ECPv6.15.20//NONSGML v1.0//EN
CALSCALE:GREGORIAN
METHOD:PUBLISH
X-ORIGINAL-URL:https://www.unitedskates.com/skate-zone-71
X-WR-CALDESC:Events for Rink 2 - Skate Zone 71
REFRESH-INTERVAL;VALUE=DURATION:PT1H
X-Robots-Tag:noindex
X-PUBLISHED-TTL:PT1H
BEGIN:VTIMEZONE
TZID:America/New_York
BEGIN:DAYLIGHT
TZOFFSETFROM:-0500
TZOFFSETTO:-0400
TZNAME:EDT
DTSTART:20230312T070000
END:DAYLIGHT
BEGIN:STANDARD
TZOFFSETFROM:-0400
TZOFFSETTO:-0500
TZNAME:EST
DTSTART:20231105T060000
END:STANDARD
BEGIN:DAYLIGHT
TZOFFSETFROM:-0500
TZOFFSETTO:-0400
TZNAME:EDT
DTSTART:20240310T070000
END:DAYLIGHT
BEGIN:STANDARD
TZOFFSETFROM:-0400
TZOFFSETTO:-0500
TZNAME:EST
DTSTART:20241103T060000
END:STANDARD
BEGIN:DAYLIGHT
TZOFFSETFROM:-0500
TZOFFSETTO:-0400
TZNAME:EDT
DTSTART:20250309T070000
END:DAYLIGHT
BEGIN:STANDARD
TZOFFSETFROM:-0400
TZOFFSETTO:-0500
TZNAME:EST
DTSTART:20251102T060000
END:STANDARD
END:VTIMEZONE
BEGIN:VEVENT
DTSTART;VALUE=DATE:20240830
DTEND;VALUE=DATE:20240904
DTSTAMP:20260425T074523
CREATED:20240805T160132Z
LAST-MODIFIED:20240805T174326Z
UID:31702-1724994000-1725339599@www.unitedskates.com
SUMMARY:Labor Day Weekend Skating 🛼👷🏻‍♀️👷🏻‍♂️
DESCRIPTION:Come Skate for the Holiday!!\nJoin us for Great Family Sessions all Weekend Long! See Schedule for all Events & Session Times\n🛼Friday Aug 30th 6:30-9:00pm: Roll-in Movie Night – Black Panther Movie🎞️🍿\n🛼Saturday Aug 31st 11:00am-1:00pm: Buckeye Tailgate Skate!🩶❤️\n🛼Sunday Sept 1st 1:00pm-3:30pm: Red\, White & Blue Swiftie Skate❤️🤍💙\n🛼Monday Sept 2nd – LABOR DAY: 12:00-2:30pm\, 3:00-5:30pm and 6:00-8:30pm👷🏻👷🏻‍♂️👷🏻‍♀️
URL:https://www.unitedskates.com/skate-zone-71/event/labor-day-weekend-skating-%f0%9f%9b%bc%f0%9f%91%b7%f0%9f%8f%bb%e2%99%80%ef%b8%8f%f0%9f%91%b7%f0%9f%8f%bb%e2%99%82%ef%b8%8f/
LOCATION:Skate Zone 71\, 4900 Evanswood Ddr.\, Columbus\, OH\, 43229\, United States
CATEGORIES:Family Events,Public Skates,Special Events
END:VEVENT
BEGIN:VEVENT
DTSTART;TZID=America/New_York:20240901T130000
DTEND;TZID=America/New_York:20240901T153000
DTSTAMP:20260425T074523
CREATED:20240726T173427Z
LAST-MODIFIED:20240726T173428Z
UID:31539-1725195600-1725204600@www.unitedskates.com
SUMMARY:❤️🤍💙RED\, White & Blue Swiftie Skate❤️🤍💙
DESCRIPTION:Stop by\, DRESSED to IMPRESS\, for our Taylor Look-A-Like Contest!\nEach Admission during this skate will receive a 25% Off Coupon for Swiftie Merchandise from our SWIFTIE SHOP!!\nWe’ve also got Swiftie Trivia & the best of TAYLOR playing all session long!\n1:00PM – 3:30PM\n$12 Admission\n$6 Skate Rental \nPURCHASE TICKETS HERE!   (Admission Available Via Link & At Door) \nHost a Taylor themed Birthday at Skate Zone!\nBIRTHDAY PARTIES AVAILABLE – CLICK HERE\nALL CHILDREN AGES 3-17 MUST PAY ADMISSION & ROLLER SKATE RENTAL (OR BRING THEIR OWN SKATES)\nNON-SKATING ADULTS MAY ENTER AT NO CHARGE\nALL ADULT SKATERS (18+) ARE REQUIRED TO SIGN A LIABILITY WAIVER
URL:https://www.unitedskates.com/skate-zone-71/event/%e2%9d%a4%ef%b8%8f%f0%9f%a4%8d%f0%9f%92%99red-white-blue-swiftie-skate%e2%9d%a4%ef%b8%8f%f0%9f%a4%8d%f0%9f%92%99-2/
LOCATION:Skate Zone 71\, 4900 Evanswood Ddr.\, Columbus\, OH\, 43229\, United States
CATEGORIES:Public Skates,Special Events
ATTACH;FMTTYPE=image/png:https://unitedskates-assets.sfo3.digitaloceanspaces.com/wp-content/uploads/sites/7/2024/07/9.1-Taylor-RED-WHITE-BLUE-Day-2024.png
END:VEVENT
END:VCALENDAR