BEGIN:VCALENDAR
VERSION:2.0
PRODID:-//Rink 2 - Skate Zone 71 - ECPv6.15.20//NONSGML v1.0//EN
CALSCALE:GREGORIAN
METHOD:PUBLISH
X-WR-CALNAME:Rink 2 - Skate Zone 71
X-ORIGINAL-URL:https://www.unitedskates.com/skate-zone-71
X-WR-CALDESC:Events for Rink 2 - Skate Zone 71
REFRESH-INTERVAL;VALUE=DURATION:PT1H
X-Robots-Tag:noindex
X-PUBLISHED-TTL:PT1H
BEGIN:VTIMEZONE
TZID:America/New_York
BEGIN:DAYLIGHT
TZOFFSETFROM:-0500
TZOFFSETTO:-0400
TZNAME:EDT
DTSTART:20230312T070000
END:DAYLIGHT
BEGIN:STANDARD
TZOFFSETFROM:-0400
TZOFFSETTO:-0500
TZNAME:EST
DTSTART:20231105T060000
END:STANDARD
BEGIN:DAYLIGHT
TZOFFSETFROM:-0500
TZOFFSETTO:-0400
TZNAME:EDT
DTSTART:20240310T070000
END:DAYLIGHT
BEGIN:STANDARD
TZOFFSETFROM:-0400
TZOFFSETTO:-0500
TZNAME:EST
DTSTART:20241103T060000
END:STANDARD
BEGIN:DAYLIGHT
TZOFFSETFROM:-0500
TZOFFSETTO:-0400
TZNAME:EDT
DTSTART:20250309T070000
END:DAYLIGHT
BEGIN:STANDARD
TZOFFSETFROM:-0400
TZOFFSETTO:-0500
TZNAME:EST
DTSTART:20251102T060000
END:STANDARD
END:VTIMEZONE
BEGIN:VEVENT
DTSTART;TZID=America/New_York:20241101T183000
DTEND;TZID=America/New_York:20241101T210000
DTSTAMP:20260424T182255
CREATED:20240924T182151Z
LAST-MODIFIED:20241011T193014Z
UID:32720-1730485800-1730494800@www.unitedskates.com
SUMMARY:Día de los Muertos Skate
DESCRIPTION:💀 Día de los Muertos Skate💀\nJoin us for an evening filled with the enchanting vibes of Día de los Muertos! Celebrate family at Skate Zone 71 as we skate to the soulful sounds of traditional Latin Tunes\, Sugar Skull Coloring Pages & Costume Contest for Most Colorful!!\n6:30PM – 9PM\nPick from Two Admission Options:\nSkate & Play $19 – includes Admission\, 20 Game Credits & 1 Game of Laser Tag\nSkate Fun $12 – Admission\n$6 Skate Rental \nPURCHASE TICKETS HERE! \nTOP 40 HITS & TOP 40 LATIN\nBIRTHDAY PARTIES AVAILABLE – CLICK HERE\nALL CHILDREN AGES 3-17 MUST PAY ADMISSION & ROLLER SKATE RENTAL (OR BRING THEIR OWN SKATES)\nNON-SKATING ADULTS MAY ENTER AT NO CHARGE\nAll adults and children who enter the building need to fill out our online waiver which can be found by clicking this link. You will have to show the signed waiver to the admission associate so please have it ready to make check in as quick as possible.   Effective 10/11/2024
URL:https://www.unitedskates.com/skate-zone-71/event/dia-de-los-muertos-skate/
LOCATION:Skate Zone 71\, 4900 Evanswood Ddr.\, Columbus\, OH\, 43229\, United States
CATEGORIES:Public Skates,Special Events
ATTACH;FMTTYPE=image/png:https://unitedskates-assets.sfo3.digitaloceanspaces.com/wp-content/uploads/sites/7/2024/09/11.1-Dia-De-Los-Muertos-Skate-2024-v2.png
END:VEVENT
BEGIN:VEVENT
DTSTART;TZID=America/New_York:20241105T120000
DTEND;TZID=America/New_York:20241105T143000
DTSTAMP:20260424T182255
CREATED:20240924T184922Z
LAST-MODIFIED:20241011T193055Z
UID:32726-1730808000-1730817000@www.unitedskates.com
SUMMARY:Election Day Skate
DESCRIPTION:Head to Skate Zone 71 on your day off!\nWe’re celebrating Election Day with discounted Admission (Wear your red\, white & blue!)\, Games\, Laser Tag\, Cafe Specials & MORE!!\n$10 Admission includes Skate Rental (enjoy additional $1 off if you wear Red\, White & Blue) \n  \nPURCHASE TICKETS HERE!  (Admission Available Via Link & At Door) \nALL CHILDREN AGES 3-17 MUST PAY ADMISSION & ROLLER SKATE RENTAL (OR BRING THEIR OWN SKATES)\nNON-SKATING ADULTS MAY ENTER AT NO CHARGE\nAll adults and children who enter the building need to fill out our online waiver which can be found by clicking this link. You will have to show the signed waiver to the admission associate so please have it ready to make check in as quick as possible.   Effective 10/11/2024
URL:https://www.unitedskates.com/skate-zone-71/event/election-day-skate-2/
LOCATION:Skate Zone 71\, 4900 Evanswood Ddr.\, Columbus\, OH\, 43229\, United States
CATEGORIES:Public Skates,Special Events
ATTACH;FMTTYPE=image/png:https://unitedskates-assets.sfo3.digitaloceanspaces.com/wp-content/uploads/sites/7/2024/09/11.5-election-day-skate-2024.png
END:VEVENT
BEGIN:VEVENT
DTSTART;TZID=America/New_York:20241108T183000
DTEND;TZID=America/New_York:20241108T210000
DTSTAMP:20260424T182255
CREATED:20230731T155759Z
LAST-MODIFIED:20241031T173616Z
UID:27004-1731090600-1731099600@www.unitedskates.com
SUMMARY:Friday Glow Skate
DESCRIPTION:🛼EVERY FRIDAY EVENING🛼\n6:30PM – 9:00PM\nPick from TWO Admission Options: \n\nSkate & Play $19 – includes Admission\, 20 Game Credits & 1 Game of Laser Tag\nSkate Fun $12 – Admission \nAll Ages Welcome\n\n*$6 Skate Rental Additional* \nPURCHASE TICKETS HERE! \nBIRTHDAY PARTIES AVAILABLE – CLICK HERE\nGROUP RATES AVAILABLE FOR PARTIES OF 15+ – CLICK HERE\nIS YOUR GROUP LOOKING FOR A FUN EVENT? CLICK HERE TO FIND OUT HOW TO FUNDRAISE DURING THIS SESSION!\nALL CHILDREN AGES 3-17 MUST PAY ADMISSION & ROLLER SKATE RENTAL (OR BRING THEIR OWN SKATES)\nNON-SKATING ADULTS MAY ENTER AT NO CHARGE\nAll adults and children who enter the building need to fill out our online waiver which can be found by clicking this link. You will have to show the signed waiver to the admission associate so please have it ready to make check in as quick as possible.   Effective 10/11/2024
URL:https://www.unitedskates.com/skate-zone-71/event/friday-glow-skate-2024-01-05/2024-11-08/
LOCATION:Skate Zone 71\, 4900 Evanswood Ddr.\, Columbus\, OH\, 43229\, United States
CATEGORIES:Public Skates,Special Events
ATTACH;FMTTYPE=image/png:https://unitedskates-assets.sfo3.digitaloceanspaces.com/wp-content/uploads/sites/7/2023/07/Friday-Night-Glow-Skate-2024.png
END:VEVENT
BEGIN:VEVENT
DTSTART;TZID=America/New_York:20241110T130000
DTEND;TZID=America/New_York:20241110T153000
DTSTAMP:20260424T182255
CREATED:20240930T182552Z
LAST-MODIFIED:20241011T193635Z
UID:32809-1731243600-1731252600@www.unitedskates.com
SUMMARY:SWIFTIE FRIENDSGIVING SKATE
DESCRIPTION:SWIFTIE FRIENDSGIVING SKATE\nStop by ready for JAMS\, GAMES\, & MORE!!\nWe’ve also got Swiftie Trivia & the best of every ERA playing all session long!\n1:00PM – 3:30PM\n$12 Admission\n$6 Skate Rental \nPURCHASE TICKETS HERE!   (Admission Available Via Link & At Door) \nHost a Taylor themed Birthday at Skate Zone!\nBIRTHDAY PARTIES AVAILABLE – CLICK HERE\nALL CHILDREN AGES 3-17 MUST PAY ADMISSION & ROLLER SKATE RENTAL (OR BRING THEIR OWN SKATES)\nNON-SKATING ADULTS MAY ENTER AT NO CHARGE\nAll adults and children who enter the building need to fill out our online waiver which can be found by clicking this link. You will have to show the signed waiver to the admission associate so please have it ready to make check in as quick as possible.   Effective 10/11/2024
URL:https://www.unitedskates.com/skate-zone-71/event/swiftie-friendsgiving-skate/
LOCATION:Skate Zone 71\, 4900 Evanswood Ddr.\, Columbus\, OH\, 43229\, United States
CATEGORIES:Public Skates,Special Events
ATTACH;FMTTYPE=image/png:https://unitedskates-assets.sfo3.digitaloceanspaces.com/wp-content/uploads/sites/7/2024/09/11.10-Taylor-Swift-Friendsgiving-skate-v1.png
END:VEVENT
BEGIN:VEVENT
DTSTART;TZID=America/New_York:20241112T180000
DTEND;TZID=America/New_York:20241112T203000
DTSTAMP:20260424T182255
CREATED:20240805T201410Z
LAST-MODIFIED:20241118T194344Z
UID:32138-1731434400-1731443400@www.unitedskates.com
SUMMARY:Public Skating and Birthdays
DESCRIPTION:🛼TUESDAYS at Skate Zone 71🛼\n6:00PM – 8:30PM\nPick from Two Admission Options: \n\nSkate & Play $14/each – includes Admission\, 20 Game Credits & 1 Game of Laser Tag\nSkate Fun 2 Admissions For $12  / or 1 Admission for $7.00 \nAll Ages Welcome\n\n*Sessions Begin and End at Posted Times* \n$6 Skate Rental Additional \nPURCHASE TICKETS HERE! \nBIRTHDAY PARTIES AVAILABLE – CLICK HERE\nIS YOUR GROUP LOOKING FOR A FUN EVENT? CLICK HERE TO FIND OUT HOW TO FUNDRAISE DURING THIS SESSION!\nALL CHILDREN AGES 3-17 MUST PAY ADMISSION & ROLLER SKATE RENTAL (OR BRING THEIR OWN SKATES)\nNON-SKATING ADULTS MAY ENTER AT NO CHARGE\nALL SKATING INDIVIDUALS (ADULTS & PARENTS OF CHILDREN SKATING) MUST FILL OUT THE SKATING WAIVER. SIGNED WAIVERS MUST BE SHOWN AT ADMISSIONS BEFORE ENTRY\, HAVE IT READY TO KEEP THE CHECK IN PROCESS SMOOTH!  Effective 10/11/2024
URL:https://www.unitedskates.com/skate-zone-71/event/public-skating-and-birthdays/
LOCATION:Skate Zone 71\, 4900 Evanswood Ddr.\, Columbus\, OH\, 43229\, United States
CATEGORIES:Family Events,Public Skates
ATTACH;FMTTYPE=image/jpeg:https://unitedskates-assets.sfo3.digitaloceanspaces.com/wp-content/uploads/sites/7/2024/08/ART-BOARD-2-for-12-dollars.jpg
END:VEVENT
BEGIN:VEVENT
DTSTART;TZID=America/New_York:20241123T110000
DTEND;TZID=America/New_York:20241123T130000
DTSTAMP:20260424T182255
CREATED:20240930T164528Z
LAST-MODIFIED:20241011T193729Z
UID:32802-1732359600-1732366800@www.unitedskates.com
SUMMARY:MOANA SKATE
DESCRIPTION:🍁Come Skate on Saturday November 23rd!!🍁\nMOANA is taking over Two Skating Sessions so stop in for Photo Ops\, Games & Skating!\nSaturday November 23th\n\n11AM – 1PM\n1:30PM – 4PM\n\n$12 Admission includes FREE Lei!\n$6 Skate Rental\nPURCHASE TICKETS HERE! \nHost your Birthday with MOANA!\nBIRTHDAY PARTIES AVAILABLE – CLICK HERE!\n  \n\n\nALL CHILDREN AGES 3-17 MUST PAY ADMISSION & ROLLER SKATE RENTAL (OR BRING THEIR OWN SKATES)\nNON-SKATING ADULTS MAY ENTER AT NO CHARGE\nAll adults and children who enter the building need to fill out our online waiver which can be found by clicking this link. You will have to show the signed waiver to the admission associate so please have it ready to make check in as quick as possible.   Effective 10/11/2024
URL:https://www.unitedskates.com/skate-zone-71/event/moana-skate/
LOCATION:Skate Zone 71\, 4900 Evanswood Ddr.\, Columbus\, OH\, 43229\, United States
CATEGORIES:Public Skates,Special Events
ATTACH;FMTTYPE=image/png:https://unitedskates-assets.sfo3.digitaloceanspaces.com/wp-content/uploads/sites/7/2024/09/11.23-MOANA-SKATE-2024.png
END:VEVENT
BEGIN:VEVENT
DTSTART;VALUE=DATE:20241125
DTEND;VALUE=DATE:20241204
DTSTAMP:20260424T182255
CREATED:20240930T183450Z
LAST-MODIFIED:20241108T155204Z
UID:32812-1732510800-1733201999@www.unitedskates.com
SUMMARY:THANKSGIVING BREAK @ SKATE ZONE 71
DESCRIPTION:We’ve got big things planned over the Holiday Week\, stop in on your day off or for an evening away with Family & Friends!\nCHECK OUT THE FULL SCHEDULE HERE!\nBIRTHDAY PARTIES AVAILABLE – CLICK HERE\nALL CHILDREN AGES 3-17 MUST PAY ADMISSION & ROLLER SKATE RENTAL (OR BRING THEIR OWN SKATES)\nNON-SKATING ADULTS MAY ENTER AT NO CHARGE\nALL ADULT SKATERS (18+) ARE REQUIRED TO SIGN A LIABILITY WAIVER
URL:https://www.unitedskates.com/skate-zone-71/event/thanksgiving-break-skate-zone-71/
LOCATION:Skate Zone 71\, 4900 Evanswood Ddr.\, Columbus\, OH\, 43229\, United States
CATEGORIES:Public Skates,Special Events
ATTACH;FMTTYPE=image/jpeg:https://unitedskates-assets.sfo3.digitaloceanspaces.com/wp-content/uploads/sites/7/2024/11/Thanksgiving-Break-2024-calendar-2-1.jpg
END:VEVENT
BEGIN:VEVENT
DTSTART;TZID=America/New_York:20241125T133000
DTEND;TZID=America/New_York:20241125T160000
DTSTAMP:20260424T182255
CREATED:20240925T181419Z
LAST-MODIFIED:20241011T193843Z
UID:32745-1732541400-1732550400@www.unitedskates.com
SUMMARY:SCHOOL IS OUT SKATE
DESCRIPTION:SCHOOL IS OUT SKATE\nCome Skate on your day off at Skate Zone 71! GREAT MUSIC\, SKATING\, GAMES\, LASER TAG & MORE!\nMonday November 25th\n1:30PM – 4:00PM\n$10 Admission includes Skate Rental \n\nAll Ages Welcome\n\nPURCHASE TICKETS HERE! \n*All Groups Welcome – No Reservation Needed*\nAll adults and children who enter the building need to fill out our online waiver which can be found by clicking this link. You will have to show the signed waiver to the admission associate so please have it ready to make check in as quick as possible.   Effective 10/11/2024
URL:https://www.unitedskates.com/skate-zone-71/event/school-is-out-skate-2/
LOCATION:Skate Zone 71\, 4900 Evanswood Ddr.\, Columbus\, OH\, 43229\, United States
CATEGORIES:Public Skates,Special Events
ATTACH;FMTTYPE=image/png:https://unitedskates-assets.sfo3.digitaloceanspaces.com/wp-content/uploads/sites/7/2024/09/11.25-MON-sio-skate.png
END:VEVENT
BEGIN:VEVENT
DTSTART;TZID=America/New_York:20241125T180000
DTEND;TZID=America/New_York:20241125T203000
DTSTAMP:20260424T182255
CREATED:20240930T154455Z
LAST-MODIFIED:20241011T194023Z
UID:32791-1732557600-1732566600@www.unitedskates.com
SUMMARY:Countdown to Thanksgiving Skate
DESCRIPTION:Join us at Skate Zone 71 for a Customer Appreciation & Countdown to Thanksgiving Skate! We’ve got special admission and fun all session long\, stop in and skate with friends or family to the BEST HITS!\n6:00PM – 8:30PM\nPick from Two Admission Options: \n\n$7 Admission\n$14 Gobble’s Special – includes Admission\, 20 Game Credits & 1 Game of Laser Tag\n\n$6 Skate Rental Additional \nPURCHASE TICKETS HERE! \nTOP 40 HITS\n\nALL CHILDREN AGES 3-17 MUST PAY ADMISSION & ROLLER SKATE RENTAL (OR BRING THEIR OWN SKATES)\nNON-SKATING ADULTS MAY ENTER AT NO CHARGE\nAll adults and children who enter the building need to fill out our online waiver which can be found by clicking this link. You will have to show the signed waiver to the admission associate so please have it ready to make check in as quick as possible.   Effective 10/11/2024
URL:https://www.unitedskates.com/skate-zone-71/event/countdown-to-thanksgiving-skate/
LOCATION:Skate Zone 71\, 4900 Evanswood Ddr.\, Columbus\, OH\, 43229\, United States
CATEGORIES:Public Skates,Special Events
ATTACH;FMTTYPE=image/png:https://unitedskates-assets.sfo3.digitaloceanspaces.com/wp-content/uploads/sites/7/2024/09/11.25-Gobble-Countdown-to-Thanksgiving-Skate.png
END:VEVENT
BEGIN:VEVENT
DTSTART;TZID=America/New_York:20241126T133000
DTEND;TZID=America/New_York:20241126T160000
DTSTAMP:20260424T182255
CREATED:20240925T182114Z
LAST-MODIFIED:20241011T193935Z
UID:32748-1732627800-1732636800@www.unitedskates.com
SUMMARY:SCHOOL IS OUT SKATE
DESCRIPTION:SCHOOL IS OUT SKATE\nCome Skate on your day off at Skate Zone 71! GREAT MUSIC\, SKATING\, GAMES\, LASER TAG & MORE!\nTuesday November 26th\n1:30PM – 4:00PM\n$12 Admission includes Skate Rental \n\nAll Ages Welcome\n\nPURCHASE TICKETS HERE! \n*All Groups Welcome – No Reservation Needed*\nAll adults and children who enter the building need to fill out our online waiver which can be found by clicking this link. You will have to show the signed waiver to the admission associate so please have it ready to make check in as quick as possible.   Effective 10/11/2024
URL:https://www.unitedskates.com/skate-zone-71/event/school-is-out-skate-3/
LOCATION:Skate Zone 71\, 4900 Evanswood Ddr.\, Columbus\, OH\, 43229\, United States
CATEGORIES:Public Skates,Special Events
ATTACH;FMTTYPE=image/png:https://unitedskates-assets.sfo3.digitaloceanspaces.com/wp-content/uploads/sites/7/2024/09/11.26-sio-skate.png
END:VEVENT
BEGIN:VEVENT
DTSTART;TZID=America/New_York:20241127T120000
DTEND;TZID=America/New_York:20241127T143000
DTSTAMP:20260424T182255
CREATED:20240925T182525Z
LAST-MODIFIED:20241011T194116Z
UID:32751-1732708800-1732717800@www.unitedskates.com
SUMMARY:SCHOOL IS OUT SKATE
DESCRIPTION:SCHOOL IS OUT SKATE\nCome Skate and celebrate Thanksgiving Eve on your day off! GREAT MUSIC\, SKATING\, GAMES\, LASER TAG & MORE!\nWednesday November 27th\n12PM – 2:30PM\n3PM – 5:30PM\n$8 Admission\n$6 Skate Rental \n\nAll Ages Welcome\n\nPURCHASE TICKETS HERE! \n*All Groups Welcome – No Reservation Needed*\nAll adults and children who enter the building need to fill out our online waiver which can be found by clicking this link. You will have to show the signed waiver to the admission associate so please have it ready to make check in as quick as possible.   Effective 10/11/2024
URL:https://www.unitedskates.com/skate-zone-71/event/school-is-out-skate-4/
LOCATION:Skate Zone 71\, 4900 Evanswood Ddr.\, Columbus\, OH\, 43229\, United States
CATEGORIES:Public Skates,Special Events
ATTACH;FMTTYPE=image/png:https://unitedskates-assets.sfo3.digitaloceanspaces.com/wp-content/uploads/sites/7/2024/09/11.27-WED-sio-skate.png
END:VEVENT
BEGIN:VEVENT
DTSTART;TZID=America/New_York:20241127T180000
DTEND;TZID=America/New_York:20241127T200000
DTSTAMP:20260424T182255
CREATED:20240925T183718Z
LAST-MODIFIED:20241011T194215Z
UID:32758-1732730400-1732737600@www.unitedskates.com
SUMMARY:Thanksgiving Groovin' Eve
DESCRIPTION:🍁It’s Thanksgiving Eve and Skate Zone 71 is the place to be!🍁\nWith a GREAT Skate Session in the evening\, it’s the perfect place to bring the family to get out of the house!!\n6PM – 8PM\n$16 Admission includes Skate Rental Slice Cheese Pizza & Small Soft Drink \nPURCHASE TICKETS HERE!\nFun music\, games\, laser tag and MORE!!\nALL CHILDREN AGES 3-17 MUST PAY ADMISSION & ROLLER SKATE RENTAL (OR BRING THEIR OWN SKATES)\nNON-SKATING ADULTS MAY ENTER AT NO CHARGE\nAll adults and children who enter the building need to fill out our online waiver which can be found by clicking this link. You will have to show the signed waiver to the admission associate so please have it ready to make check in as quick as possible.   Effective 10/11/2024
URL:https://www.unitedskates.com/skate-zone-71/event/thanksgiving-groovin-eve/
LOCATION:Skate Zone 71\, 4900 Evanswood Ddr.\, Columbus\, OH\, 43229\, United States
CATEGORIES:Public Skates,Special Events
ATTACH;FMTTYPE=image/jpeg:https://unitedskates-assets.sfo3.digitaloceanspaces.com/wp-content/uploads/sites/7/2024/09/11.27-Thanks-Groovin-Eve-Skate-1200x1200-1.jpg
END:VEVENT
BEGIN:VEVENT
DTSTART;TZID=America/New_York:20241128T180000
DTEND;TZID=America/New_York:20241128T203000
DTSTAMP:20260424T182255
CREATED:20240925T185902Z
LAST-MODIFIED:20241011T194407Z
UID:32761-1732816800-1732825800@www.unitedskates.com
SUMMARY:🦃 SKATE YOUR TURKEY OFF 🦃
DESCRIPTION:🦃Skate your turkey off at Skate Zone 71!!🦃\nBring the whole family and all your friends to a fun skating evening with the best music in town\, arcade games\, cafe specials\, laser tag\, and MORE!!\n6:00PM – 8:30PM\n$10 Admission\n$6 Skate Rental\n\nPURCHASE TICKETS HERE!\n🥧a FUN way to skate away that holiday meal 🥧\nALL CHILDREN AGES 3-17 MUST PAY ADMISSION & ROLLER SKATE RENTAL (OR BRING THEIR OWN SKATES)\nNON-SKATING ADULTS MAY ENTER AT NO CHARGE\nAll adults and children who enter the building need to fill out our online waiver which can be found by clicking this link. You will have to show the signed waiver to the admission associate so please have it ready to make check in as quick as possible.   Effective 10/11/2024
URL:https://www.unitedskates.com/skate-zone-71/event/%f0%9f%a6%83-skate-your-turkey-off-%f0%9f%a6%83/
LOCATION:Skate Zone 71\, 4900 Evanswood Ddr.\, Columbus\, OH\, 43229\, United States
CATEGORIES:Public Skates,Special Events
ATTACH;FMTTYPE=image/png:https://unitedskates-assets.sfo3.digitaloceanspaces.com/wp-content/uploads/sites/7/2024/09/11.28-Skate-your-Turkey-Off-2024.png
END:VEVENT
BEGIN:VEVENT
DTSTART;TZID=America/New_York:20241129T093000
DTEND;TZID=America/New_York:20241129T113000
DTSTAMP:20260424T182255
CREATED:20240925T190611Z
LAST-MODIFIED:20241011T194607Z
UID:32767-1732872600-1732879800@www.unitedskates.com
SUMMARY:DONUTS with SKATO and FRIENDS
DESCRIPTION:Come hang with Skato & Friends during this special skate session\,\nEach Admission will receive a FREE Donut Treat from our Cafe with Character Meet & Greet all session long!\nFRIDAY NOVEMBER 29TH\n9:30AM – 11:30AM\n$8 Admission includes Free Donut! \n$6 Skate Rental \nPURCHASE TICKETS HERE! \n\nTOP 40 & DISNEY HITS\n  \nALL CHILDREN AGES 3-17 MUST PAY ADMISSION & ROLLER SKATE RENTAL (OR BRING THEIR OWN SKATES)\nNON-SKATING ADULTS MAY ENTER AT NO CHARGE\nAll adults and children who enter the building need to fill out our online waiver which can be found by clicking this link. You will have to show the signed waiver to the admission associate so please have it ready to make check in as quick as possible.   Effective 10/11/2024
URL:https://www.unitedskates.com/skate-zone-71/event/donuts-with-skato-friends-2/
LOCATION:Skate Zone 71\, 4900 Evanswood Ddr.\, Columbus\, OH\, 43229\, United States
CATEGORIES:Public Skates,Special Events
ATTACH;FMTTYPE=image/png:https://unitedskates-assets.sfo3.digitaloceanspaces.com/wp-content/uploads/sites/7/2024/09/11.29-Donuts-with-Skato.png
END:VEVENT
BEGIN:VEVENT
DTSTART;TZID=America/New_York:20241129T120000
DTEND;TZID=America/New_York:20241129T143000
DTSTAMP:20260424T182255
CREATED:20240925T191634Z
LAST-MODIFIED:20241011T194657Z
UID:32770-1732881600-1732890600@www.unitedskates.com
SUMMARY:Black Friday Skates
DESCRIPTION:🍁Come Skate on Black Friday!!🍁\nStop in for a break from the shopping with 2 FUN Skating Sessions at Skate Zone 71!!\nFriday November 29th\n\n12PM – 2:30PM\n3PM – 5:30PM includes visit from MARIO!\n\n$12 Admission includes 10 Credit Game Card \n$6 Skate Rental\n\nPURCHASE TICKETS HERE!\nCafe Specials\, Meal Deals\, Games\, Laser Tag and MORE!!\n  \n\n\nALL CHILDREN AGES 3-17 MUST PAY ADMISSION & ROLLER SKATE RENTAL (OR BRING THEIR OWN SKATES)\nNON-SKATING ADULTS MAY ENTER AT NO CHARGE\nAll adults and children who enter the building need to fill out our online waiver which can be found by clicking this link. You will have to show the signed waiver to the admission associate so please have it ready to make check in as quick as possible.   Effective 10/11/2024
URL:https://www.unitedskates.com/skate-zone-71/event/black-friday-skates/
LOCATION:Skate Zone 71\, 4900 Evanswood Ddr.\, Columbus\, OH\, 43229\, United States
CATEGORIES:Public Skates,Special Events
ATTACH;FMTTYPE=image/png:https://unitedskates-assets.sfo3.digitaloceanspaces.com/wp-content/uploads/sites/7/2024/09/11.29-Black-Friday-GameSkates-2024.png
END:VEVENT
BEGIN:VEVENT
DTSTART;TZID=America/New_York:20241129T183000
DTEND;TZID=America/New_York:20241129T210000
DTSTAMP:20260424T182255
CREATED:20240930T150122Z
LAST-MODIFIED:20241011T194752Z
UID:32788-1732905000-1732914000@www.unitedskates.com
SUMMARY:PAJAMA JAM GLOW SKATE
DESCRIPTION:Head to Skate Zone 71 after a day of shopping for this Black Friday Glow Skate! Get comfy\, wear your PJs and come skate to the best JAMS!\n6:30PM – 9:00PM\n$16 Admission includes Skate Rental\, Slice of Cheese Pizza & Small Soft Drink \nPURCHASE TICKETS HERE! \nTOP 40 HITS\nBIRTHDAY PARTIES AVAILABLE – CLICK HERE\nALL CHILDREN AGES 3-17 MUST PAY ADMISSION & ROLLER SKATE RENTAL (OR BRING THEIR OWN SKATES)\nNON-SKATING ADULTS MAY ENTER AT NO CHARGE\nAll adults and children who enter the building need to fill out our online waiver which can be found by clicking this link. You will have to show the signed waiver to the admission associate so please have it ready to make check in as quick as possible.   Effective 10/11/2024
URL:https://www.unitedskates.com/skate-zone-71/event/pajama-jam-glow-skate-2/
LOCATION:Skate Zone 71\, 4900 Evanswood Ddr.\, Columbus\, OH\, 43229\, United States
CATEGORIES:Public Skates,Special Events
ATTACH;FMTTYPE=image/png:https://unitedskates-assets.sfo3.digitaloceanspaces.com/wp-content/uploads/sites/7/2024/09/11.29-pajama-jam-glow-roller-skate-2024.png
END:VEVENT
BEGIN:VEVENT
DTSTART;TZID=America/New_York:20241130T110000
DTEND;TZID=America/New_York:20241130T130000
DTSTAMP:20260424T182255
CREATED:20240930T172154Z
LAST-MODIFIED:20241011T194844Z
UID:32806-1732964400-1732971600@www.unitedskates.com
SUMMARY:Buckeye Tailskate vs. Xichigan
DESCRIPTION:Join us in celebrating the Buckeye’s when they play that team up north during a fun Saturday Tailgate Skate!\n11:00AM – 1:00PM\n$12 Skate Rental✨\n$6.00 Skate Rental\n✨Wear your OSU attire and receive half price admission when you mention this promotion!✨ \n  \nKIDS POP & TOP 40 POP\nPURCHASE TICKETS HERE!\nBIRTHDAY PARTIES AVAILABLE HERE!\nALL CHILDREN AGES 3-17 MUST PAY ADMISSION & ROLLER SKATE RENTAL (OR BRING THEIR OWN SKATES)\nNON-SKATING ADULTS MAY ENTER AT NO CHARGE\nAll adults and children who enter the building need to fill out our online waiver which can be found by clicking this link. You will have to show the signed waiver to the admission associate so please have it ready to make check in as quick as possible.   Effective 10/11/2024
URL:https://www.unitedskates.com/skate-zone-71/event/buckeye-tailskate-vs-xichigan/
LOCATION:Skate Zone 71\, 4900 Evanswood Ddr.\, Columbus\, OH\, 43229\, United States
CATEGORIES:Public Skates,Special Events
ATTACH;FMTTYPE=image/jpeg:https://unitedskates-assets.sfo3.digitaloceanspaces.com/wp-content/uploads/sites/7/2024/07/tailgate-skate-2022-1200x1200-1.jpg
END:VEVENT
END:VCALENDAR