BEGIN:VCALENDAR
VERSION:2.0
PRODID:-//Rink 2 - Skate Zone 71 - ECPv6.15.20//NONSGML v1.0//EN
CALSCALE:GREGORIAN
METHOD:PUBLISH
X-WR-CALNAME:Rink 2 - Skate Zone 71
X-ORIGINAL-URL:https://www.unitedskates.com/skate-zone-71
X-WR-CALDESC:Events for Rink 2 - Skate Zone 71
REFRESH-INTERVAL;VALUE=DURATION:PT1H
X-Robots-Tag:noindex
X-PUBLISHED-TTL:PT1H
BEGIN:VTIMEZONE
TZID:America/New_York
BEGIN:DAYLIGHT
TZOFFSETFROM:-0500
TZOFFSETTO:-0400
TZNAME:EDT
DTSTART:20230312T070000
END:DAYLIGHT
BEGIN:STANDARD
TZOFFSETFROM:-0400
TZOFFSETTO:-0500
TZNAME:EST
DTSTART:20231105T060000
END:STANDARD
BEGIN:DAYLIGHT
TZOFFSETFROM:-0500
TZOFFSETTO:-0400
TZNAME:EDT
DTSTART:20240310T070000
END:DAYLIGHT
BEGIN:STANDARD
TZOFFSETFROM:-0400
TZOFFSETTO:-0500
TZNAME:EST
DTSTART:20241103T060000
END:STANDARD
BEGIN:DAYLIGHT
TZOFFSETFROM:-0500
TZOFFSETTO:-0400
TZNAME:EDT
DTSTART:20250309T070000
END:DAYLIGHT
BEGIN:STANDARD
TZOFFSETFROM:-0400
TZOFFSETTO:-0500
TZNAME:EST
DTSTART:20251102T060000
END:STANDARD
END:VTIMEZONE
BEGIN:VEVENT
DTSTART;VALUE=DATE:20241005
DTEND;VALUE=DATE:20241007
DTSTAMP:20260424T194735
CREATED:20240830T164824Z
LAST-MODIFIED:20240830T164825Z
UID:32574-1728104400-1728190799@www.unitedskates.com
SUMMARY:National Roller Skating MONTH!
DESCRIPTION:WE ARE CELEBRATING NRS MONTH BIG AT SKATE ZONE 71!!\nEvery Saturday stop by for something a little different; there will be raffles\, free stayovers\, dance mania & all out guest appreciation!!\nSaturday OCTOBER 5th: Family 4 Pack Raffle EVERY Session (Winner Must Be Present)\n10am – 11am Skate Lessons\n11am – 1pm Public Skating Session\n1:30pm – 4pm Public Skating Session\n5pm – 7:30pm Public Skating Session\n8pm – 10:30pm Public Skating Session\n\n\nSaturday OCTOBER 12th: Free Stay-Over into the 11am Session for all Guests that participate in Skate Lessons\n10am – 11am Skate Lessons\n11am – 1pm Public Skating Session\n\n\n\nSaturday OCTOBER 19th: Dance Mania – Learn & Skate to all the BEST Party Dances (Cha Cha Slide\, Chicken Dance\, Macarena\,🎉etc.)\n10am – 11am Skate Lessons\n11am – 1pm Public Skating Session\n1:30pm – 4pm Public Skating Session\n5pm – 7:30pm Public Skating Session\n8pm – 10:30pm Public Skating Session\n\n\nSaturday OCTOBER 26th: Guest Appreciation Skate – Free Glow Stick with All Paid Admissions\n8pm – 10:30pm Public Skating Session\n\nBIRTHDAY PARTIES AVAILABLE – CLICK HERE\nGROUP RATES AVAILABLE FOR PARTIES OF 15+ – CLICK HERE\nALL CHILDREN AGES 3-17 MUST PAY ADMISSION & ROLLER SKATE RENTAL (OR BRING THEIR OWN SKATES)\nNON-SKATING ADULTS MAY ENTER AT NO CHARGE\nALL ADULT SKATERS (18+) ARE REQUIRED TO SIGN A LIABILITY WAIVER
URL:https://www.unitedskates.com/skate-zone-71/event/national-roller-skating-month/
LOCATION:Skate Zone 71\, 4900 Evanswood Ddr.\, Columbus\, OH\, 43229\, United States
CATEGORIES:Public Skates,Special Events
ATTACH;FMTTYPE=image/png:https://unitedskates-assets.sfo3.digitaloceanspaces.com/wp-content/uploads/sites/7/2024/08/NRS-month-2024.png
END:VEVENT
BEGIN:VEVENT
DTSTART;TZID=America/New_York:20241005T110000
DTEND;TZID=America/New_York:20241005T130000
DTSTAMP:20260424T194735
CREATED:20240830T174008Z
LAST-MODIFIED:20240830T174809Z
UID:32599-1728126000-1728133200@www.unitedskates.com
SUMMARY:STITCH'S HALLOWEEN KICK-OFF
DESCRIPTION:Stitch is taking over Tiny Tots Skate this Saturday to kick off Spooky Season!!\nJoin us at Skate Zone 71  for Stitch Meet & Greet\, Photo Ops\, Games & MORE!!\n11:00AM – 1:00PM\n$12 Admission \n$6 Skate Rental \nPURCHASE TICKETS HERE!\nStop into our Skate Lessons from 10AM – 11AM and stayover into this session for $5.50 Additional (PURCHASE LESSON W/ STAYOVER HERE)\n  \nDISNEY HITS\, TOP 40 POP\, HALLOWEEN HITS\n  \nBIRTHDAY PARTIES AVAILABLE – CLICK HERE\nALL CHILDREN AGES 3-17 MUST PAY ADMISSION & ROLLER SKATE RENTAL (OR BRING THEIR OWN SKATES)\nNON-SKATING ADULTS MAY ENTER AT NO CHARGE\nALL ADULT SKATERS (18+) ARE REQUIRED TO SIGN A LIABILITY WAIVER
URL:https://www.unitedskates.com/skate-zone-71/event/stitchs-halloween-kick-off/
LOCATION:Skate Zone 71\, 4900 Evanswood Ddr.\, Columbus\, OH\, 43229\, United States
CATEGORIES:Public Skates,Special Events
ATTACH;FMTTYPE=image/png:https://unitedskates-assets.sfo3.digitaloceanspaces.com/wp-content/uploads/sites/7/2024/08/10.5-Stitch-Halloween-Kickoff.png
END:VEVENT
BEGIN:VEVENT
DTSTART;TZID=America/New_York:20241006T130000
DTEND;TZID=America/New_York:20241006T153000
DTSTAMP:20260424T194735
CREATED:20240906T145549Z
LAST-MODIFIED:20240906T145549Z
UID:32682-1728219600-1728228600@www.unitedskates.com
SUMMARY:TAYLOR SWIFT SKATE
DESCRIPTION:TAYLOR SWIFT SKATE\nStop by ready for JAMS\, GAMES\, TRIVIA & MORE!!\nWe’ve also got Swiftie Trivia & the best of TAYLOR playing all session long!\n1:00PM – 3:30PM\n$12 Admission\n$6 Skate Rental \nPURCHASE TICKETS HERE!   (Admission Available Via Link & At Door) \nHost a Taylor themed Birthday at Skate Zone!\nBIRTHDAY PARTIES AVAILABLE – CLICK HERE\nALL CHILDREN AGES 3-17 MUST PAY ADMISSION & ROLLER SKATE RENTAL (OR BRING THEIR OWN SKATES)\nNON-SKATING ADULTS MAY ENTER AT NO CHARGE\nALL ADULT SKATERS (18+) ARE REQUIRED TO SIGN A LIABILITY WAIVER
URL:https://www.unitedskates.com/skate-zone-71/event/taylor-swift-skate/
LOCATION:Skate Zone 71\, 4900 Evanswood Ddr.\, Columbus\, OH\, 43229\, United States
CATEGORIES:Public Skates,Special Events
ATTACH;FMTTYPE=image/png:https://unitedskates-assets.sfo3.digitaloceanspaces.com/wp-content/uploads/sites/7/2024/09/10.6-taylor-swift-skate.png
END:VEVENT
BEGIN:VEVENT
DTSTART;VALUE=DATE:20241012
DTEND;VALUE=DATE:20241014
DTSTAMP:20260424T194735
CREATED:20240830T165055Z
LAST-MODIFIED:20240830T165055Z
UID:32577-1728709200-1728795599@www.unitedskates.com
SUMMARY:National Roller Skating Month
DESCRIPTION:WE ARE CELEBRATING NRS MONTH BIG AT SKATE ZONE 71!!\nEvery Saturday stop by for something a little different; there will be raffles\, free stayovers\, dance mania & all out guest appreciation!!\n\nSaturday OCTOBER 12th: Free Stay-Over into the 11am Session for all Guests that participate in Skate Lessons\n10am – 11am Skate Lessons\n11am – 1pm Public Skating Session\n\n\n\nSaturday OCTOBER 19th: Dance Mania – Learn & Skate to all the BEST Party Dances (Cha Cha Slide\, Chicken Dance\, Macarena\,🎉etc.)\n10am – 11am Skate Lessons\n11am – 1pm Public Skating Session\n1:30pm – 4pm Public Skating Session\n5pm – 7:30pm Public Skating Session\n8pm – 10:30pm Public Skating Session\n\n\nSaturday OCTOBER 26th: Guest Appreciation Skate – Free Glow Stick with All Paid Admissions\n8pm – 10:30pm Public Skating Session\n\nBIRTHDAY PARTIES AVAILABLE – CLICK HERE\nGROUP RATES AVAILABLE FOR PARTIES OF 15+ – CLICK HERE\nALL CHILDREN AGES 3-17 MUST PAY ADMISSION & ROLLER SKATE RENTAL (OR BRING THEIR OWN SKATES)\nNON-SKATING ADULTS MAY ENTER AT NO CHARGE\nALL ADULT SKATERS (18+) ARE REQUIRED TO SIGN A LIABILITY WAIVER
URL:https://www.unitedskates.com/skate-zone-71/event/national-roller-skating-month-2/
LOCATION:Skate Zone 71\, 4900 Evanswood Ddr.\, Columbus\, OH\, 43229\, United States
CATEGORIES:Public Skates,Special Events
ATTACH;FMTTYPE=image/png:https://unitedskates-assets.sfo3.digitaloceanspaces.com/wp-content/uploads/sites/7/2024/08/NRS-month-2024.png
END:VEVENT
BEGIN:VEVENT
DTSTART;TZID=America/New_York:20241013T130000
DTEND;TZID=America/New_York:20241013T153000
DTSTAMP:20260424T194735
CREATED:20240903T135117Z
LAST-MODIFIED:20241011T191327Z
UID:32604-1728824400-1728833400@www.unitedskates.com
SUMMARY:SKATEZONE 71 52ND BDAY BASH
DESCRIPTION:Skating Rink 52nd Birthday Bash!\nCome celebrate our 52nd Birthday with a skating party like no other!🎂🛼 We’ve got JAMS\, GAMES\, TREATS & MORE!! Meet & Greet with Skato all session long!\nSunday October 13th\n1:00PM – 3:30PM\n$12 Admission \n$6 Skate Rental \n$19.72 Skate & Play includes Skate Rental & 10 Credit Game Card \nPURCHASE TICKETS HERE! \n✨ALL BIRTHDAY RESERVATIONS WILL GET A FREE COTTON CANDY TOWER!!✨\nBIRTHDAY PARTIES AVAILABLE – CLICK HERE\nALL CHILDREN AGES 3-17 MUST PAY ADMISSION & ROLLER SKATE RENTAL (OR BRING THEIR OWN SKATES)\nNON-SKATING ADULTS MAY ENTER AT NO CHARGE\nAll adults and children who enter the building need to fill out our online waiver which can be found by clicking this link. You will have to show the signed waiver to the admission associate so please have it ready to make check in as quick as possible.   Effective 10/11/2024
URL:https://www.unitedskates.com/skate-zone-71/event/skatezone-71-52nd-bday-bash/
LOCATION:Skate Zone 71\, 4900 Evanswood Ddr.\, Columbus\, OH\, 43229\, United States
CATEGORIES:Public Skates,Special Events
ATTACH;FMTTYPE=image/png:https://unitedskates-assets.sfo3.digitaloceanspaces.com/wp-content/uploads/sites/7/2024/09/10.13-OH24-024-52-Years-of-Skating-Flyer.png
END:VEVENT
BEGIN:VEVENT
DTSTART;VALUE=DATE:20241018
DTEND;VALUE=DATE:20241022
DTSTAMP:20260424T194735
CREATED:20241010T184212Z
LAST-MODIFIED:20241010T184224Z
UID:32924-1729227600-1729486799@www.unitedskates.com
SUMMARY:🚫School's Out Weekend Schedule🛼
DESCRIPTION:Central Ohio is out for School! Come Skate!\nOpen extended Hours on Friday – National Rollerskating Month – Battle Ohio!! So much to do!!\nCheck our Special event calendar for more information!
URL:https://www.unitedskates.com/skate-zone-71/event/%f0%9f%9a%abschools-out-weekend-schedule%f0%9f%9b%bc/
LOCATION:Skate Zone 71\, 4900 Evanswood Ddr.\, Columbus\, OH\, 43229\, United States
CATEGORIES:Family Events,Public Skates,Special Events
ATTACH;FMTTYPE=image/jpeg:https://unitedskates-assets.sfo3.digitaloceanspaces.com/wp-content/uploads/sites/7/2024/10/Schools-Out-Fall-Weekend-1024.jpg
END:VEVENT
BEGIN:VEVENT
DTSTART;TZID=America/New_York:20241018T093000
DTEND;TZID=America/New_York:20241018T113000
DTSTAMP:20260424T194735
CREATED:20240903T154229Z
LAST-MODIFIED:20241011T192045Z
UID:32615-1729243800-1729251000@www.unitedskates.com
SUMMARY:DONUTS with SKATO & FRIENDS
DESCRIPTION:Come hang with Skato & Friends during this special skate session\,\nEach Admission will receive a FREE Donut Treat from our Cafe with Character Meet & Greet all session long!\nFRIDAY OCTOBER 18TH\n9:30AM – 11:30AM\n$10 Admission includes Skate Rental and Free Donut! \nPURCHASE TICKETS HERE! \n\nTOP 40 & DISNEY HITS\nALL CHILDREN AGES 3-17 MUST PAY ADMISSION & ROLLER SKATE RENTAL (OR BRING THEIR OWN SKATES)\nNON-SKATING ADULTS MAY ENTER AT NO CHARGE\nAll adults and children who enter the building need to fill out our online waiver which can be found by clicking this link. You will have to show the signed waiver to the admission associate so please have it ready to make check in as quick as possible.   Effective 10/11/2024
URL:https://www.unitedskates.com/skate-zone-71/event/donuts-with-skato-friends/
LOCATION:Skate Zone 71\, 4900 Evanswood Ddr.\, Columbus\, OH\, 43229\, United States
CATEGORIES:Public Skates,Special Events
ATTACH;FMTTYPE=image/png:https://unitedskates-assets.sfo3.digitaloceanspaces.com/wp-content/uploads/sites/7/2024/09/10.18-Donuts-with-Skato.png
END:VEVENT
BEGIN:VEVENT
DTSTART;TZID=America/New_York:20241018T120000
DTEND;TZID=America/New_York:20241018T143000
DTSTAMP:20260424T194736
CREATED:20240903T141817Z
LAST-MODIFIED:20241011T192231Z
UID:32609-1729252800-1729261800@www.unitedskates.com
SUMMARY:SCHOOL IS OUT SKATE
DESCRIPTION:SCHOOL IS OUT SKATE\nCome Skate on your day off at Skate Zone 71! GREAT MUSIC\, SKATING\, GAMES\, LASER TAG & MORE!\nFriday October 18th\n12PM – 2:30PM\n3PM – 5:30PM\n$12 Admission includes Skate Rental \n\nAll Ages Welcome\n\nPURCHASE TICKETS HERE! \n*All Groups Welcome – No Reservation Needed*\nAll adults and children who enter the building need to fill out our online waiver which can be found by clicking this link. You will have to show the signed waiver to the admission associate so please have it ready to make check in as quick as possible.   Effective 10/11/2024
URL:https://www.unitedskates.com/skate-zone-71/event/school-is-out-skate/2024-10-18/
LOCATION:Skate Zone 71\, 4900 Evanswood Ddr.\, Columbus\, OH\, 43229\, United States
CATEGORIES:Public Skates,Special Events
ATTACH;FMTTYPE=image/png:https://unitedskates-assets.sfo3.digitaloceanspaces.com/wp-content/uploads/sites/7/2024/09/10.18-sio-skate.png
END:VEVENT
BEGIN:VEVENT
DTSTART;TZID=America/New_York:20241018T183000
DTEND;TZID=America/New_York:20241018T210000
DTSTAMP:20260424T194736
CREATED:20240903T153619Z
LAST-MODIFIED:20241011T192308Z
UID:32612-1729276200-1729285200@www.unitedskates.com
SUMMARY:NIGHTMARE BEFORE CHRISTMAS SKATE
DESCRIPTION:Nightmare Before Christmas Glow Skate\nThis holiday season\, get ready for a spooky\, spectacular night on wheels at our Nightmare Before Christmas Skate Party!\nDon’t miss this hauntingly fun holiday event – it’s going to be a scream! 👻\nFriday October 18th\n6:30PM – 9:00PM\nPick from TWO Admission Options: \n\nSkate & Play $19 – includes Admission\, 20 Game Credits & 1 Game of Laser Tag\nSkate Fun $12 – Admission \nAll Ages Welcome\n\n*$6 Skate Rental Additional* \nPURCHASE TICKETS HERE! \n  \nBIRTHDAY PARTIES AVAILABLE – CLICK HERE\nGROUP RATES AVAILABLE FOR PARTIES OF 15+ – CLICK HERE\nIS YOUR GROUP LOOKING FOR A FUN EVENT? CLICK HERE TO FIND OUT HOW TO FUNDRAISE DURING THIS SESSION!\nALL CHILDREN AGES 3-17 MUST PAY ADMISSION & ROLLER SKATE RENTAL (OR BRING THEIR OWN SKATES)\nNON-SKATING ADULTS MAY ENTER AT NO CHARGE\nAll adults and children who enter the building need to fill out our online waiver which can be found by clicking this link. You will have to show the signed waiver to the admission associate so please have it ready to make check in as quick as possible.   Effective 10/11/2024
URL:https://www.unitedskates.com/skate-zone-71/event/nightmare-before-christmas-skate/
LOCATION:Skate Zone 71\, 4900 Evanswood Ddr.\, Columbus\, OH\, 43229\, United States
CATEGORIES:Public Skates,Special Events
ATTACH;FMTTYPE=image/png:https://unitedskates-assets.sfo3.digitaloceanspaces.com/wp-content/uploads/sites/7/2024/09/10.18-Nightmare-Before-XMas-2024.png
END:VEVENT
BEGIN:VEVENT
DTSTART;VALUE=DATE:20241019
DTEND;VALUE=DATE:20241021
DTSTAMP:20260424T194736
CREATED:20240830T171240Z
LAST-MODIFIED:20240830T171240Z
UID:32579-1729314000-1729400399@www.unitedskates.com
SUMMARY:National Roller Skating Month
DESCRIPTION:WE ARE CELEBRATING NRS MONTH BIG AT SKATE ZONE 71!!\nEvery Saturday stop by for something a little different; there will be raffles\, free stayovers\, dance mania & all out guest appreciation!!\n\nSaturday OCTOBER 19th: Dance Mania – Learn & Skate to all the BEST Party Dances (Cha Cha Slide\, Chicken Dance\, Macarena\,🎉etc.)\n10am – 11am Skate Lessons\n11am – 1pm Public Skating Session\n1:30pm – 4pm Public Skating Session\n5pm – 7:30pm Public Skating Session\n8pm – 10:30pm Public Skating Session\n\n\nSaturday OCTOBER 26th: Guest Appreciation Skate – Free Glow Stick with All Paid Admissions\n8pm – 10:30pm Public Skating Session\n\nBIRTHDAY PARTIES AVAILABLE – CLICK HERE\nGROUP RATES AVAILABLE FOR PARTIES OF 15+ – CLICK HERE\nALL CHILDREN AGES 3-17 MUST PAY ADMISSION & ROLLER SKATE RENTAL (OR BRING THEIR OWN SKATES)\nNON-SKATING ADULTS MAY ENTER AT NO CHARGE\nALL ADULT SKATERS (18+) ARE REQUIRED TO SIGN A LIABILITY WAIVER
URL:https://www.unitedskates.com/skate-zone-71/event/national-roller-skating-month-3/
LOCATION:Skate Zone 71\, 4900 Evanswood Ddr.\, Columbus\, OH\, 43229\, United States
CATEGORIES:Public Skates,Special Events
ATTACH;FMTTYPE=image/png:https://unitedskates-assets.sfo3.digitaloceanspaces.com/wp-content/uploads/sites/7/2024/08/NRS-month-2024-1.png
END:VEVENT
BEGIN:VEVENT
DTSTART;TZID=America/New_York:20241020T130000
DTEND;TZID=America/New_York:20241020T153000
DTSTAMP:20260424T194736
CREATED:20240903T160240Z
LAST-MODIFIED:20241011T191540Z
UID:32617-1729429200-1729438200@www.unitedskates.com
SUMMARY:BATTLE OF OHIO - BENGALS vs BROWNS
DESCRIPTION:BATTLE OF OHIO -🐯BENGALS vs BROWNS🧡🤎\nGet ready for the ultimate showdown as the Cincinnati Bengals take on the Cleveland Browns in the fierce Battle of Ohio!\nWhich side are you on? Wear your team colors and receive $2 off Admission price bring your spirit\, and cheer for your favorite Ohio team!\nSunday October 20th\n1:00PM – 3:30PM\n$12 Admission  *Dress in your team gear for $2 Off Admission \n$19 Skate & Play includes Laser Tag Game 20 Credit Game Card \n*$6 Skate Rental Additional* \nPURCHASE TICKETS HERE! \nBIRTHDAY PARTIES AVAILABLE – CLICK HERE\nALL CHILDREN AGES 3-17 MUST PAY ADMISSION & ROLLER SKATE RENTAL (OR BRING THEIR OWN SKATES)\nNON-SKATING ADULTS MAY ENTER AT NO CHARGE\nAll adults and children who enter the building need to fill out our online waiver which can be found by clicking this link. You will have to show the signed waiver to the admission associate so please have it ready to make check in as quick as possible.   Effective 10/11/2024
URL:https://www.unitedskates.com/skate-zone-71/event/battle-of-ohio-bengals-vs-browns/
LOCATION:Skate Zone 71\, 4900 Evanswood Ddr.\, Columbus\, OH\, 43229\, United States
CATEGORIES:Public Skates,Special Events
ATTACH;FMTTYPE=image/jpeg:https://unitedskates-assets.sfo3.digitaloceanspaces.com/wp-content/uploads/sites/7/2024/09/10.20-R2.-Bengals-vs-Browns-Battle-of-Ohio.jpg
END:VEVENT
BEGIN:VEVENT
DTSTART;TZID=America/New_York:20241025T183000
DTEND;TZID=America/New_York:20241025T210000
DTSTAMP:20260424T194736
CREATED:20240906T143339Z
LAST-MODIFIED:20241011T192809Z
UID:32678-1729881000-1729890000@www.unitedskates.com
SUMMARY:VILLAIN SKATE
DESCRIPTION:😈🦹🏻VILLAIN SKATE 🦹🏻😈\nUnleash your inner villain and join us for a night of wicked fun at our Villain-Themed Skate Night! Whether you’re a master of mayhem or a schemer of chaos\, this is your chance to revel in your villainous persona!\nDress as your favorite Villain Character for our Costume Contest and enjoy $2 Off Admission!\n6:30PM – 9:00PM\n\n$12  Admission – $2 Off for Guests in Costume\n$6 Skate Rental\n\n  \nBIRTHDAY PARTIES AVAILABLE – CLICK HERE\nGROUP RATES AVAILABLE FOR PARTIES OF 15+ – CLICK HERE\nIS YOUR GROUP LOOKING FOR A FUN EVENT? CLICK HERE TO FIND OUT HOW TO FUNDRAISE DURING THIS SESSION!\nALL CHILDREN AGES 3-17 MUST PAY ADMISSION & ROLLER SKATE RENTAL (OR BRING THEIR OWN SKATES)\nNON-SKATING ADULTS MAY ENTER AT NO CHARGE\nAll adults and children who enter the building need to fill out our online waiver which can be found by clicking this link. You will have to show the signed waiver to the admission associate so please have it ready to make check in as quick as possible.   Effective 10/11/2024
URL:https://www.unitedskates.com/skate-zone-71/event/villain-skate/
LOCATION:Skate Zone 71\, 4900 Evanswood Ddr.\, Columbus\, OH\, 43229\, United States
CATEGORIES:Public Skates,Special Events
ATTACH;FMTTYPE=image/png:https://unitedskates-assets.sfo3.digitaloceanspaces.com/wp-content/uploads/sites/7/2024/09/Villain-Skate.png
END:VEVENT
BEGIN:VEVENT
DTSTART;VALUE=DATE:20241026
DTEND;VALUE=DATE:20241028
DTSTAMP:20260424T194736
CREATED:20240830T171606Z
LAST-MODIFIED:20240830T171607Z
UID:32582-1729918800-1730005199@www.unitedskates.com
SUMMARY:National Roller Skating Month
DESCRIPTION:END NRS MONTH AT SKATE ZONE 71\nStop by for all out guest appreciation at the end of National Roller Skating Month!!\nSaturday OCTOBER 26th: Guest Appreciation Skate – Free Glow Stick with All Paid Admissions\n8pm – 10:30pm Public Skating Session\n\nALL CHILDREN AGES 3-17 MUST PAY ADMISSION & ROLLER SKATE RENTAL (OR BRING THEIR OWN SKATES)\nNON-SKATING ADULTS MAY ENTER AT NO CHARGE\nALL ADULT SKATERS (18+) ARE REQUIRED TO SIGN A LIABILITY WAIVER
URL:https://www.unitedskates.com/skate-zone-71/event/national-roller-skating-month-4/
LOCATION:Skate Zone 71\, 4900 Evanswood Ddr.\, Columbus\, OH\, 43229\, United States
CATEGORIES:Public Skates,Special Events
ATTACH;FMTTYPE=image/png:https://unitedskates-assets.sfo3.digitaloceanspaces.com/wp-content/uploads/sites/7/2024/08/NRS-month-2024-1.png
END:VEVENT
BEGIN:VEVENT
DTSTART;VALUE=DATE:20241026
DTEND;VALUE=DATE:20241102
DTSTAMP:20260424T194736
CREATED:20241009T184241Z
LAST-MODIFIED:20241009T184301Z
UID:32914-1729918800-1730437199@www.unitedskates.com
SUMMARY:🛼👻🎃HALLOWEEN SKATING
DESCRIPTION:Join us for Great Family Skating Spooktacular Fun!!!\nDress-Up Skates\, Parties\, Discounts and More!!
URL:https://www.unitedskates.com/skate-zone-71/event/%f0%9f%9b%bc%f0%9f%91%bb%f0%9f%8e%83halloween-skating/
LOCATION:Skate Zone 71\, 4900 Evanswood Ddr.\, Columbus\, OH\, 43229\, United States
CATEGORIES:Adult Events,Family Events,Public Skates,Special Events
ATTACH;FMTTYPE=image/jpeg:https://unitedskates-assets.sfo3.digitaloceanspaces.com/wp-content/uploads/sites/7/2024/10/R2.-Halloween-week-of-fun-2024.jpg
END:VEVENT
BEGIN:VEVENT
DTSTART;TZID=America/New_York:20241026T110000
DTEND;TZID=America/New_York:20241026T130000
DTSTAMP:20260424T194736
CREATED:20240903T173644Z
LAST-MODIFIED:20241021T193747Z
UID:32648-1729940400-1729947600@www.unitedskates.com
SUMMARY:TINY TOT HALLOWEEN SKATE
DESCRIPTION:🎃👻TINY TOT HALLOWEEN SKATE👻🎃\nJoin us for a spooky themed Little Rollers skate! We’ve got GAMES\, TREATS & PRIZES for BEST COSTUME!\nSATURDAY OCTOBER 26th\n11:00AM – 1:00PM\n$12 Admission – Wear your costume for $2 Off Admission and for our Costume Contest! \n*$6 Skate Rental* \nStop into our Skate Lessons from 10AM – 11AM and stayover into this session for $5.50 Additional\n  \nBIRTHDAY PARTIES AVAILABLE – CLICK HERE\n\nKIDS HALLOWEEN & DISNEY HITS\n  \nALL CHILDREN AGES 3-17 MUST PAY ADMISSION & ROLLER SKATE RENTAL (OR BRING THEIR OWN SKATES)\nNON-SKATING ADULTS MAY ENTER AT NO CHARGE\nAll adults and children who enter the building need to fill out our online waiver which can be found by clicking this link. You will have to show the signed waiver to the admission associate so please have it ready to make check in as quick as possible.   Effective 10/11/2024
URL:https://www.unitedskates.com/skate-zone-71/event/tiny-tot-halloween-skate/
LOCATION:Skate Zone 71\, 4900 Evanswood Ddr.\, Columbus\, OH\, 43229\, United States
CATEGORIES:Public Skates,Special Events
ATTACH;FMTTYPE=image/png:https://unitedskates-assets.sfo3.digitaloceanspaces.com/wp-content/uploads/sites/7/2024/09/10.26-TinyTots-Halloween.png
END:VEVENT
BEGIN:VEVENT
DTSTART;TZID=America/New_York:20241027T160000
DTEND;TZID=America/New_York:20241027T190000
DTSTAMP:20260424T194736
CREATED:20240903T175818Z
LAST-MODIFIED:20241011T192521Z
UID:32652-1730044800-1730055600@www.unitedskates.com
SUMMARY:MONSTER MASH GLOW BASH
DESCRIPTION:Our “Monsters” are taking over the regular Sunday Public Skate to keep things SPOOKY all weekend!!\nJoin us at Skate Zone 71  for Character Meet & Greets\, Photo Ops\, Games & MORE!!\n4:00PM – 7:00PM\n$12 Admission – FREE Glow Stick when you wear your Costume! \n$6 Skate Rental \nPURCHASE TICKETS HERE!\nDISNEY HITS\, TOP 40 POP\, HALLOWEEN HITS\nBIRTHDAY PARTIES AVAILABLE – CLICK HERE\nALL CHILDREN AGES 3-17 MUST PAY ADMISSION & ROLLER SKATE RENTAL (OR BRING THEIR OWN SKATES)\nNON-SKATING ADULTS MAY ENTER AT NO CHARGE\nAll adults and children who enter the building need to fill out our online waiver which can be found by clicking this link. You will have to show the signed waiver to the admission associate so please have it ready to make check in as quick as possible.   Effective 10/11/2024
URL:https://www.unitedskates.com/skate-zone-71/event/monster-mash-glow-bash/
LOCATION:Skate Zone 71\, 4900 Evanswood Ddr.\, Columbus\, OH\, 43229\, United States
CATEGORIES:Public Skates,Special Events
ATTACH;FMTTYPE=image/png:https://unitedskates-assets.sfo3.digitaloceanspaces.com/wp-content/uploads/sites/7/2024/09/10.27-MONSTER-MASH-skate-BASH.png
END:VEVENT
BEGIN:VEVENT
DTSTART;TZID=America/New_York:20241031T170000
DTEND;TZID=America/New_York:20241031T200000
DTSTAMP:20260424T194736
CREATED:20240904T173158Z
LAST-MODIFIED:20241031T180034Z
UID:32659-1730394000-1730404800@www.unitedskates.com
SUMMARY:HALLOWEEN SKATE and TREAT
DESCRIPTION:🎃 Halloween Skate & Treat at Skate Zone 71! Reserve Your Spot Now! 🎃 \n\nUrban One & Skate Zone 71 Present:\nHALLOWEEN SKATE & TREAT!\nJoin us for a clean\, fun\, friendly & safe trick-or-treat skate party! Come dressed in your best costumes\, visit our Treat Stations\, and enjoy a spooky skate session on the rink! \n\nEvent Details:\n📅 Date: Thursday\, October 31st\n🕔 Time: 5:00 PM – 8:00 PM\n📍 Location: Skate Zone 71 \n\nAdmission Options: \n\n$5 Child Admission (includes skate rental) – LIMITED AVAILABILITY AT DOOR\n$6 Skating Adult Admission (includes skate rental)\nNon-Skating Adults enter for free!\n\nALL CHILDREN AGES 3-17 MUST BE RESERVED OR PAID\nALL ADULTS AND CHILDREN WHO ENTER THE BUILDING NEED TO FILL OUT OUR ONLINE WAIVER FORM – YOU WILL HAVE TO SHOW THE SIGNED WAIVER AT ADMISSION (PLEASE HAVE IT READY TO MAKE CHECK IN QUICK) EFFECTIVE 10/11/2024\nSIGN WAIVER HERE
URL:https://www.unitedskates.com/skate-zone-71/event/halloween-skate-treat/
LOCATION:Skate Zone 71\, 4900 Evanswood Ddr.\, Columbus\, OH\, 43229\, United States
CATEGORIES:Public Skates,Special Events
ATTACH;FMTTYPE=image/jpeg:https://unitedskates-assets.sfo3.digitaloceanspaces.com/wp-content/uploads/sites/7/2024/09/OH24-025-Halloween-Skate-and-Treat-event-cover-scaled.jpg
END:VEVENT
END:VCALENDAR