BEGIN:VCALENDAR
VERSION:2.0
PRODID:-//Rink 2 - Skate Zone 71 - ECPv6.15.20//NONSGML v1.0//EN
CALSCALE:GREGORIAN
METHOD:PUBLISH
X-WR-CALNAME:Rink 2 - Skate Zone 71
X-ORIGINAL-URL:https://www.unitedskates.com/skate-zone-71
X-WR-CALDESC:Events for Rink 2 - Skate Zone 71
REFRESH-INTERVAL;VALUE=DURATION:PT1H
X-Robots-Tag:noindex
X-PUBLISHED-TTL:PT1H
BEGIN:VTIMEZONE
TZID:America/New_York
BEGIN:DAYLIGHT
TZOFFSETFROM:-0500
TZOFFSETTO:-0400
TZNAME:EDT
DTSTART:20210314T070000
END:DAYLIGHT
BEGIN:STANDARD
TZOFFSETFROM:-0400
TZOFFSETTO:-0500
TZNAME:EST
DTSTART:20211107T060000
END:STANDARD
BEGIN:DAYLIGHT
TZOFFSETFROM:-0500
TZOFFSETTO:-0400
TZNAME:EDT
DTSTART:20220313T070000
END:DAYLIGHT
BEGIN:STANDARD
TZOFFSETFROM:-0400
TZOFFSETTO:-0500
TZNAME:EST
DTSTART:20221106T060000
END:STANDARD
BEGIN:DAYLIGHT
TZOFFSETFROM:-0500
TZOFFSETTO:-0400
TZNAME:EDT
DTSTART:20230312T070000
END:DAYLIGHT
BEGIN:STANDARD
TZOFFSETFROM:-0400
TZOFFSETTO:-0500
TZNAME:EST
DTSTART:20231105T060000
END:STANDARD
END:VTIMEZONE
BEGIN:VEVENT
DTSTART;VALUE=DATE:20220701
DTEND;VALUE=DATE:20220706
DTSTAMP:20260424T190214
CREATED:20220623T180143Z
LAST-MODIFIED:20220623T180143Z
UID:10131-1656651600-1656997199@www.unitedskates.com
SUMMARY:4th Of July Weekend Skating
DESCRIPTION:Come Celebrate the Holiday at United Skates! See Daily Schedules for times and pricing!
URL:https://www.unitedskates.com/skate-zone-71/event/4th-of-july-weekend-skating/
LOCATION:OH
CATEGORIES:Adult Events,Family Events,Public Skates
ATTACH;FMTTYPE=image/jpeg:https://unitedskates-assets.sfo3.digitaloceanspaces.com/wp-content/uploads/sites/7/2022/06/800px-4thofJuly-weekend-1200x900-1.jpg
END:VEVENT
BEGIN:VEVENT
DTSTART;TZID=America/New_York:20220619T130000
DTEND;TZID=America/New_York:20220619T153000
DTSTAMP:20260424T190214
CREATED:20220609T185459Z
LAST-MODIFIED:20220609T185459Z
UID:9559-1655643600-1655652600@www.unitedskates.com
SUMMARY:Father's Day Skate Party
DESCRIPTION:Top 40 Pop \n$9.50 for Children & Adults \n$4.50 Skate Rental / $5.50 Rollerblades \nCELEBRATE DADS!!!\nHappy Fathers Day – Sunday June 19th\n1:00-3:30 or 4:00-7:00pm\n$9.50 Admission\n$4.50 Roller Skate Rental / $5.50 Roller Blade Rental\nBring your Dad Roller Skating for fathers Day! Dad’s skate 1/2 price with a paid child admission!\n\nBirthday Party Packages Available https://www.unitedskates.com/skate-zone-71/kid-parties/\nReserve your ticket online  https://skatezone71.centeredgeonline.com/areas/areas\n\n#familytime #skating #discountedprice #columbusmom #columbusmomsblog #skatingisfun #discounteddeals #skatingrink #columbusalive #columbusmoms #columbusohio #discounted #birthdaycelebration #affordablefamilyfun #whattodoincolumbustoday #whattodoincolumbusthisweekend #whattodoincolumbusohio #whattodoincolumbus #skateparty #SkateParty #skatezone71columbusoh #rollerskating #birthdayparty #rollerskates #skatezone71 #rollerskate #family #614columbus #birthday #HappyFathersDay #dadsskatehalfprice #sundayfunday
URL:https://www.unitedskates.com/skate-zone-71/event/fathers-day-skate-party/2022-06-19/
LOCATION:Skate Zone 71\, 4900 Evanswood Ddr.\, Columbus\, OH\, 43229\, United States
CATEGORIES:Family Events,Public Skates
ATTACH;FMTTYPE=image/jpeg:https://unitedskates-assets.sfo3.digitaloceanspaces.com/wp-content/uploads/sites/7/2022/06/800px-Fathers-Day-2022-1200x900-1.jpg
END:VEVENT
BEGIN:VEVENT
DTSTART;TZID=America/New_York:20220610T180000
DTEND;TZID=America/New_York:20220610T210000
DTSTAMP:20260424T190214
CREATED:20220528T153133Z
LAST-MODIFIED:20220802T142138Z
UID:9407-1654884000-1654894800@www.unitedskates.com
SUMMARY:Friday Free Dinner Night
DESCRIPTION:$14.00 Admission includes; Roller Skate Rental\, Slice of Cheese Pizza & Drink. \n\n\n\n\n$1.00 extra for Rollerblades\n\n\n\n\n*First Friday of the Month – 80’s vs 90’s Roller-skate! Roll Back to Classic Skating Music!  \nOnline Admission Tickets Available – CLICK HERE \nBirthday Parties Available – CLICK HERE \nAll Children Ages 3-17 MUST Pay Admission & Roller Skate Rental\, (or bring their own skates) Non-Skating Adults may enter at no charge.
URL:https://www.unitedskates.com/skate-zone-71/event/friday-free-dinner-night/2022-06-10/
LOCATION:OH
CATEGORIES:Family Events,Public Skates
ATTACH;FMTTYPE=image/jpeg:https://unitedskates-assets.sfo3.digitaloceanspaces.com/wp-content/uploads/sites/7/2022/05/Friday-Night-Pizza-skate-1200x900-1.jpg
END:VEVENT
BEGIN:VEVENT
DTSTART;TZID=America/New_York:20220602T180000
DTEND;TZID=America/New_York:20220602T203000
DTSTAMP:20260424T190214
CREATED:20220504T162536Z
LAST-MODIFIED:20220809T201541Z
UID:4707-1654192800-1654201800@www.unitedskates.com
SUMMARY:Thursday Night Glow Skates
DESCRIPTION:GLOW WHILE YOU ROLL Every Thursday night to our great mix of Top 40 Pop\, R&B & Hip-Hop!  \n\n\n\n$1.00 Glow Sticks available at the door! \n\n\n\nBirthday Parties Available – CLICK HERE TO RESERVE \n\n\n\nOnline Tickets Available – Click Here \n\n\n\nAdmission: $9.00\n\n\n\nSkate Rental: $4.50\n\n\n\nRollerblade Rental: $5.50\nAll Adult Skaters (18+) are required to sign a liability waiver. \nELECTRONIC WAIVER CARDS ARE NOW AVAILABLE!! Save your time in line and plan ahead!! https://form.bookingzone.com/221952034811045
URL:https://www.unitedskates.com/skate-zone-71/event/thursday-night-glow-skates/2022-06-02/
LOCATION:Skate Zone 71\, 4900 Evanswood Ddr.\, Columbus\, OH\, 43229\, United States
CATEGORIES:Family Events,Public Skates
ATTACH;FMTTYPE=image/jpeg:https://unitedskates-assets.sfo3.digitaloceanspaces.com/wp-content/uploads/sites/7/2022/05/Glow-Skate-1200x900-1.jpg
END:VEVENT
BEGIN:VEVENT
DTSTART;TZID=America/New_York:20220512T180000
DTEND;TZID=America/New_York:20220512T203000
DTSTAMP:20260424T190214
CREATED:20220504T161925Z
LAST-MODIFIED:20220523T025740Z
UID:4576-1652378400-1652387400@www.unitedskates.com
SUMMARY:Glow Skate
DESCRIPTION:Bring the Family out Thursday Night for a cool Glow Skate! Wear your light colors and GLOW WHILE YOU ROLL! \n\n\n\nBirthday Parties Available – CLICK HERE TO RESERVE \n\n\n\nOnline Tickets Available – Click Here
URL:https://www.unitedskates.com/skate-zone-71/event/glow-skate/
LOCATION:Skate Zone 71\, 4900 Evanswood Ddr.\, Columbus\, OH\, 43229\, United States
CATEGORIES:Family Events
ATTACH;FMTTYPE=image/jpeg:https://unitedskates-assets.sfo3.digitaloceanspaces.com/wp-content/uploads/sites/7/2022/05/Glow-Skate-1200x900-1.jpg
END:VEVENT
BEGIN:VEVENT
DTSTART;TZID=America/New_York:20220506T180000
DTEND;TZID=America/New_York:20220506T210000
DTSTAMP:20260424T190214
CREATED:20220502T173231Z
LAST-MODIFIED:20220528T152909Z
UID:3940-1651860000-1651870800@www.unitedskates.com
SUMMARY:Friday Free Dinner Skate
DESCRIPTION:$13.00 Admission includes; Roller Skate Rental\, Slice of Cheese Pizza & Drink. \n\n\n\n\n$1.00 extra for Rollerblades\n\n\n\n\n*First Friday of the Month – 80’s vs 90’s Roller-skate! Roll Back to Classic Skating Music!
URL:https://www.unitedskates.com/skate-zone-71/event/friday-night-pizza-family-skates/2022-05-06/
LOCATION:Skate Zone 71\, 4900 Evanswood Ddr.\, Columbus\, OH\, 43229\, United States
CATEGORIES:Family Events,Public Skates
ATTACH;FMTTYPE=image/jpeg:https://unitedskates-assets.sfo3.digitaloceanspaces.com/wp-content/uploads/sites/7/2022/05/Friday-Night-Pizza-skate-1200x900-1.jpg
END:VEVENT
BEGIN:VEVENT
DTSTART;TZID=America/New_York:20220503T180000
DTEND;TZID=America/New_York:20220503T203000
DTSTAMP:20260424T190214
CREATED:20220502T165251Z
LAST-MODIFIED:20220725T170959Z
UID:3608-1651600800-1651609800@www.unitedskates.com
SUMMARY:Two for $10 Tuesday
DESCRIPTION:2 Admissions for $10! – or $5.00/each \n\n\n\nSkate Rental is $4.50/ Roller Blades $5.50 \nOnline Admission Tickets Available – CLICK HERE \nBirthday Parties Available – CLICK HERE \nAll Children Ages 3-17 MUST Pay Admission & Roller Skate Rental\, (or bring their own skates) Non-Skating Adults may enter at no charge.
URL:https://www.unitedskates.com/skate-zone-71/event/two-for-10-tuesday/2022-05-03/
LOCATION:Skate Zone 71\, 4900 Evanswood Ddr.\, Columbus\, OH\, 43229\, United States
CATEGORIES:Family Events,Public Skates
ATTACH;FMTTYPE=image/jpeg:https://unitedskates-assets.sfo3.digitaloceanspaces.com/wp-content/uploads/sites/7/2022/05/2-for-10-dollars-2022-1200x900-1.jpg
END:VEVENT
END:VCALENDAR