BEGIN:VCALENDAR
VERSION:2.0
PRODID:-//Rink 2 - Skate Zone 71 - ECPv6.15.20//NONSGML v1.0//EN
CALSCALE:GREGORIAN
METHOD:PUBLISH
X-ORIGINAL-URL:https://www.unitedskates.com/skate-zone-71
X-WR-CALDESC:Events for Rink 2 - Skate Zone 71
REFRESH-INTERVAL;VALUE=DURATION:PT1H
X-Robots-Tag:noindex
X-PUBLISHED-TTL:PT1H
BEGIN:VTIMEZONE
TZID:America/New_York
BEGIN:DAYLIGHT
TZOFFSETFROM:-0500
TZOFFSETTO:-0400
TZNAME:EDT
DTSTART:20220313T070000
END:DAYLIGHT
BEGIN:STANDARD
TZOFFSETFROM:-0400
TZOFFSETTO:-0500
TZNAME:EST
DTSTART:20221106T060000
END:STANDARD
BEGIN:DAYLIGHT
TZOFFSETFROM:-0500
TZOFFSETTO:-0400
TZNAME:EDT
DTSTART:20230312T070000
END:DAYLIGHT
BEGIN:STANDARD
TZOFFSETFROM:-0400
TZOFFSETTO:-0500
TZNAME:EST
DTSTART:20231105T060000
END:STANDARD
BEGIN:DAYLIGHT
TZOFFSETFROM:-0500
TZOFFSETTO:-0400
TZNAME:EDT
DTSTART:20240310T070000
END:DAYLIGHT
BEGIN:STANDARD
TZOFFSETFROM:-0400
TZOFFSETTO:-0500
TZNAME:EST
DTSTART:20241103T060000
END:STANDARD
END:VTIMEZONE
BEGIN:VEVENT
DTSTART;TZID=America/New_York:20231227T180000
DTEND;TZID=America/New_York:20231227T203000
DTSTAMP:20260424T233346
CREATED:20220725T170005Z
LAST-MODIFIED:20231103T174652Z
UID:16977-1703700000-1703709000@www.unitedskates.com
SUMMARY:WB Affordable Family Skate
DESCRIPTION:🛼It’s time for a Holiday Family Skate🛼\n6:00PM – 8:30PM\nPick from TWO Admission Options: \n\nSkate & Play $13 – includes Admission\, 20 Game Credits & 1 Game of Laser Tag\nSkate Fun $6 – Admission \n\n*$5 SKATE RENTAL ADDITIONAL* \nBIRTHDAY PARTIES AVAILABLE – CLICK HERE\nGROUP RATES AVAILABLE FOR PARTIES OF 15+ – CLICK HERE\nALL CHILDREN AGES 3-17 MUST PAY ADMISSION & ROLLER SKATE RENTAL (OR BRING THEIR OWN SKATES)\nNON-SKATING ADULTS MAY ENTER AT NO CHARGE\nALL ADULT SKATERS (18+) ARE REQUIRED TO SIGN A LIABILITY WAIVER
URL:https://www.unitedskates.com/skate-zone-71/event/5-00-affordable-family-skate-2023-08-23-2023-12-27/2023-12-27/
LOCATION:Skate Zone 71\, 4900 Evanswood Ddr.\, Columbus\, OH\, 43229\, United States
CATEGORIES:Family Events,Public Skates,Special Events
ATTACH;FMTTYPE=image/jpeg:https://unitedskates-assets.sfo3.digitaloceanspaces.com/wp-content/uploads/sites/7/2022/07/aff-skate-1200x1200-1.jpg
END:VEVENT
END:VCALENDAR