BEGIN:VCALENDAR
VERSION:2.0
PRODID:-//Rink 25 - Seaford - ECPv6.15.20//NONSGML v1.0//EN
CALSCALE:GREGORIAN
METHOD:PUBLISH
X-WR-CALNAME:Rink 25 - Seaford
X-ORIGINAL-URL:https://www.unitedskates.com/seaford
X-WR-CALDESC:Events for Rink 25 - Seaford
REFRESH-INTERVAL;VALUE=DURATION:PT1H
X-Robots-Tag:noindex
X-PUBLISHED-TTL:PT1H
BEGIN:VTIMEZONE
TZID:America/New_York
BEGIN:DAYLIGHT
TZOFFSETFROM:-0500
TZOFFSETTO:-0400
TZNAME:EDT
DTSTART:20250309T070000
END:DAYLIGHT
BEGIN:STANDARD
TZOFFSETFROM:-0400
TZOFFSETTO:-0500
TZNAME:EST
DTSTART:20251102T060000
END:STANDARD
BEGIN:DAYLIGHT
TZOFFSETFROM:-0500
TZOFFSETTO:-0400
TZNAME:EDT
DTSTART:20260308T070000
END:DAYLIGHT
BEGIN:STANDARD
TZOFFSETFROM:-0400
TZOFFSETTO:-0500
TZNAME:EST
DTSTART:20261101T060000
END:STANDARD
BEGIN:DAYLIGHT
TZOFFSETFROM:-0500
TZOFFSETTO:-0400
TZNAME:EDT
DTSTART:20270314T070000
END:DAYLIGHT
BEGIN:STANDARD
TZOFFSETFROM:-0400
TZOFFSETTO:-0500
TZNAME:EST
DTSTART:20271107T060000
END:STANDARD
END:VTIMEZONE
BEGIN:VEVENT
DTSTART;TZID=America/New_York:20260314T223000
DTEND;TZID=America/New_York:20260315T130000
DTSTAMP:20260421T192642
CREATED:20260111T013056Z
LAST-MODIFIED:20260307T143815Z
UID:26745-1773527400-1773579600@www.unitedskates.com
SUMMARY:Second Saturday
DESCRIPTION:🎧 Second Saturday Skate Night with DJ Arson 🔥 Get ready for an electrifying night of music\, lights\, and nonstop skating at United Skates of America! \n🕥 Time: 10:30 PM – 1:30 AM \n🎟️ Admission: $17 online | $20 at the door 🛼 Skate Rental: $7 \nDJ Arson will be spinning the hottest tracks all night long—don’t miss this epic adults-only skate party! Whether you’re vibing on the rink or chilling with friends\, it’s the perfect way to spend your Saturday night. \nSecure your spot early and let’s roll into the weekend in style! \nClick Here For Tickets
URL:https://www.unitedskates.com/seaford/event/second-saturday-3-2026-03-14/
CATEGORIES:Adult Events,Public Skates,Special Events
ATTACH;FMTTYPE=image/jpeg:https://unitedskates-assets.sfo3.digitaloceanspaces.com/wp-content/uploads/sites/11/2026/01/Second-Saturday-Adult-Skate-.jpg
END:VEVENT
BEGIN:VEVENT
DTSTART;TZID=America/New_York:20260315T120000
DTEND;TZID=America/New_York:20260315T140000
DTSTAMP:20260421T192642
CREATED:20260204T194806Z
LAST-MODIFIED:20260204T195236Z
UID:27043-1773576000-1773583200@www.unitedskates.com
SUMMARY:🐢🛼 COWABUNGA\, SKATE! 🎉
DESCRIPTION:🐢🛼 COWABUNGA\, SEAFORD! 🎉 The turtles are rolling into the rink and it’s time to skate\, vibe\, and snap the coolest selfies ever! Bring the whole crew for an action‑packed afternoon with your favorite heroes. \n🗓️ Sunday\, March 15 \n🕛 12:00 PM – 2:00 PM \n📍 United Skates of America – Seaford \n🎟️ Admission: $17.50 \n💻 $15.50 online Click Here to Buy Now! \n🛼 Skate Rental: $7 \n👀 Non‑Skating Adults: $6 \n✨ Hang out with the turtles \n✨ Take awesome selfies \n✨ Ask about VIP packages for extra fun \nDon’t miss this totally tubular skate party — it’s going to be a shell‑shocking good time! 🐢💥🛼
URL:https://www.unitedskates.com/seaford/event/%f0%9f%90%a2%f0%9f%9b%bc-cowabunga-skate-%f0%9f%8e%89/
CATEGORIES:Family Events,Public Skates,Special Events
ATTACH;FMTTYPE=image/jpeg:https://unitedskates-assets.sfo3.digitaloceanspaces.com/wp-content/uploads/sites/11/2026/02/Cowabunga-Skate-.jpg
END:VEVENT
END:VCALENDAR