BEGIN:VCALENDAR
VERSION:2.0
PRODID:-//Rink 25 - Seaford - ECPv6.15.20//NONSGML v1.0//EN
CALSCALE:GREGORIAN
METHOD:PUBLISH
X-ORIGINAL-URL:https://www.unitedskates.com/seaford
X-WR-CALDESC:Events for Rink 25 - Seaford
REFRESH-INTERVAL;VALUE=DURATION:PT1H
X-Robots-Tag:noindex
X-PUBLISHED-TTL:PT1H
BEGIN:VTIMEZONE
TZID:America/New_York
BEGIN:DAYLIGHT
TZOFFSETFROM:-0500
TZOFFSETTO:-0400
TZNAME:EDT
DTSTART:20240310T070000
END:DAYLIGHT
BEGIN:STANDARD
TZOFFSETFROM:-0400
TZOFFSETTO:-0500
TZNAME:EST
DTSTART:20241103T060000
END:STANDARD
BEGIN:DAYLIGHT
TZOFFSETFROM:-0500
TZOFFSETTO:-0400
TZNAME:EDT
DTSTART:20250309T070000
END:DAYLIGHT
BEGIN:STANDARD
TZOFFSETFROM:-0400
TZOFFSETTO:-0500
TZNAME:EST
DTSTART:20251102T060000
END:STANDARD
BEGIN:DAYLIGHT
TZOFFSETFROM:-0500
TZOFFSETTO:-0400
TZNAME:EDT
DTSTART:20260308T070000
END:DAYLIGHT
BEGIN:STANDARD
TZOFFSETFROM:-0400
TZOFFSETTO:-0500
TZNAME:EST
DTSTART:20261101T060000
END:STANDARD
BEGIN:DAYLIGHT
TZOFFSETFROM:-0500
TZOFFSETTO:-0400
TZNAME:EDT
DTSTART:20270314T070000
END:DAYLIGHT
BEGIN:STANDARD
TZOFFSETFROM:-0400
TZOFFSETTO:-0500
TZNAME:EST
DTSTART:20271107T060000
END:STANDARD
END:VTIMEZONE
BEGIN:VEVENT
DTSTART;TZID=America/New_York:20251219T183000
DTEND;TZID=America/New_York:20260104T213000
DTSTAMP:20260422T140310
CREATED:20251202T025139Z
LAST-MODIFIED:20251226T214906Z
UID:25792-1766169000-1767562200@www.unitedskates.com
SUMMARY:Winter Break Skate Schedule — School’s Out\, Time to Roll!
DESCRIPTION:School’s out and the fun begins! Join us every day of Winter Break for themed skate sessions\, great music\, family events\, and special holiday celebrations. \nFrom Christmas Eve Skate to New Year’s Eve Parties\, we’ve got something for everyone. \nGet your tickets early and roll into the holiday fun! \nGET TICKETS HERE
URL:https://www.unitedskates.com/seaford/event/winter-break-skate-schedule-schools-out-time-to-roll/
CATEGORIES:Family Events,Public Skates,Special Events
ATTACH;FMTTYPE=image/jpeg:https://unitedskates-assets.sfo3.digitaloceanspaces.com/wp-content/uploads/sites/11/2025/12/Rink-25-Winter-Break-2025-front-3.jpg
END:VEVENT
BEGIN:VEVENT
DTSTART;TZID=America/New_York:20251223T163000
DTEND;TZID=America/New_York:20251223T183000
DTSTAMP:20260422T140310
CREATED:20251117T154708Z
LAST-MODIFIED:20251117T155603Z
UID:25569-1766507400-1766514600@www.unitedskates.com
SUMMARY:Grinch Vs Frosty SnowBall Fight
DESCRIPTION:❄️🎄 Grinch vs. Frosty Indoor Snowball Fight! 🎄❄️ \nWho will win the ultimate holiday showdown? Join us for a wild winter battle full of laughs\, snowballs\, and skating fun! \n📅 Tuesday\, December 23 \n🕓 4:30 PM – 6:30 PM \n📍 United Skates of America – Seaford 📌 1276 Hicksville Rd\, Seaford\, NY 11783 \n🎟️ Admission: $15.50 online | $17.50 at the door \n🛼 Skate Rental: $7 \n👨‍👩‍👧 Non-Skating Adults: $6 \n🎉 Skating ends at 6:15 PM for the World’s Largest Fake Snowball Fight — don’t miss the fun! 🎟️ Grab your tickets now: www.unitedskates.com/seaford \n💥 Costumes encouraged. Snowballs provided. Memories guaranteed. \n\n  \n  \nClick Here for Tickets
URL:https://www.unitedskates.com/seaford/event/grinch-vs-frosty-snowball-fight-3/
CATEGORIES:Family Events,Public Skates,Special Events
ATTACH;FMTTYPE=image/jpeg:https://unitedskates-assets.sfo3.digitaloceanspaces.com/wp-content/uploads/sites/11/2025/11/Grinch-vs-Frosty-Indoor-Snowball-Fight-scaled.jpg
END:VEVENT
BEGIN:VEVENT
DTSTART;TZID=America/New_York:20251223T190000
DTEND;TZID=America/New_York:20251223T210000
DTSTAMP:20260422T140310
CREATED:20251028T183112Z
LAST-MODIFIED:20251028T185347Z
UID:25245-1766516400-1766523600@www.unitedskates.com
SUMMARY:Elf Skate Party
DESCRIPTION:🎄🛼 Elf Skate Party! 🛼🎄 \nGet ready to jingle and roll at our Elf Skate Party on Monday\, December 23rd from 7:00pm to 9:00pm at United Skates of America – Seaford! \n🧝‍♂️✨ Come dressed in your elf gear or holiday best and skate into the season with festive music\, holiday cheer\, and magical vibes on wheels! \n🎟️ Event Details: \n\nAdmission: $17.50 at the door / $15.50 online\nSkate Rental: $7\nNon-Skating Adults: $6\n\n🎫 Grab your tickets now: Click Here for Tickets  Space is limited—don’t miss your chance to celebrate the holidays with a night of skating\, laughter\, and elf-tastic fun! 🎅🛼💫 \n  \n 
URL:https://www.unitedskates.com/seaford/event/elf-skate-party/
CATEGORIES:Family Events,Public Skates,Special Events
ATTACH;FMTTYPE=image/jpeg:https://unitedskates-assets.sfo3.digitaloceanspaces.com/wp-content/uploads/sites/11/2025/10/Come-Skate-with-Jingles-the-Elf.jpg
END:VEVENT
BEGIN:VEVENT
DTSTART;TZID=America/New_York:20251223T213000
DTEND;TZID=America/New_York:20251223T233000
DTSTAMP:20260422T140310
CREATED:20251118T163309Z
LAST-MODIFIED:20251118T170019Z
UID:25581-1766525400-1766532600@www.unitedskates.com
SUMMARY:Cheap Skate
DESCRIPTION:Cheap Skate \nAdmission is $10 at the door/ $8.00 online \nSkate Rental is $7 \nNon Skating Adults are $6 \nClick Here for Tickets
URL:https://www.unitedskates.com/seaford/event/cheap-skate-35/
LOCATION:United Skates Of America Seaford\, 1276 Hicksville Rd.\, Seaford\, NY\, 11783\, United States
CATEGORIES:Family Events,Public Skates,Special Events
ATTACH;FMTTYPE=image/jpeg:https://unitedskates-assets.sfo3.digitaloceanspaces.com/wp-content/uploads/sites/11/2025/11/Rudolph-Glow-Roll-1-1.jpg
END:VEVENT
END:VCALENDAR