BEGIN:VCALENDAR
VERSION:2.0
PRODID:-//Rink 25 - Seaford - ECPv6.15.20//NONSGML v1.0//EN
CALSCALE:GREGORIAN
METHOD:PUBLISH
X-WR-CALNAME:Rink 25 - Seaford
X-ORIGINAL-URL:https://www.unitedskates.com/seaford
X-WR-CALDESC:Events for Rink 25 - Seaford
REFRESH-INTERVAL;VALUE=DURATION:PT1H
X-Robots-Tag:noindex
X-PUBLISHED-TTL:PT1H
BEGIN:VTIMEZONE
TZID:America/New_York
BEGIN:DAYLIGHT
TZOFFSETFROM:-0500
TZOFFSETTO:-0400
TZNAME:EDT
DTSTART:20240310T070000
END:DAYLIGHT
BEGIN:STANDARD
TZOFFSETFROM:-0400
TZOFFSETTO:-0500
TZNAME:EST
DTSTART:20241103T060000
END:STANDARD
BEGIN:DAYLIGHT
TZOFFSETFROM:-0500
TZOFFSETTO:-0400
TZNAME:EDT
DTSTART:20250309T070000
END:DAYLIGHT
BEGIN:STANDARD
TZOFFSETFROM:-0400
TZOFFSETTO:-0500
TZNAME:EST
DTSTART:20251102T060000
END:STANDARD
BEGIN:DAYLIGHT
TZOFFSETFROM:-0500
TZOFFSETTO:-0400
TZNAME:EDT
DTSTART:20260308T070000
END:DAYLIGHT
BEGIN:STANDARD
TZOFFSETFROM:-0400
TZOFFSETTO:-0500
TZNAME:EST
DTSTART:20261101T060000
END:STANDARD
BEGIN:DAYLIGHT
TZOFFSETFROM:-0500
TZOFFSETTO:-0400
TZNAME:EDT
DTSTART:20270314T070000
END:DAYLIGHT
BEGIN:STANDARD
TZOFFSETFROM:-0400
TZOFFSETTO:-0500
TZNAME:EST
DTSTART:20271107T060000
END:STANDARD
END:VTIMEZONE
BEGIN:VEVENT
DTSTART;TZID=America/New_York:20251219T183000
DTEND;TZID=America/New_York:20260104T213000
DTSTAMP:20260422T060758
CREATED:20251202T025139Z
LAST-MODIFIED:20251226T214906Z
UID:25792-1766169000-1767562200@www.unitedskates.com
SUMMARY:Winter Break Skate Schedule — School’s Out\, Time to Roll!
DESCRIPTION:School’s out and the fun begins! Join us every day of Winter Break for themed skate sessions\, great music\, family events\, and special holiday celebrations. \nFrom Christmas Eve Skate to New Year’s Eve Parties\, we’ve got something for everyone. \nGet your tickets early and roll into the holiday fun! \nGET TICKETS HERE
URL:https://www.unitedskates.com/seaford/event/winter-break-skate-schedule-schools-out-time-to-roll/
CATEGORIES:Family Events,Public Skates,Special Events
ATTACH;FMTTYPE=image/jpeg:https://unitedskates-assets.sfo3.digitaloceanspaces.com/wp-content/uploads/sites/11/2025/12/Rink-25-Winter-Break-2025-front-3.jpg
END:VEVENT
BEGIN:VEVENT
DTSTART;TZID=America/New_York:20251222T123000
DTEND;TZID=America/New_York:20251222T143000
DTSTAMP:20260422T060758
CREATED:20251210T180458Z
LAST-MODIFIED:20251210T180549Z
UID:26012-1766406600-1766413800@www.unitedskates.com
SUMMARY:Glow in the Park
DESCRIPTION:$15.50 admission for skaters\, $6 non-skating adults \nRegular Skate Rental $7.00\nSkate Mate Rental $7.00 \nAll Guests ages 3-17 must pay an admission\nAll Sales are Final – tax and fees are additional \n*Group bookings available for Park & Recreation Departments\, contact Rosemarie for more information at UnitedSkatesSalesli@gmail.com* \nPurchase Tickets Here!
URL:https://www.unitedskates.com/seaford/event/glow-in-the-park/
CATEGORIES:Family Events,Public Skates,Special Events
ATTACH;FMTTYPE=image/jpeg:https://unitedskates-assets.sfo3.digitaloceanspaces.com/wp-content/uploads/sites/11/2025/12/Copy-of-Glow-in-the-Park-Celebrating-Recreation-12.22.25.jpg
END:VEVENT
BEGIN:VEVENT
DTSTART;TZID=America/New_York:20251222T203000
DTEND;TZID=America/New_York:20251222T233000
DTSTAMP:20260422T060758
CREATED:20231116T211827Z
LAST-MODIFIED:20251124T153619Z
UID:25474-1766435400-1766446200@www.unitedskates.com
SUMMARY:Mandatory Monday Adult Night Christmas Version
DESCRIPTION:Adult Night Skate \nMust be over the age of 18 \nAdmission is $18 online $21 at the door \nSkate Rental is $7 \nClick Here for Tickets \n  \nPlease Fill out your waiver prior to arrival \nClick Here for Waiver
URL:https://www.unitedskates.com/seaford/event/mandatory-monday-adult-night-2-2024-05-06-2025-12-22/
LOCATION:United Skates Of America Seaford\, 1276 Hicksville Rd.\, Seaford\, NY\, 11783\, United States
CATEGORIES:Adult Events,Public Skates,Special Events
ATTACH;FMTTYPE=image/jpeg:https://unitedskates-assets.sfo3.digitaloceanspaces.com/wp-content/uploads/sites/11/2023/11/Mandatory-Monday-The-Christmas-Edition-scaled.jpg
END:VEVENT
END:VCALENDAR