BEGIN:VCALENDAR
VERSION:2.0
PRODID:-//Rink 25 - Seaford - ECPv6.15.20//NONSGML v1.0//EN
CALSCALE:GREGORIAN
METHOD:PUBLISH
X-WR-CALNAME:Rink 25 - Seaford
X-ORIGINAL-URL:https://www.unitedskates.com/seaford
X-WR-CALDESC:Events for Rink 25 - Seaford
REFRESH-INTERVAL;VALUE=DURATION:PT1H
X-Robots-Tag:noindex
X-PUBLISHED-TTL:PT1H
BEGIN:VTIMEZONE
TZID:America/New_York
BEGIN:DAYLIGHT
TZOFFSETFROM:-0500
TZOFFSETTO:-0400
TZNAME:EDT
DTSTART:20240310T070000
END:DAYLIGHT
BEGIN:STANDARD
TZOFFSETFROM:-0400
TZOFFSETTO:-0500
TZNAME:EST
DTSTART:20241103T060000
END:STANDARD
BEGIN:DAYLIGHT
TZOFFSETFROM:-0500
TZOFFSETTO:-0400
TZNAME:EDT
DTSTART:20250309T070000
END:DAYLIGHT
BEGIN:STANDARD
TZOFFSETFROM:-0400
TZOFFSETTO:-0500
TZNAME:EST
DTSTART:20251102T060000
END:STANDARD
BEGIN:DAYLIGHT
TZOFFSETFROM:-0500
TZOFFSETTO:-0400
TZNAME:EDT
DTSTART:20260308T070000
END:DAYLIGHT
BEGIN:STANDARD
TZOFFSETFROM:-0400
TZOFFSETTO:-0500
TZNAME:EST
DTSTART:20261101T060000
END:STANDARD
END:VTIMEZONE
BEGIN:VEVENT
DTSTART;TZID=America/New_York:20251213T093000
DTEND;TZID=America/New_York:20251213T110000
DTSTAMP:20260422T073040
CREATED:20250627T131538Z
LAST-MODIFIED:20250627T132519Z
UID:23603-1765618200-1765623600@www.unitedskates.com
SUMMARY:Santa & Friends
DESCRIPTION:🎅🎁 HOLIDAY MAGIC ALERT! 🎁🎅\nYou’re invited to BREAKFAST WITH SANTA & FRIENDS on Saturday\, December 13th | 9:30–11:00 AM—a jolly good time for the whole family! \n🌟 Meet & mingle with Santa\, Mrs. Claus\, Rudolph\, the Gingerbread Man & a Toy Soldier!\n🍳 Feast on a festive breakfast buffet: hot eggs\, fluffy pancakes\, crispy bacon\, muffins\, and cereal!\n🍪 Then sip steaming cocoa and nibble on Christmas cookies while you snap magical holiday photos! \n🎄 Wear your favorite Christmas pajamas\, sprinkle some cheer\, and bring those wish lists!\n🎟️ Space is limited—don’t miss out! Grab your golden ticket here:\n👉 Click Here for Tickets \nLet’s deck the halls\, fill our plates\, and start the season with a whole lot of merry! 🎉🛷 \nThis is a non skating event \nAll Ticket sales are Final \nNo Refunds or exchanges \n \n  \n 
URL:https://www.unitedskates.com/seaford/event/santa-friends/
CATEGORIES:Family Events,Special Events
ATTACH;FMTTYPE=image/jpeg:https://unitedskates-assets.sfo3.digitaloceanspaces.com/wp-content/uploads/sites/11/2025/06/santa-12-13-25.jpg
END:VEVENT
BEGIN:VEVENT
DTSTART;TZID=America/New_York:20251213T150000
DTEND;TZID=America/New_York:20251213T170000
DTSTAMP:20260422T073040
CREATED:20250306T170141Z
LAST-MODIFIED:20251113T185857Z
UID:24532-1765638000-1765645200@www.unitedskates.com
SUMMARY:Public Skating
DESCRIPTION:All Children & Skating Adults Admission is $16.50 \nSkate Rental is $7 \nNon Skating Adults $6 \nOnline Ticket Prices \nAll Children & Skating Adults Admission is $15.50 \nSkate Rental is $7 \nNon Skating Adults $6 \nClick Here for Tickets \nAll Guests entering the facility skating & non-skating must have a waiver. \nPlease complete waiver prior to arrival. \nPlease click here for the Waiver \nNo refunds. \nAll Sales are final
URL:https://www.unitedskates.com/seaford/event/public-skating-19-2025-05-03/2025-12-13/
CATEGORIES:Family Events,Public Skates,Special Events
ATTACH;FMTTYPE=image/jpeg:https://unitedskates-assets.sfo3.digitaloceanspaces.com/wp-content/uploads/sites/11/2022/05/Public-Skate-1200x900-1.jpg
END:VEVENT
BEGIN:VEVENT
DTSTART;TZID=America/New_York:20251213T223000
DTEND;TZID=America/New_York:20251214T013000
DTSTAMP:20260422T073040
CREATED:20250827T182850Z
LAST-MODIFIED:20250827T182850Z
UID:25118-1765665000-1765675800@www.unitedskates.com
SUMMARY:Second Saturday
DESCRIPTION:🎧 Second Saturday Skate Night with DJ Arson 🔥 Get ready for an electrifying night of music\, lights\, and nonstop skating at United Skates of America! \n📅 Date: Saturday\, September 13th \n🕥 Time: 10:30 PM – 1:30 AM \n🎟️ Admission: $17 online | $20 at the door 🛼 Skate Rental: $7 \nDJ Arson will be spinning the hottest tracks all night long—don’t miss this epic adults-only skate party! Whether you’re vibing on the rink or chilling with friends\, it’s the perfect way to spend your Saturday night. \nSecure your spot early and let’s roll into the weekend in style! \nClick Here For Tickets
URL:https://www.unitedskates.com/seaford/event/second-saturday-2/2025-12-13/
CATEGORIES:Adult Events,Special Events
ATTACH;FMTTYPE=image/jpeg:https://unitedskates-assets.sfo3.digitaloceanspaces.com/wp-content/uploads/sites/11/2024/11/Second-Saturday-Adult-Nights-25-v2.jpg
END:VEVENT
END:VCALENDAR