BEGIN:VCALENDAR
VERSION:2.0
PRODID:-//Rink 25 - Seaford - ECPv6.15.20//NONSGML v1.0//EN
CALSCALE:GREGORIAN
METHOD:PUBLISH
X-WR-CALNAME:Rink 25 - Seaford
X-ORIGINAL-URL:https://www.unitedskates.com/seaford
X-WR-CALDESC:Events for Rink 25 - Seaford
REFRESH-INTERVAL;VALUE=DURATION:PT1H
X-Robots-Tag:noindex
X-PUBLISHED-TTL:PT1H
BEGIN:VTIMEZONE
TZID:America/New_York
BEGIN:DAYLIGHT
TZOFFSETFROM:-0500
TZOFFSETTO:-0400
TZNAME:EDT
DTSTART:20240310T070000
END:DAYLIGHT
BEGIN:STANDARD
TZOFFSETFROM:-0400
TZOFFSETTO:-0500
TZNAME:EST
DTSTART:20241103T060000
END:STANDARD
BEGIN:DAYLIGHT
TZOFFSETFROM:-0500
TZOFFSETTO:-0400
TZNAME:EDT
DTSTART:20250309T070000
END:DAYLIGHT
BEGIN:STANDARD
TZOFFSETFROM:-0400
TZOFFSETTO:-0500
TZNAME:EST
DTSTART:20251102T060000
END:STANDARD
BEGIN:DAYLIGHT
TZOFFSETFROM:-0500
TZOFFSETTO:-0400
TZNAME:EDT
DTSTART:20260308T070000
END:DAYLIGHT
BEGIN:STANDARD
TZOFFSETFROM:-0400
TZOFFSETTO:-0500
TZNAME:EST
DTSTART:20261101T060000
END:STANDARD
END:VTIMEZONE
BEGIN:VEVENT
DTSTART;TZID=America/New_York:20251211T160000
DTEND;TZID=America/New_York:20251211T180000
DTSTAMP:20260422T060759
CREATED:20250606T164131Z
LAST-MODIFIED:20251230T223958Z
UID:24903-1765468800-1765476000@www.unitedskates.com
SUMMARY:Affordable Family Fun
DESCRIPTION: Affordable Family Fun Every Thursday! \nJoin us at United Skates for a fantastic afternoon of family fun that won’t break the bank!\n When: Every Thursday\n  Time: 4:00 PM – 6:00 PM\n Where: United Skates of America\nAdmission: $8.25\nSkate Rental: $7\nEvent Highlights:\n Roller Skating Fun – Enjoy an exciting time on wheels with family and friends.\n Great Music – Skate to your favorite tunes and feel the rhythm.\n Family-Friendly Atmosphere – Perfect for kids and adults alike.\nDon’t miss out on this affordable and fun-filled event. Gather your loved ones\, lace up your skates\, and get ready for an awesome Thursday afternoon!\nReady to roll with your family? \nClick Here for Tickets \nAll Guests entering the facility skating & non-skating must have a waiver. \nPlease complete waiver prior to arrival. \nPlease click here for the Waiver \nNo refunds Day of the event of after. \n 
URL:https://www.unitedskates.com/seaford/event/affordable-family-fun-11/2025-12-11/
LOCATION:United Skates Of America Seaford\, 1276 Hicksville Rd.\, Seaford\, NY\, 11783\, United States
CATEGORIES:Family Events,Public Skates,Special Events
ATTACH;FMTTYPE=image/jpeg:https://unitedskates-assets.sfo3.digitaloceanspaces.com/wp-content/uploads/sites/11/2025/06/aff-2025.jpg
END:VEVENT
BEGIN:VEVENT
DTSTART;TZID=America/New_York:20251211T183000
DTEND;TZID=America/New_York:20251211T203000
DTSTAMP:20260422T060759
CREATED:20251202T135124Z
LAST-MODIFIED:20251202T163142Z
UID:25794-1765477800-1765485000@www.unitedskates.com
SUMMARY:67 Skate Party
DESCRIPTION:🛼✨ THURSDAY NIGHT ROLL VIBES! ✨🛼 \nGrab your crew and hit the rink for 67 Roller Skate — the ultimate  skate party! \n📅 Thursday\, December 11th \n🕡 6:30–8:30PM \n💸 Admission: $6 | Skate Rental: $7 \n📍 1276 Hicksville Rd\, Seaford\, NY 11783 📞 516-795-5474 \n🌐 unitedskates.com/seaford \n🎶 Neon lights\, disco vibes\, and smooth moves await! Whether you’re a skating pro or just vibing to the beat\, this night is for YOU! 🌟 \nTag your skate squad\, lace up\, and let’s roll! 🔥 #67RollerSkate #SkateNightMagic #SeafordSkates  #UnitedSkatesSeaford
URL:https://www.unitedskates.com/seaford/event/67-skate-party/
LOCATION:United Skates Of America Seaford\, 1276 Hicksville Rd.\, Seaford\, NY\, 11783\, United States
CATEGORIES:Family Events,Public Skates,Special Events
ATTACH;FMTTYPE=image/jpeg:https://unitedskates-assets.sfo3.digitaloceanspaces.com/wp-content/uploads/sites/11/2025/12/Copy-of-6-7-Skate-2025-1.jpg
END:VEVENT
BEGIN:VEVENT
DTSTART;TZID=America/New_York:20251211T210000
DTEND;TZID=America/New_York:20251212T000000
DTSTAMP:20260422T060759
CREATED:20231129T003843Z
LAST-MODIFIED:20260222T150156Z
UID:25829-1765486800-1765497600@www.unitedskates.com
SUMMARY:R&B Thursday Adult Night
DESCRIPTION:Adult Night Skate \nMust be over the age of 18 \nAdmission is $15.50 \nSkate Rental is $7 \nDJ E-Kim \nPlease Fill out your waiver prior to arrival \nClick Here for Waiver
URL:https://www.unitedskates.com/seaford/event/thankful-thursday-adult-night-2024-05-16-2024-09-05/2025-12-11/
LOCATION:United Skates Of America Seaford\, 1276 Hicksville Rd.\, Seaford\, NY\, 11783\, United States
CATEGORIES:Adult Events,Public Skates,Special Events
ATTACH;FMTTYPE=image/jpeg:https://unitedskates-assets.sfo3.digitaloceanspaces.com/wp-content/uploads/sites/11/2023/11/RNB-Thursdays.jpg
END:VEVENT
END:VCALENDAR