BEGIN:VCALENDAR
VERSION:2.0
PRODID:-//Rink 25 - Seaford - ECPv6.15.20//NONSGML v1.0//EN
CALSCALE:GREGORIAN
METHOD:PUBLISH
X-ORIGINAL-URL:https://www.unitedskates.com/seaford
X-WR-CALDESC:Events for Rink 25 - Seaford
REFRESH-INTERVAL;VALUE=DURATION:PT1H
X-Robots-Tag:noindex
X-PUBLISHED-TTL:PT1H
BEGIN:VTIMEZONE
TZID:America/New_York
BEGIN:DAYLIGHT
TZOFFSETFROM:-0500
TZOFFSETTO:-0400
TZNAME:EDT
DTSTART:20240310T070000
END:DAYLIGHT
BEGIN:STANDARD
TZOFFSETFROM:-0400
TZOFFSETTO:-0500
TZNAME:EST
DTSTART:20241103T060000
END:STANDARD
BEGIN:DAYLIGHT
TZOFFSETFROM:-0500
TZOFFSETTO:-0400
TZNAME:EDT
DTSTART:20250309T070000
END:DAYLIGHT
BEGIN:STANDARD
TZOFFSETFROM:-0400
TZOFFSETTO:-0500
TZNAME:EST
DTSTART:20251102T060000
END:STANDARD
BEGIN:DAYLIGHT
TZOFFSETFROM:-0500
TZOFFSETTO:-0400
TZNAME:EDT
DTSTART:20260308T070000
END:DAYLIGHT
BEGIN:STANDARD
TZOFFSETFROM:-0400
TZOFFSETTO:-0500
TZNAME:EST
DTSTART:20261101T060000
END:STANDARD
END:VTIMEZONE
BEGIN:VEVENT
DTSTART;TZID=America/New_York:20251126T140000
DTEND;TZID=America/New_York:20251130T190000
DTSTAMP:20260422T152646
CREATED:20251022T180743Z
LAST-MODIFIED:20251022T180743Z
UID:25186-1764165600-1764529200@www.unitedskates.com
SUMMARY:🦃 Thanksgiving Break Skating Fun at United Skates Seaford!
DESCRIPTION:School’s Out — Let’s Roll Into the Holidays! \nThis Thanksgiving Break\, the rink is the place to be for family fun\, themed sessions\, and nonstop skating excitement! \nBring your crew and enjoy special events all week long\, from Thanksgiving Eve celebrations to Black Friday deals and holiday character appearances. \nThere’s something for every skater to enjoy! \n\n🗓️ Event Lineup:\n🛼 Wednesday\, November 26 \n\n\nPublic Skate: 2:00PM–4:00PM — $16.50 Admission \n\n\nStranger Things Skate: 6:00PM–8:30PM — $16.50 Admission \n\n\nAdult Thanksgiving Feast (21+): 9:00PM–12:30AM — $26 Admission \n\n\n🍗 Thursday\, November 27 – Thanksgiving Skate \n\n\n6:00PM–10:00PM — Only $7 Admission!Spend the evening rolling off that turkey dinner with family and friends. \n\n\n🦃 Friday\, November 28 – Black Friday Skate Specials \n\n\nPublic Skate with Stitch: 1:30PM–3:30PM — $16.50 \n\n\nPublic Skate with Lalablu: 4:00PM–6:00PM — $16.50 \n\n\nPublic Skate: 6:30PM–8:30PM — $16.50 \n\n\nCheap Skate: 9:00PM–11:30PM — $8.00 \n\n\n🎄 Saturday\, November 29 – Jingle All the Way! \n\n\nSkate with Jingles the Elf: 10:00AM–12:00PM — $16.50 \n\n\nPublic Skate: 12:30PM–2:30PM\, 3:00PM–5:00PM\, 5:30PM–7:30PM\, and 8:00PM–10:00PM — $16.50 each session \n\n\n⛄ Sunday\, November 30 – Polar Express Day! \n\n\nPolar Express Skate: 12:00PM–2:00PM — $16.50 \n\n\nPublic Skate: 2:30PM–4:30PM & 5:00PM–7:00PM — $16.50 \n\n\n\n💡 Rink Info:\n\n\n🎟️ Skate Rental: $7.00 for all sessions \n\n\n👀 Non-Skating Spectators (18+): $6.00 \n\n\n🧤 Skate Mate Rental: $7.00 + Sales Fees \n\n\n⚠️ All Guests Must Sign Waivers — required for entry and participation
URL:https://www.unitedskates.com/seaford/event/%f0%9f%a6%83-thanksgiving-break-skating-fun-at-united-skates-seaford/
CATEGORIES:Family Events,Public Skates,Special Events
ATTACH;FMTTYPE=image/jpeg:https://unitedskates-assets.sfo3.digitaloceanspaces.com/wp-content/uploads/sites/11/2025/10/25-Thanksgiving-Break-Roller-Skate-2025-8.5-x-11-in-scaled.jpg
END:VEVENT
BEGIN:VEVENT
DTSTART;TZID=America/New_York:20251129T100000
DTEND;TZID=America/New_York:20251129T120000
DTSTAMP:20260422T152646
CREATED:20251028T185847Z
LAST-MODIFIED:20251028T190408Z
UID:25250-1764410400-1764417600@www.unitedskates.com
SUMMARY:Skate with Jingles the Elf
DESCRIPTION:🎄🛼 Elf Skate Party! 🛼🎄 \nGet ready to jingle and roll at our Elf Skate Party on Saturday November 29th from 10:00am-12:00pm at United Skates of America – Seaford! \n🧝‍♂️✨ Come dressed in your elf gear or holiday best and skate into the season with festive music\, holiday cheer\, and magical vibes on wheels! \n🎟️ Event Details: \n\nAdmission: $17.50 at the door / $15.50 online\nSkate Rental: $7\nNon-Skating Adults: $6\n\n🎫 Grab your tickets now:  Click Here for Tickets Space is limited—don’t miss your chance to celebrate the holidays with a night of skating\, laughter\, and elf-tastic fun! 🎅🛼💫
URL:https://www.unitedskates.com/seaford/event/skate-with-jingles-the-elf/
LOCATION:United Skates Of America Seaford\, 1276 Hicksville Rd.\, Seaford\, NY\, 11783\, United States
CATEGORIES:Family Events,Public Skates,Special Events
ATTACH;FMTTYPE=image/jpeg:https://unitedskates-assets.sfo3.digitaloceanspaces.com/wp-content/uploads/sites/11/2025/10/Come-Skate-with-Jingles-the-Elf-1.jpg
END:VEVENT
BEGIN:VEVENT
DTSTART;TZID=America/New_York:20251129T150000
DTEND;TZID=America/New_York:20251129T170000
DTSTAMP:20260422T152646
CREATED:20250306T170141Z
LAST-MODIFIED:20251113T185857Z
UID:24530-1764428400-1764435600@www.unitedskates.com
SUMMARY:Public Skating
DESCRIPTION:All Children & Skating Adults Admission is $16.50 \nSkate Rental is $7 \nNon Skating Adults $6 \nOnline Ticket Prices \nAll Children & Skating Adults Admission is $15.50 \nSkate Rental is $7 \nNon Skating Adults $6 \nClick Here for Tickets \nAll Guests entering the facility skating & non-skating must have a waiver. \nPlease complete waiver prior to arrival. \nPlease click here for the Waiver \nNo refunds. \nAll Sales are final
URL:https://www.unitedskates.com/seaford/event/public-skating-19-2025-05-03/2025-11-29/
CATEGORIES:Family Events,Public Skates,Special Events
ATTACH;FMTTYPE=image/jpeg:https://unitedskates-assets.sfo3.digitaloceanspaces.com/wp-content/uploads/sites/11/2022/05/Public-Skate-1200x900-1.jpg
END:VEVENT
END:VCALENDAR