BEGIN:VCALENDAR
VERSION:2.0
PRODID:-//Rink 25 - Seaford - ECPv6.15.20//NONSGML v1.0//EN
CALSCALE:GREGORIAN
METHOD:PUBLISH
X-ORIGINAL-URL:https://www.unitedskates.com/seaford
X-WR-CALDESC:Events for Rink 25 - Seaford
REFRESH-INTERVAL;VALUE=DURATION:PT1H
X-Robots-Tag:noindex
X-PUBLISHED-TTL:PT1H
BEGIN:VTIMEZONE
TZID:America/New_York
BEGIN:DAYLIGHT
TZOFFSETFROM:-0500
TZOFFSETTO:-0400
TZNAME:EDT
DTSTART:20240310T070000
END:DAYLIGHT
BEGIN:STANDARD
TZOFFSETFROM:-0400
TZOFFSETTO:-0500
TZNAME:EST
DTSTART:20241103T060000
END:STANDARD
BEGIN:DAYLIGHT
TZOFFSETFROM:-0500
TZOFFSETTO:-0400
TZNAME:EDT
DTSTART:20250309T070000
END:DAYLIGHT
BEGIN:STANDARD
TZOFFSETFROM:-0400
TZOFFSETTO:-0500
TZNAME:EST
DTSTART:20251102T060000
END:STANDARD
BEGIN:DAYLIGHT
TZOFFSETFROM:-0500
TZOFFSETTO:-0400
TZNAME:EDT
DTSTART:20260308T070000
END:DAYLIGHT
BEGIN:STANDARD
TZOFFSETFROM:-0400
TZOFFSETTO:-0500
TZNAME:EST
DTSTART:20261101T060000
END:STANDARD
END:VTIMEZONE
BEGIN:VEVENT
DTSTART;TZID=America/New_York:20251126T140000
DTEND;TZID=America/New_York:20251130T190000
DTSTAMP:20260422T134509
CREATED:20251022T180743Z
LAST-MODIFIED:20251022T180743Z
UID:25186-1764165600-1764529200@www.unitedskates.com
SUMMARY:🦃 Thanksgiving Break Skating Fun at United Skates Seaford!
DESCRIPTION:School’s Out — Let’s Roll Into the Holidays! \nThis Thanksgiving Break\, the rink is the place to be for family fun\, themed sessions\, and nonstop skating excitement! \nBring your crew and enjoy special events all week long\, from Thanksgiving Eve celebrations to Black Friday deals and holiday character appearances. \nThere’s something for every skater to enjoy! \n\n🗓️ Event Lineup:\n🛼 Wednesday\, November 26 \n\n\nPublic Skate: 2:00PM–4:00PM — $16.50 Admission \n\n\nStranger Things Skate: 6:00PM–8:30PM — $16.50 Admission \n\n\nAdult Thanksgiving Feast (21+): 9:00PM–12:30AM — $26 Admission \n\n\n🍗 Thursday\, November 27 – Thanksgiving Skate \n\n\n6:00PM–10:00PM — Only $7 Admission!Spend the evening rolling off that turkey dinner with family and friends. \n\n\n🦃 Friday\, November 28 – Black Friday Skate Specials \n\n\nPublic Skate with Stitch: 1:30PM–3:30PM — $16.50 \n\n\nPublic Skate with Lalablu: 4:00PM–6:00PM — $16.50 \n\n\nPublic Skate: 6:30PM–8:30PM — $16.50 \n\n\nCheap Skate: 9:00PM–11:30PM — $8.00 \n\n\n🎄 Saturday\, November 29 – Jingle All the Way! \n\n\nSkate with Jingles the Elf: 10:00AM–12:00PM — $16.50 \n\n\nPublic Skate: 12:30PM–2:30PM\, 3:00PM–5:00PM\, 5:30PM–7:30PM\, and 8:00PM–10:00PM — $16.50 each session \n\n\n⛄ Sunday\, November 30 – Polar Express Day! \n\n\nPolar Express Skate: 12:00PM–2:00PM — $16.50 \n\n\nPublic Skate: 2:30PM–4:30PM & 5:00PM–7:00PM — $16.50 \n\n\n\n💡 Rink Info:\n\n\n🎟️ Skate Rental: $7.00 for all sessions \n\n\n👀 Non-Skating Spectators (18+): $6.00 \n\n\n🧤 Skate Mate Rental: $7.00 + Sales Fees \n\n\n⚠️ All Guests Must Sign Waivers — required for entry and participation
URL:https://www.unitedskates.com/seaford/event/%f0%9f%a6%83-thanksgiving-break-skating-fun-at-united-skates-seaford/
CATEGORIES:Family Events,Public Skates,Special Events
ATTACH;FMTTYPE=image/jpeg:https://unitedskates-assets.sfo3.digitaloceanspaces.com/wp-content/uploads/sites/11/2025/10/25-Thanksgiving-Break-Roller-Skate-2025-8.5-x-11-in-scaled.jpg
END:VEVENT
BEGIN:VEVENT
DTSTART;TZID=America/New_York:20251128T133000
DTEND;TZID=America/New_York:20251128T153000
DTSTAMP:20260422T134509
CREATED:20250925T161804Z
LAST-MODIFIED:20251121T153413Z
UID:24991-1764336600-1764343800@www.unitedskates.com
SUMMARY:Public Skate with Stitch
DESCRIPTION:🛼💙 Skate with Stitch! 💙🛼 Join Stitch for an unforgettable afternoon of skating\, music\, and fun! \n\n📅 Date: Friday\, November 28\, 2025\n🕜 Time: 1:30 PM – 3:30 PM\n📍 Location: United Skates of America\, Seaford\n🎟️ Admission:\n\n$15.50 online\n$16.50 at the door\n\n\n🛼 Skate Rental: $7\n🚶 Non-Skating Adults: $6\n\nBring your camera — Stitch will be skating around and ready for photos! 📸 \nClick Here for Tickets
URL:https://www.unitedskates.com/seaford/event/public-skate-87/
LOCATION:United Skates Of America Seaford\, 1276 Hicksville Rd.\, Seaford\, NY\, 11783\, United States
CATEGORIES:Family Events,Public Skates,Special Events
ATTACH;FMTTYPE=image/jpeg:https://unitedskates-assets.sfo3.digitaloceanspaces.com/wp-content/uploads/sites/11/2025/09/Thanksgiving-with-Stitch.jpg
END:VEVENT
BEGIN:VEVENT
DTSTART;TZID=America/New_York:20251128T160000
DTEND;TZID=America/New_York:20251128T180000
DTSTAMP:20260422T134509
CREATED:20250925T160312Z
LAST-MODIFIED:20251121T154520Z
UID:24985-1764345600-1764352800@www.unitedskates.com
SUMMARY:Labubu Skate Party
DESCRIPTION:🛼🎉 Labubu Skate Party Alert! 🎉🛼 \nGet ready for a wild time at the Labubu Skate Party happening: \n\n📅 Date: November 28th\n🕓 Time: 4:00 PM – 6:00 PM\n📍 Location: United Skates of America\n🎟️ Admission:\n\n$15.50 online\n$16.50 at the door\n\n\n🛼 Skate Rental: $7\n🚶 Non-Skating Adults: $6\n\n✨ Come meet the Labubus and join the fun — music\, skating\, and surprises await! \nClick Here for Tickets
URL:https://www.unitedskates.com/seaford/event/labubu-skate-party/
CATEGORIES:Family Events,Public Skates,Special Events
ATTACH;FMTTYPE=image/jpeg:https://unitedskates-assets.sfo3.digitaloceanspaces.com/wp-content/uploads/sites/11/2025/09/Labubu-11-28-25.jpg
END:VEVENT
BEGIN:VEVENT
DTSTART;TZID=America/New_York:20251128T213000
DTEND;TZID=America/New_York:20251128T233000
DTSTAMP:20260422T134509
CREATED:20250925T170642Z
LAST-MODIFIED:20250925T170643Z
UID:25006-1764365400-1764372600@www.unitedskates.com
SUMMARY:Cheap Skate
DESCRIPTION:
URL:https://www.unitedskates.com/seaford/event/cheap-skate-30/
CATEGORIES:Family Events,Public Skates,Special Events
ATTACH;FMTTYPE=image/jpeg:https://unitedskates-assets.sfo3.digitaloceanspaces.com/wp-content/uploads/sites/11/2025/09/cheap-skate-11-28-25.jpg
END:VEVENT
END:VCALENDAR