BEGIN:VCALENDAR
VERSION:2.0
PRODID:-//Rink 25 - Seaford - ECPv6.15.20//NONSGML v1.0//EN
CALSCALE:GREGORIAN
METHOD:PUBLISH
X-ORIGINAL-URL:https://www.unitedskates.com/seaford
X-WR-CALDESC:Events for Rink 25 - Seaford
REFRESH-INTERVAL;VALUE=DURATION:PT1H
X-Robots-Tag:noindex
X-PUBLISHED-TTL:PT1H
BEGIN:VTIMEZONE
TZID:America/New_York
BEGIN:DAYLIGHT
TZOFFSETFROM:-0500
TZOFFSETTO:-0400
TZNAME:EDT
DTSTART:20240310T070000
END:DAYLIGHT
BEGIN:STANDARD
TZOFFSETFROM:-0400
TZOFFSETTO:-0500
TZNAME:EST
DTSTART:20241103T060000
END:STANDARD
BEGIN:DAYLIGHT
TZOFFSETFROM:-0500
TZOFFSETTO:-0400
TZNAME:EDT
DTSTART:20250309T070000
END:DAYLIGHT
BEGIN:STANDARD
TZOFFSETFROM:-0400
TZOFFSETTO:-0500
TZNAME:EST
DTSTART:20251102T060000
END:STANDARD
BEGIN:DAYLIGHT
TZOFFSETFROM:-0500
TZOFFSETTO:-0400
TZNAME:EDT
DTSTART:20260308T070000
END:DAYLIGHT
BEGIN:STANDARD
TZOFFSETFROM:-0400
TZOFFSETTO:-0500
TZNAME:EST
DTSTART:20261101T060000
END:STANDARD
END:VTIMEZONE
BEGIN:VEVENT
DTSTART;TZID=America/New_York:20251126T140000
DTEND;TZID=America/New_York:20251126T160000
DTSTAMP:20260422T193738
CREATED:20250904T191411Z
LAST-MODIFIED:20251119T215022Z
UID:24824-1764165600-1764172800@www.unitedskates.com
SUMMARY:Public Skate
DESCRIPTION:Public Skate admission at the door $17.50 online $15.50 \nSkate rental $7.00 \nNon skating adults $6.00 \nClick Here for Tickets
URL:https://www.unitedskates.com/seaford/event/public-skate-82/
CATEGORIES:Family Events,Public Skates,Special Events
ATTACH;FMTTYPE=image/jpeg:https://unitedskates-assets.sfo3.digitaloceanspaces.com/wp-content/uploads/sites/11/2022/05/Public-Skate-1200x900-1.jpg
END:VEVENT
BEGIN:VEVENT
DTSTART;TZID=America/New_York:20251126T140000
DTEND;TZID=America/New_York:20251130T190000
DTSTAMP:20260422T193738
CREATED:20251022T180743Z
LAST-MODIFIED:20251022T180743Z
UID:25186-1764165600-1764529200@www.unitedskates.com
SUMMARY:🦃 Thanksgiving Break Skating Fun at United Skates Seaford!
DESCRIPTION:School’s Out — Let’s Roll Into the Holidays! \nThis Thanksgiving Break\, the rink is the place to be for family fun\, themed sessions\, and nonstop skating excitement! \nBring your crew and enjoy special events all week long\, from Thanksgiving Eve celebrations to Black Friday deals and holiday character appearances. \nThere’s something for every skater to enjoy! \n\n🗓️ Event Lineup:\n🛼 Wednesday\, November 26 \n\n\nPublic Skate: 2:00PM–4:00PM — $16.50 Admission \n\n\nStranger Things Skate: 6:00PM–8:30PM — $16.50 Admission \n\n\nAdult Thanksgiving Feast (21+): 9:00PM–12:30AM — $26 Admission \n\n\n🍗 Thursday\, November 27 – Thanksgiving Skate \n\n\n6:00PM–10:00PM — Only $7 Admission!Spend the evening rolling off that turkey dinner with family and friends. \n\n\n🦃 Friday\, November 28 – Black Friday Skate Specials \n\n\nPublic Skate with Stitch: 1:30PM–3:30PM — $16.50 \n\n\nPublic Skate with Lalablu: 4:00PM–6:00PM — $16.50 \n\n\nPublic Skate: 6:30PM–8:30PM — $16.50 \n\n\nCheap Skate: 9:00PM–11:30PM — $8.00 \n\n\n🎄 Saturday\, November 29 – Jingle All the Way! \n\n\nSkate with Jingles the Elf: 10:00AM–12:00PM — $16.50 \n\n\nPublic Skate: 12:30PM–2:30PM\, 3:00PM–5:00PM\, 5:30PM–7:30PM\, and 8:00PM–10:00PM — $16.50 each session \n\n\n⛄ Sunday\, November 30 – Polar Express Day! \n\n\nPolar Express Skate: 12:00PM–2:00PM — $16.50 \n\n\nPublic Skate: 2:30PM–4:30PM & 5:00PM–7:00PM — $16.50 \n\n\n\n💡 Rink Info:\n\n\n🎟️ Skate Rental: $7.00 for all sessions \n\n\n👀 Non-Skating Spectators (18+): $6.00 \n\n\n🧤 Skate Mate Rental: $7.00 + Sales Fees \n\n\n⚠️ All Guests Must Sign Waivers — required for entry and participation
URL:https://www.unitedskates.com/seaford/event/%f0%9f%a6%83-thanksgiving-break-skating-fun-at-united-skates-seaford/
CATEGORIES:Family Events,Public Skates,Special Events
ATTACH;FMTTYPE=image/jpeg:https://unitedskates-assets.sfo3.digitaloceanspaces.com/wp-content/uploads/sites/11/2025/10/25-Thanksgiving-Break-Roller-Skate-2025-8.5-x-11-in-scaled.jpg
END:VEVENT
BEGIN:VEVENT
DTSTART;TZID=America/New_York:20251126T180000
DTEND;TZID=America/New_York:20251126T203000
DTSTAMP:20260422T193738
CREATED:20250815T154400Z
LAST-MODIFIED:20251120T141045Z
UID:24512-1764180000-1764189000@www.unitedskates.com
SUMMARY:Stranger Things Upside Down Skate Party
DESCRIPTION:🎉 Welcome to the Upside Down! 🎉\n🛼 Stranger Things Thanksgiving Eve Skate Party 🛼\nat United Skates of America \n📅 Date: Wednesday\, November 26\n🕕 Time: 6:00 PM – 8:30 PM\n📍 Location: United Skates \nGet ready to flip your world upside down with a night of spooky fun\, retro vibes\, and Stranger Things madness! \n🎟️ Admission: \n\n💻 $15.50 online\n🚪 $16.50 at the door\n🛼 Skate rental: $7\n👨‍👩‍👧 Non-skating adults: $6\n\n👻 What’s Happening in Hawkins? \n\n🧇 Eleven’s Waffle Bar (extra charge)\n🍨 Scoops Ahoy Ice Cream Sundae Bar (extra charge)\n🎭 Costume Contest – Dress to impress from the Upside Down!\n🧠 Stranger Things Trivia – Test your knowledge of Hawkins lore\n🎲 Games & Prizes – Win cool stuff and bragging rights!\n\n✨ Whether you’re a Demogorgon\, a Mind Flayer\, or just a die-hard fan\, this is a night of family fun you won’t want to miss! \nClick Here for Tickets
URL:https://www.unitedskates.com/seaford/event/stranger-things-upside-down-skate-party/
LOCATION:United Skates Of America Seaford\, 1276 Hicksville Rd.\, Seaford\, NY\, 11783\, United States
CATEGORIES:Family Events,Public Skates,Special Events
ATTACH;FMTTYPE=image/jpeg:https://unitedskates-assets.sfo3.digitaloceanspaces.com/wp-content/uploads/sites/11/2025/08/stranger-things-2025.jpg
END:VEVENT
BEGIN:VEVENT
DTSTART;TZID=America/New_York:20251126T210000
DTEND;TZID=America/New_York:20251127T000000
DTSTAMP:20260422T193738
CREATED:20250702T172643Z
LAST-MODIFIED:20260222T150051Z
UID:25859-1764190800-1764201600@www.unitedskates.com
SUMMARY:Why Not Wednesday Adult Skate
DESCRIPTION:Adult Night Skate \nMust be over the age of 18 \nAdmission is $15.50 \nSkate Rental is $7 \nDJ D \nPlease Fill out your waiver prior to arrival \nClick Here for Waiver
URL:https://www.unitedskates.com/seaford/event/why-not-wednesday-adult-skate/2025-11-26/
CATEGORIES:Adult Events,Public Skates,Special Events
ATTACH;FMTTYPE=image/jpeg:https://unitedskates-assets.sfo3.digitaloceanspaces.com/wp-content/uploads/sites/11/2022/05/Why-Not-Wednesdays-Adult-Skate.jpg
END:VEVENT
BEGIN:VEVENT
DTSTART;TZID=America/New_York:20251126T210000
DTEND;TZID=America/New_York:20251127T010000
DTSTAMP:20260422T193738
CREATED:20251103T163111Z
LAST-MODIFIED:20251103T163500Z
UID:25320-1764190800-1764205200@www.unitedskates.com
SUMMARY:Thanksgiving Eve Adult Feast
DESCRIPTION:🦃✨ THANKSGIVING EVE FEAST – ADULT NIGHT (18+ ONLY!) ✨🦃 The BIGGEST party of the year is happening at United Skates of America! \n📅 Wednesday\, Nov. 26 \n🕘 9PM – 1AM \n🔞 18+ Only \n🎟️ Tickets: 👉 21 online (save $!) 👉 $26 at the door \n🎧 Music by: \n🔥 DJ Arson \n🔥 DJ Nile \n🔥 DJ Tone Capo \n🍂 Kick off the holiday weekend with friends\, music\, and nonstop vibes. This is THE Thanksgiving Eve tradition you don’t want to miss! \n🎟️ Grab your advance tickets now before they’re gone!  Click Here for Tickets
URL:https://www.unitedskates.com/seaford/event/thanksgiving-eve-adult-feast/
CATEGORIES:Adult Events,Roller Hockey,Special Events
ATTACH;FMTTYPE=image/png:https://unitedskates-assets.sfo3.digitaloceanspaces.com/wp-content/uploads/sites/11/2025/11/IMG_8432.png
END:VEVENT
END:VCALENDAR