BEGIN:VCALENDAR
VERSION:2.0
PRODID:-//Rink 25 - Seaford - ECPv6.15.20//NONSGML v1.0//EN
CALSCALE:GREGORIAN
METHOD:PUBLISH
X-WR-CALNAME:Rink 25 - Seaford
X-ORIGINAL-URL:https://www.unitedskates.com/seaford
X-WR-CALDESC:Events for Rink 25 - Seaford
REFRESH-INTERVAL;VALUE=DURATION:PT1H
X-Robots-Tag:noindex
X-PUBLISHED-TTL:PT1H
BEGIN:VTIMEZONE
TZID:America/New_York
BEGIN:DAYLIGHT
TZOFFSETFROM:-0500
TZOFFSETTO:-0400
TZNAME:EDT
DTSTART:20240310T070000
END:DAYLIGHT
BEGIN:STANDARD
TZOFFSETFROM:-0400
TZOFFSETTO:-0500
TZNAME:EST
DTSTART:20241103T060000
END:STANDARD
BEGIN:DAYLIGHT
TZOFFSETFROM:-0500
TZOFFSETTO:-0400
TZNAME:EDT
DTSTART:20250309T070000
END:DAYLIGHT
BEGIN:STANDARD
TZOFFSETFROM:-0400
TZOFFSETTO:-0500
TZNAME:EST
DTSTART:20251102T060000
END:STANDARD
BEGIN:DAYLIGHT
TZOFFSETFROM:-0500
TZOFFSETTO:-0400
TZNAME:EDT
DTSTART:20260308T070000
END:DAYLIGHT
BEGIN:STANDARD
TZOFFSETFROM:-0400
TZOFFSETTO:-0500
TZNAME:EST
DTSTART:20261101T060000
END:STANDARD
END:VTIMEZONE
BEGIN:VEVENT
DTSTART;TZID=America/New_York:20251111T093000
DTEND;TZID=America/New_York:20251111T233000
DTSTAMP:20260422T211442
CREATED:20250820T182644Z
LAST-MODIFIED:20251029T152436Z
UID:24651-1762853400-1762903800@www.unitedskates.com
SUMMARY:Early Bird Skate
DESCRIPTION:🦃✨ Early Bird Skate Party is flying in on Tuesday\, November 11th from 9:30AM–11:30AM at United Skates of America – Seaford!\nStart your morning with a gobble of fun and a glow-up on wheels:\n🎟️ Admission\n• $17 online\n• $18 at the door\nIncludes:\n✅ Admission\n✅ Skate rental\n✅ Slice of pizza\n✅ Small drink\n✅ Glow stick\n📸 Plus—snap pics with Gobble the Turkey and kick off your holiday season with music\, movement\, and memories!\n🎉 Perfect for families\, schools\, and anyone who loves skating with a side of silliness.\n🎫 Grab your tickets now at United Skates Seaford—they won’t last long! \nClick Here for Tickets
URL:https://www.unitedskates.com/seaford/event/early-bird-5/
LOCATION:United Skates Of America Seaford\, 1276 Hicksville Rd.\, Seaford\, NY\, 11783\, United States
CATEGORIES:Family Events,Public Skates,Special Events
ATTACH;FMTTYPE=image/jpeg:https://unitedskates-assets.sfo3.digitaloceanspaces.com/wp-content/uploads/sites/11/2025/08/Early-Bird-Skate-11-11-25.jpg
END:VEVENT
BEGIN:VEVENT
DTSTART;TZID=America/New_York:20251111T120000
DTEND;TZID=America/New_York:20251111T140000
DTSTAMP:20260422T211442
CREATED:20250820T191931Z
LAST-MODIFIED:20251110T184659Z
UID:24657-1762862400-1762869600@www.unitedskates.com
SUMMARY:Public Skate
DESCRIPTION:Come join us for a fun-filled day of skating at United Skates of America Roller Skating Center! Whether you’re a beginner or a pro\, this event is perfect for all ages and skill levels. Grab your friends and family for a Sunday full of laughter\, music\, and of course\, skating! Lace up your skates and hit the rink for a day you won’t forget. See you there! \nTickets Must be purchased in advance \nClick Here For Tickets \nAll Guests entering the facility skating & non-skating must have a waiver. \nPlease complete waiver prior to arrival.
URL:https://www.unitedskates.com/seaford/event/public-skate-80/
CATEGORIES:Family Events,Public Skates,Special Events
ATTACH;FMTTYPE=image/png:https://unitedskates-assets.sfo3.digitaloceanspaces.com/wp-content/uploads/sites/11/2025/08/Veterans-Day-Weekend-2025-8.5-x-11-in-1.png
END:VEVENT
BEGIN:VEVENT
DTSTART;TZID=America/New_York:20251111T143000
DTEND;TZID=America/New_York:20251111T163000
DTSTAMP:20260422T211442
CREATED:20250820T194421Z
LAST-MODIFIED:20251110T184806Z
UID:24659-1762871400-1762878600@www.unitedskates.com
SUMMARY:Spiderman Skate Party
DESCRIPTION:🕷️🛼 Spidey’s swinging into the rink! Join us for the Spiderman Skate Party on Tuesday\, November 11th from 2:30PM–4:30PM at United Skates of America Roller Skating Massapequa!\n🎉 It’s a web-slinging good time for the whole family:\n• 🕸️ Meet & skate with Spiderman himself!\n• 🎶 Jam to fun music while you roll\n• 📸 Snap pics\, show off your moves\, and wear your best Spidey gear!\n🎟️ Pricing:\n• $15.50 online $16.50 at the door\n• $7 skate rental\n• $6 non-skating adults\n🎫 Tickets are going fast—grab yours now Click Here for Tickets
URL:https://www.unitedskates.com/seaford/event/spiderman-skate-party-3/
LOCATION:United Skates Of America Seaford\, 1276 Hicksville Rd.\, Seaford\, NY\, 11783\, United States
CATEGORIES:Family Events,Public Skates,Special Events
ATTACH;FMTTYPE=image/jpeg:https://unitedskates-assets.sfo3.digitaloceanspaces.com/wp-content/uploads/sites/11/2025/08/spiderman-11-11-25.jpg
END:VEVENT
BEGIN:VEVENT
DTSTART;TZID=America/New_York:20251111T170000
DTEND;TZID=America/New_York:20251111T190000
DTSTAMP:20260422T211442
CREATED:20251011T163707Z
LAST-MODIFIED:20251110T184857Z
UID:25119-1762880400-1762887600@www.unitedskates.com
SUMMARY:Public Skate
DESCRIPTION:Come join us for a fun-filled day of skating at United Skates of America Roller Skating Center! Whether you’re a beginner or a pro\, this event is perfect for all ages and skill levels. Grab your friends and family for a Sunday full of laughter\, music\, and of course\, skating! Lace up your skates and hit the rink for a day you won’t forget. See you there! \nTickets Must be purchased in advance \nClick Here For Tickets \nAll Guests entering the facility skating & non-skating must have a waiver. \nPlease complete waiver prior to arrival.
URL:https://www.unitedskates.com/seaford/event/public-skate-89/
CATEGORIES:Family Events,Public Skates,Special Events
ATTACH;FMTTYPE=image/png:https://unitedskates-assets.sfo3.digitaloceanspaces.com/wp-content/uploads/sites/11/2025/08/Veterans-Day-Weekend-2025-8.5-x-11-in-1.png
END:VEVENT
END:VCALENDAR