BEGIN:VCALENDAR
VERSION:2.0
PRODID:-//Rink 25 - Seaford - ECPv6.15.20//NONSGML v1.0//EN
CALSCALE:GREGORIAN
METHOD:PUBLISH
X-ORIGINAL-URL:https://www.unitedskates.com/seaford
X-WR-CALDESC:Events for Rink 25 - Seaford
REFRESH-INTERVAL;VALUE=DURATION:PT1H
X-Robots-Tag:noindex
X-PUBLISHED-TTL:PT1H
BEGIN:VTIMEZONE
TZID:America/New_York
BEGIN:DAYLIGHT
TZOFFSETFROM:-0500
TZOFFSETTO:-0400
TZNAME:EDT
DTSTART:20240310T070000
END:DAYLIGHT
BEGIN:STANDARD
TZOFFSETFROM:-0400
TZOFFSETTO:-0500
TZNAME:EST
DTSTART:20241103T060000
END:STANDARD
BEGIN:DAYLIGHT
TZOFFSETFROM:-0500
TZOFFSETTO:-0400
TZNAME:EDT
DTSTART:20250309T070000
END:DAYLIGHT
BEGIN:STANDARD
TZOFFSETFROM:-0400
TZOFFSETTO:-0500
TZNAME:EST
DTSTART:20251102T060000
END:STANDARD
BEGIN:DAYLIGHT
TZOFFSETFROM:-0500
TZOFFSETTO:-0400
TZNAME:EDT
DTSTART:20260308T070000
END:DAYLIGHT
BEGIN:STANDARD
TZOFFSETFROM:-0400
TZOFFSETTO:-0500
TZNAME:EST
DTSTART:20261101T060000
END:STANDARD
END:VTIMEZONE
BEGIN:VEVENT
DTSTART;TZID=America/New_York:20251104T093000
DTEND;TZID=America/New_York:20251104T113000
DTSTAMP:20260422T193746
CREATED:20250918T161401Z
LAST-MODIFIED:20251029T162236Z
UID:24880-1762248600-1762255800@www.unitedskates.com
SUMMARY:Early Bird With the Labubus
DESCRIPTION:🛼🎉 Morning Skate with Labubu – Election Day Fun! 🎉🛼 \nKick off your Election Day with a magical morning at United Skates featuring a special guest appearance by Labubu! \n🗓️ Date: Tuesday\, November 4th \n🕤 Time: 9:30am – 11:30am \n🎟️ Admission: \n\n$18 at the door\n$17 online\nIncludes: Admission\, skate rental\, a slice of pizza\, and a drink 🥤🍕\n\n👨‍👩‍👧‍👦 Non-Skating Guests: $7 \n\nIncludes: Admission\, slice\, and drink\n\nLabubu will be there to greet fans and spread smiles—don’t miss this fun-filled morning of skating\, music\, and treats! 🧸🛼 \n🎫 Grab your tickets now and roll into the fun! \nClick Here for Tickets
URL:https://www.unitedskates.com/seaford/event/early-bird-with-the-labubus/
CATEGORIES:Family Events,Public Skates,Special Events
ATTACH;FMTTYPE=image/jpeg:https://unitedskates-assets.sfo3.digitaloceanspaces.com/wp-content/uploads/sites/11/2025/09/Copy-of-Labubu-Skate-Party-1.jpg
END:VEVENT
BEGIN:VEVENT
DTSTART;TZID=America/New_York:20251104T120000
DTEND;TZID=America/New_York:20251104T140000
DTSTAMP:20260422T193746
CREATED:20250917T182840Z
LAST-MODIFIED:20250918T165458Z
UID:24875-1762257600-1762264800@www.unitedskates.com
SUMMARY:Public Skate
DESCRIPTION:Come join us for a fun-filled day of skating at United Skates of America Roller Skating Center! Whether you’re a beginner or a pro\, this event is perfect for all ages and skill levels. Grab your friends and family for a Sunday full of laughter\, music\, and of course\, skating! Lace up your skates and hit the rink for a day you won’t forget. See you there! \nTickets Must be purchased in advance \nClick Here For Tickets \nAll Guests entering the facility skating & non-skating must have a waiver. \nPlease complete waiver prior to arrival.
URL:https://www.unitedskates.com/seaford/event/public-skate-83/
LOCATION:United Skates Of America Seaford\, 1276 Hicksville Rd.\, Seaford\, NY\, 11783\, United States
CATEGORIES:Family Events,Public Skates,Special Events
ATTACH;FMTTYPE=image/jpeg:https://unitedskates-assets.sfo3.digitaloceanspaces.com/wp-content/uploads/sites/11/2025/09/Election-Day-Weekend-2025-8.5-x-11-in.jpg
END:VEVENT
BEGIN:VEVENT
DTSTART;TZID=America/New_York:20251104T143000
DTEND;TZID=America/New_York:20251104T163000
DTSTAMP:20260422T193746
CREATED:20250918T164528Z
LAST-MODIFIED:20250918T165658Z
UID:24884-1762266600-1762273800@www.unitedskates.com
SUMMARY:Public Skate with Mario
DESCRIPTION:Come join us for a fun-filled day of skating at United Skates of America Roller Skating Center! Whether you’re a beginner or a pro\, this event is perfect for all ages and skill levels. Grab your friends and family for a Sunday full of laughter\, music\, and of course\, skating! Lace up your skates and hit the rink for a day you won’t forget. Special visits from Mario and Luigi!  See you there! \nTickets Must be purchased in advance \nClick Here For Tickets \nAll Guests entering the facility skating & non-skating must have a waiver. \nPlease complete waiver prior to arrival.
URL:https://www.unitedskates.com/seaford/event/public-skate-with-mario/
CATEGORIES:Family Events,Public Skates,Special Events
ATTACH;FMTTYPE=image/jpeg:https://unitedskates-assets.sfo3.digitaloceanspaces.com/wp-content/uploads/sites/11/2025/09/Election-Day-Weekend-2025-8.5-x-11-in.jpg
END:VEVENT
BEGIN:VEVENT
DTSTART;TZID=America/New_York:20251104T170000
DTEND;TZID=America/New_York:20251104T190000
DTSTAMP:20260422T193746
CREATED:20250918T164720Z
LAST-MODIFIED:20250918T165559Z
UID:24886-1762275600-1762282800@www.unitedskates.com
SUMMARY:Public Skate
DESCRIPTION:Come join us for a fun-filled day of skating at United Skates of America Roller Skating Center! Whether you’re a beginner or a pro\, this event is perfect for all ages and skill levels. Grab your friends and family for a Sunday full of laughter\, music\, and of course\, skating! Lace up your skates and hit the rink for a day you won’t forget. See you there! \nTickets Must be purchased in advance \nClick Here For Tickets \nAll Guests entering the facility skating & non-skating must have a waiver. \nPlease complete waiver prior to arrival.
URL:https://www.unitedskates.com/seaford/event/public-skate-84/
CATEGORIES:Family Events,Public Skates,Special Events
ATTACH;FMTTYPE=image/jpeg:https://unitedskates-assets.sfo3.digitaloceanspaces.com/wp-content/uploads/sites/11/2025/09/Election-Day-Weekend-2025-8.5-x-11-in.jpg
END:VEVENT
END:VCALENDAR