BEGIN:VCALENDAR
VERSION:2.0
PRODID:-//Rink 25 - Seaford - ECPv6.15.20//NONSGML v1.0//EN
CALSCALE:GREGORIAN
METHOD:PUBLISH
X-WR-CALNAME:Rink 25 - Seaford
X-ORIGINAL-URL:https://www.unitedskates.com/seaford
X-WR-CALDESC:Events for Rink 25 - Seaford
REFRESH-INTERVAL;VALUE=DURATION:PT1H
X-Robots-Tag:noindex
X-PUBLISHED-TTL:PT1H
BEGIN:VTIMEZONE
TZID:America/New_York
BEGIN:DAYLIGHT
TZOFFSETFROM:-0500
TZOFFSETTO:-0400
TZNAME:EDT
DTSTART:20240310T070000
END:DAYLIGHT
BEGIN:STANDARD
TZOFFSETFROM:-0400
TZOFFSETTO:-0500
TZNAME:EST
DTSTART:20241103T060000
END:STANDARD
BEGIN:DAYLIGHT
TZOFFSETFROM:-0500
TZOFFSETTO:-0400
TZNAME:EDT
DTSTART:20250309T070000
END:DAYLIGHT
BEGIN:STANDARD
TZOFFSETFROM:-0400
TZOFFSETTO:-0500
TZNAME:EST
DTSTART:20251102T060000
END:STANDARD
BEGIN:DAYLIGHT
TZOFFSETFROM:-0500
TZOFFSETTO:-0400
TZNAME:EDT
DTSTART:20260308T070000
END:DAYLIGHT
BEGIN:STANDARD
TZOFFSETFROM:-0400
TZOFFSETTO:-0500
TZNAME:EST
DTSTART:20261101T060000
END:STANDARD
END:VTIMEZONE
BEGIN:VEVENT
DTSTART;TZID=America/New_York:20251028T173000
DTEND;TZID=America/New_York:20251028T200000
DTSTAMP:20260422T211455
CREATED:20250925T183827Z
LAST-MODIFIED:20250925T183827Z
UID:25014-1761672600-1761681600@www.unitedskates.com
SUMMARY:BSA Monster Mash Glow Bash
DESCRIPTION:Get ready for a night of glowing fun\, spooky surprises\, and skating excitement at our BSA Monster Mash Glow Bash—an event for BSA Scouts and their families! \n \n🎉 Meet our Friendly Monsters—Frankenstein\, Stitch\, Minion & more!\n🎃 Enjoy skating\, trick-or-treating\, and a costume parade!\n🍕 $22 per Scout includes admission\, skate rental\, slice of pizza\, small drink\, and all activities.\n👨‍👩‍👧‍👦 Non-skating adults: $8 includes admission\, pizza\, and drink. \n⚠️ LIMITED AVAILABILITY – SOLD OUT LAST YEAR!\nReservations are required and spots are filling fast. Call 516–795-5474 ext. 0 or email unitedskatessales@gmail.com
URL:https://www.unitedskates.com/seaford/event/bsa-monster-mash-glow-bash/
LOCATION:United Skates
CATEGORIES:Family Events,Special Events
ATTACH;FMTTYPE=image/jpeg:https://unitedskates-assets.sfo3.digitaloceanspaces.com/wp-content/uploads/sites/11/2025/09/BSA-102825-Monster-Mash-Flyer.jpg
END:VEVENT
END:VCALENDAR