BEGIN:VCALENDAR
VERSION:2.0
PRODID:-//Rink 25 - Seaford - ECPv6.15.20//NONSGML v1.0//EN
CALSCALE:GREGORIAN
METHOD:PUBLISH
X-WR-CALNAME:Rink 25 - Seaford
X-ORIGINAL-URL:https://www.unitedskates.com/seaford
X-WR-CALDESC:Events for Rink 25 - Seaford
REFRESH-INTERVAL;VALUE=DURATION:PT1H
X-Robots-Tag:noindex
X-PUBLISHED-TTL:PT1H
BEGIN:VTIMEZONE
TZID:America/New_York
BEGIN:DAYLIGHT
TZOFFSETFROM:-0500
TZOFFSETTO:-0400
TZNAME:EDT
DTSTART:20240310T070000
END:DAYLIGHT
BEGIN:STANDARD
TZOFFSETFROM:-0400
TZOFFSETTO:-0500
TZNAME:EST
DTSTART:20241103T060000
END:STANDARD
BEGIN:DAYLIGHT
TZOFFSETFROM:-0500
TZOFFSETTO:-0400
TZNAME:EDT
DTSTART:20250309T070000
END:DAYLIGHT
BEGIN:STANDARD
TZOFFSETFROM:-0400
TZOFFSETTO:-0500
TZNAME:EST
DTSTART:20251102T060000
END:STANDARD
BEGIN:DAYLIGHT
TZOFFSETFROM:-0500
TZOFFSETTO:-0400
TZNAME:EDT
DTSTART:20260308T070000
END:DAYLIGHT
BEGIN:STANDARD
TZOFFSETFROM:-0400
TZOFFSETTO:-0500
TZNAME:EST
DTSTART:20261101T060000
END:STANDARD
END:VTIMEZONE
BEGIN:VEVENT
DTSTART;TZID=America/New_York:20251021T180000
DTEND;TZID=America/New_York:20251021T200000
DTSTAMP:20260423T064337
CREATED:20250812T153241Z
LAST-MODIFIED:20250812T153303Z
UID:24406-1761069600-1761076800@www.unitedskates.com
SUMMARY:Scout Halloween Party
DESCRIPTION:🎃🕸️ Scout Halloween Party 🕸️🎃\nGet ready for a spooky good time with United Skates of America! \n🗓️ Date: October 21\n🕕 Time: 6 PM – 8 PM\n💸 Cost: $23 per scout \nIncludes:\n✅ Admission & Skate Rental\n✅ A slice of pizza 🍕\n✅ Dracula Punch 🧛‍♂️\n✅ Costume Parade 👻\n✅ Trick-or-Treating 🍬\n✅ Scout Fun Patch 🎖️ \n🎉 Come dressed in your best costume and join us for a night of frightful fun\, food\, and festivities! \n📞 Call today to reserve: 516-751-5474\nHosted by United Skates of America
URL:https://www.unitedskates.com/seaford/event/scout-halloween-party-2/
LOCATION:United Skates Of America Seaford\, 1276 Hicksville Rd.\, Seaford\, NY\, 11783\, United States
CATEGORIES:Family Events,Public Skates,Special Events
ATTACH;FMTTYPE=image/jpeg:https://unitedskates-assets.sfo3.digitaloceanspaces.com/wp-content/uploads/sites/11/2025/08/Scout-Halloween-2025.jpg
END:VEVENT
END:VCALENDAR