BEGIN:VCALENDAR
VERSION:2.0
PRODID:-//Rink 25 - Seaford - ECPv6.15.20//NONSGML v1.0//EN
CALSCALE:GREGORIAN
METHOD:PUBLISH
X-WR-CALNAME:Rink 25 - Seaford
X-ORIGINAL-URL:https://www.unitedskates.com/seaford
X-WR-CALDESC:Events for Rink 25 - Seaford
REFRESH-INTERVAL;VALUE=DURATION:PT1H
X-Robots-Tag:noindex
X-PUBLISHED-TTL:PT1H
BEGIN:VTIMEZONE
TZID:America/New_York
BEGIN:DAYLIGHT
TZOFFSETFROM:-0500
TZOFFSETTO:-0400
TZNAME:EDT
DTSTART:20240310T070000
END:DAYLIGHT
BEGIN:STANDARD
TZOFFSETFROM:-0400
TZOFFSETTO:-0500
TZNAME:EST
DTSTART:20241103T060000
END:STANDARD
BEGIN:DAYLIGHT
TZOFFSETFROM:-0500
TZOFFSETTO:-0400
TZNAME:EDT
DTSTART:20250309T070000
END:DAYLIGHT
BEGIN:STANDARD
TZOFFSETFROM:-0400
TZOFFSETTO:-0500
TZNAME:EST
DTSTART:20251102T060000
END:STANDARD
BEGIN:DAYLIGHT
TZOFFSETFROM:-0500
TZOFFSETTO:-0400
TZNAME:EDT
DTSTART:20260308T070000
END:DAYLIGHT
BEGIN:STANDARD
TZOFFSETFROM:-0400
TZOFFSETTO:-0500
TZNAME:EST
DTSTART:20261101T060000
END:STANDARD
END:VTIMEZONE
BEGIN:VEVENT
DTSTART;TZID=America/New_York:20251020T100000
DTEND;TZID=America/New_York:20251020T120000
DTSTAMP:20260423T064333
CREATED:20250725T182513Z
LAST-MODIFIED:20251015T183322Z
UID:24091-1760954400-1760961600@www.unitedskates.com
SUMMARY:Monster Mash Glow Skate
DESCRIPTION:Click Here for Tickets
URL:https://www.unitedskates.com/seaford/event/monster-mash-glow-skate/
LOCATION:United Skates Of America Seaford\, 1276 Hicksville Rd.\, Seaford\, NY\, 11783\, United States
CATEGORIES:Family Events,Public Skates,Special Events
ATTACH;FMTTYPE=image/jpeg:https://unitedskates-assets.sfo3.digitaloceanspaces.com/wp-content/uploads/sites/11/2025/07/monster-mash.jpg
END:VEVENT
BEGIN:VEVENT
DTSTART;TZID=America/New_York:20251020T123000
DTEND;TZID=America/New_York:20251020T143000
DTSTAMP:20260423T064333
CREATED:20250725T182709Z
LAST-MODIFIED:20250725T183301Z
UID:24094-1760963400-1760970600@www.unitedskates.com
SUMMARY:Public Skate
DESCRIPTION:Come join us for a fun-filled day of skating at United Skates of America Roller Skating Center! Whether you’re a beginner or a pro\, this event is perfect for all ages and skill levels. Grab your friends and family for a Sunday full of laughter\, music\, and of course\, skating! Lace up your skates and hit the rink for a day you won’t forget. See you there! \nTickets Must be purchased in advance \nClick Here For Tickets \nAll Guests entering the facility skating & non-skating must have a waiver. \nPlease complete waiver prior to arrival. \nPlease click here for the Waiver \nNo refunds All Sales Final
URL:https://www.unitedskates.com/seaford/event/public-skate-73/
LOCATION:United Skates Of America Seaford\, 1276 Hicksville Rd.\, Seaford\, NY\, 11783\, United States
CATEGORIES:Family Events,Public Skates,Special Events
ATTACH;FMTTYPE=image/jpeg:https://unitedskates-assets.sfo3.digitaloceanspaces.com/wp-content/uploads/sites/11/2022/05/Public-Skate-1200x900-1.jpg
END:VEVENT
BEGIN:VEVENT
DTSTART;TZID=America/New_York:20251020T150000
DTEND;TZID=America/New_York:20251020T170000
DTSTAMP:20260423T064333
CREATED:20250725T183619Z
LAST-MODIFIED:20250725T183619Z
UID:24097-1760972400-1760979600@www.unitedskates.com
SUMMARY:Public Skate
DESCRIPTION:Come join us for a fun-filled day of skating at United Skates of America Roller Skating Center! Whether you’re a beginner or a pro\, this event is perfect for all ages and skill levels. Grab your friends and family for a Sunday full of laughter\, music\, and of course\, skating! Lace up your skates and hit the rink for a day you won’t forget. See you there! \nTickets Must be purchased in advance \nClick Here For Tickets \nAll Guests entering the facility skating & non-skating must have a waiver. \nPlease complete waiver prior to arrival. \nPlease click here for the Waiver \nNo refunds All Sales Final
URL:https://www.unitedskates.com/seaford/event/public-skate-74/
LOCATION:United Skates Of America Seaford\, 1276 Hicksville Rd.\, Seaford\, NY\, 11783\, United States
CATEGORIES:Family Events,Public Skates,Special Events
ATTACH;FMTTYPE=image/jpeg:https://unitedskates-assets.sfo3.digitaloceanspaces.com/wp-content/uploads/sites/11/2022/05/Public-Skate-1200x900-1.jpg
END:VEVENT
END:VCALENDAR