BEGIN:VCALENDAR
VERSION:2.0
PRODID:-//Rink 25 - Seaford - ECPv6.15.20//NONSGML v1.0//EN
CALSCALE:GREGORIAN
METHOD:PUBLISH
X-ORIGINAL-URL:https://www.unitedskates.com/seaford
X-WR-CALDESC:Events for Rink 25 - Seaford
REFRESH-INTERVAL;VALUE=DURATION:PT1H
X-Robots-Tag:noindex
X-PUBLISHED-TTL:PT1H
BEGIN:VTIMEZONE
TZID:America/New_York
BEGIN:DAYLIGHT
TZOFFSETFROM:-0500
TZOFFSETTO:-0400
TZNAME:EDT
DTSTART:20240310T070000
END:DAYLIGHT
BEGIN:STANDARD
TZOFFSETFROM:-0400
TZOFFSETTO:-0500
TZNAME:EST
DTSTART:20241103T060000
END:STANDARD
BEGIN:DAYLIGHT
TZOFFSETFROM:-0500
TZOFFSETTO:-0400
TZNAME:EDT
DTSTART:20250309T070000
END:DAYLIGHT
BEGIN:STANDARD
TZOFFSETFROM:-0400
TZOFFSETTO:-0500
TZNAME:EST
DTSTART:20251102T060000
END:STANDARD
BEGIN:DAYLIGHT
TZOFFSETFROM:-0500
TZOFFSETTO:-0400
TZNAME:EDT
DTSTART:20260308T070000
END:DAYLIGHT
BEGIN:STANDARD
TZOFFSETFROM:-0400
TZOFFSETTO:-0500
TZNAME:EST
DTSTART:20261101T060000
END:STANDARD
END:VTIMEZONE
BEGIN:VEVENT
DTSTART;TZID=America/New_York:20251014T180000
DTEND;TZID=America/New_York:20251014T200000
DTSTAMP:20260423T023047
CREATED:20250922T210326Z
LAST-MODIFIED:20250922T210326Z
UID:24941-1760464800-1760472000@www.unitedskates.com
SUMMARY:Girl Scouts K-Pop Demon Hunters Party
DESCRIPTION:🎤💜 CALLING ALL GIRL SCOUTS! 💜🎤\nGet ready to SLAY the rink at our K-Pop Demon Hunters Skate Party – a PRIVATE event just for Girl Scouts \n \n$23 includes:\n✔️ Admission + skate rental\n✔️ Slice of pizza & small drink\n✔️ EXCLUSIVE K-Pop Demon Hunters Fun Patch – only at United Skates!\n✔️ Tagalongs welcome Non-skating adults: $7 \n✨ Neon lights\, K-Pop beats\, and Demon Hunter vibes – this is NOT your average troop outing. It’s a full-on experience your scouts will never forget! \n🚨 LIMITED SPOTS – RESERVATIONS REQUIRED!\n📞 Call 516-795-5474 or email unitedskatessales@gmail.com
URL:https://www.unitedskates.com/seaford/event/girl-scouts-k-pop-demon-hunters-party/
LOCATION:United Skates
CATEGORIES:Special Events
ATTACH;FMTTYPE=image/jpeg:https://unitedskates-assets.sfo3.digitaloceanspaces.com/wp-content/uploads/sites/11/2025/09/v2-K-Pop-Demon-Hunters-2025-1.jpg
END:VEVENT
END:VCALENDAR