BEGIN:VCALENDAR
VERSION:2.0
PRODID:-//Rink 25 - Seaford - ECPv6.15.20//NONSGML v1.0//EN
CALSCALE:GREGORIAN
METHOD:PUBLISH
X-ORIGINAL-URL:https://www.unitedskates.com/seaford
X-WR-CALDESC:Events for Rink 25 - Seaford
REFRESH-INTERVAL;VALUE=DURATION:PT1H
X-Robots-Tag:noindex
X-PUBLISHED-TTL:PT1H
BEGIN:VTIMEZONE
TZID:America/New_York
BEGIN:DAYLIGHT
TZOFFSETFROM:-0500
TZOFFSETTO:-0400
TZNAME:EDT
DTSTART:20240310T070000
END:DAYLIGHT
BEGIN:STANDARD
TZOFFSETFROM:-0400
TZOFFSETTO:-0500
TZNAME:EST
DTSTART:20241103T060000
END:STANDARD
BEGIN:DAYLIGHT
TZOFFSETFROM:-0500
TZOFFSETTO:-0400
TZNAME:EDT
DTSTART:20250309T070000
END:DAYLIGHT
BEGIN:STANDARD
TZOFFSETFROM:-0400
TZOFFSETTO:-0500
TZNAME:EST
DTSTART:20251102T060000
END:STANDARD
BEGIN:DAYLIGHT
TZOFFSETFROM:-0500
TZOFFSETTO:-0400
TZNAME:EDT
DTSTART:20260308T070000
END:DAYLIGHT
BEGIN:STANDARD
TZOFFSETFROM:-0400
TZOFFSETTO:-0500
TZNAME:EST
DTSTART:20261101T060000
END:STANDARD
END:VTIMEZONE
BEGIN:VEVENT
DTSTART;TZID=America/New_York:20251013T100000
DTEND;TZID=America/New_York:20251013T120000
DTSTAMP:20260423T052732
CREATED:20250818T181457Z
LAST-MODIFIED:20250818T185819Z
UID:24604-1760349600-1760356800@www.unitedskates.com
SUMMARY:Cheap Skate w The Labubu
DESCRIPTION:🛼✨ DOUBLE the FUN\, DOUBLE the LABUBU! ✨🛼\nGet ready to kick off your morning with not one\, but TWO Labubus at our Labubu Cheap Skate event! \n📅 Monday\, October 13th | 10AM–12PM\n📍 United Skates of America – Seaford \n🎉 Meet & Greet with the Labubus\n🎟️ Admission: $9 at the door | $8 online\n🛼 Skate Rental: $7\n🚶‍♂️ Non-skating adults: $6 \n🎫 Tickets going FAST – grab yours now at:\n👉 Click Here for Tickets \nCome skate\, snap pics\, and make magical memories with your favorite fuzzy friends! 💖 \n#LabubuCheapSkate #DoubleLabubu #UnitedSkatesSeaford #RollerSkatingFun #MeetTheLabubus #LongIslandEvents
URL:https://www.unitedskates.com/seaford/event/cheap-skate-w-the-labubu/
LOCATION:United Skates Of America Seaford\, 1276 Hicksville Rd.\, Seaford\, NY\, 11783\, United States
CATEGORIES:Family Events,Public Skates,Special Events
ATTACH;FMTTYPE=image/jpeg:https://unitedskates-assets.sfo3.digitaloceanspaces.com/wp-content/uploads/sites/11/2025/08/Copy-of-Copy-of-Labubu-Skate-Party.jpg
END:VEVENT
BEGIN:VEVENT
DTSTART;TZID=America/New_York:20251013T123000
DTEND;TZID=America/New_York:20251013T143000
DTSTAMP:20260423T052732
CREATED:20250725T183850Z
LAST-MODIFIED:20250820T171946Z
UID:24099-1760358600-1760365800@www.unitedskates.com
SUMMARY:Public Skate
DESCRIPTION:Come join us for a fun-filled day of skating at United Skates of America Roller Skating Center! Whether you’re a beginner or a pro\, this event is perfect for all ages and skill levels. Grab your friends and family for a Sunday full of laughter\, music\, and of course\, skating! Lace up your skates and hit the rink for a day you won’t forget. See you there! \nTickets Must be purchased in advance \nClick Here For Tickets \nAll Guests entering the facility skating & non-skating must have a waiver. \nPlease complete waiver prior to arrival. \nPlease click here for the Waiver \nNo refunds All Sales Final
URL:https://www.unitedskates.com/seaford/event/public-skate-75/
LOCATION:United Skates Of America Seaford\, 1276 Hicksville Rd.\, Seaford\, NY\, 11783\, United States
CATEGORIES:Family Events,Public Skates,Special Events
ATTACH;FMTTYPE=image/jpeg:https://unitedskates-assets.sfo3.digitaloceanspaces.com/wp-content/uploads/sites/11/2025/07/Columbus-Day-Roller-Skate-2025-8.5-x-11-in.jpg
END:VEVENT
BEGIN:VEVENT
DTSTART;TZID=America/New_York:20251013T150000
DTEND;TZID=America/New_York:20251013T170000
DTSTAMP:20260423T052732
CREATED:20250725T184037Z
LAST-MODIFIED:20250820T172112Z
UID:24101-1760367600-1760374800@www.unitedskates.com
SUMMARY:Public Skating
DESCRIPTION:Come join us for a fun-filled day of skating at United Skates of America Roller Skating Center! Whether you’re a beginner or a pro\, this event is perfect for all ages and skill levels. Grab your friends and family for a Sunday full of laughter\, music\, and of course\, skating! Lace up your skates and hit the rink for a day you won’t forget. See you there! \nTickets Must be purchased in advance \nClick Here For Tickets \nAll Guests entering the facility skating & non-skating must have a waiver. \nPlease complete waiver prior to arrival.
URL:https://www.unitedskates.com/seaford/event/public-skating-21/
LOCATION:United Skates Of America Seaford\, 1276 Hicksville Rd.\, Seaford\, NY\, 11783\, United States
CATEGORIES:Family Events,Public Skates,Special Events
ATTACH;FMTTYPE=image/jpeg:https://unitedskates-assets.sfo3.digitaloceanspaces.com/wp-content/uploads/sites/11/2025/07/Columbus-Day-Roller-Skate-2025-8.5-x-11-in.jpg
END:VEVENT
BEGIN:VEVENT
DTSTART;TZID=America/New_York:20251013T173000
DTEND;TZID=America/New_York:20251013T193000
DTSTAMP:20260423T052732
CREATED:20220503T162305Z
LAST-MODIFIED:20250820T171029Z
UID:20414-1760376600-1760383800@www.unitedskates.com
SUMMARY:Affordable Family Fun
DESCRIPTION:🛼✨ Family Affordable Fun Night is rolling your way on Monday\, October 13th from 5:30–7:30PM at United Skates of America Roller Skating Massapequa!\n🎉 Bring the whole crew for an evening of budget-friendly fun:\n• 🎟️ Admission: Just $8 per person\n• 🛼 Skate Rental: $7\n• 👨‍👩‍👧‍👦 Non-Skating Adults: $6\nExpect great music\, good vibes\, and a perfect way to kick off the fall season with your family. Whether you’re skating or just soaking up the fun\, this is one event you won’t want to miss! \nClick Here for Tickets
URL:https://www.unitedskates.com/seaford/event/skate-school-2025-10-13/
LOCATION:United Skates Of America Seaford\, 1276 Hicksville Rd.\, Seaford\, NY\, 11783\, United States
CATEGORIES:Family Events,Public Skates,Special Events
ATTACH;FMTTYPE=image/jpeg:https://unitedskates-assets.sfo3.digitaloceanspaces.com/wp-content/uploads/sites/11/2025/07/Columbus-Day-Roller-Skate-2025-8.5-x-11-in.jpg
END:VEVENT
END:VCALENDAR