BEGIN:VCALENDAR
VERSION:2.0
PRODID:-//Rink 25 - Seaford - ECPv6.15.20//NONSGML v1.0//EN
CALSCALE:GREGORIAN
METHOD:PUBLISH
X-ORIGINAL-URL:https://www.unitedskates.com/seaford
X-WR-CALDESC:Events for Rink 25 - Seaford
REFRESH-INTERVAL;VALUE=DURATION:PT1H
X-Robots-Tag:noindex
X-PUBLISHED-TTL:PT1H
BEGIN:VTIMEZONE
TZID:America/New_York
BEGIN:DAYLIGHT
TZOFFSETFROM:-0500
TZOFFSETTO:-0400
TZNAME:EDT
DTSTART:20240310T070000
END:DAYLIGHT
BEGIN:STANDARD
TZOFFSETFROM:-0400
TZOFFSETTO:-0500
TZNAME:EST
DTSTART:20241103T060000
END:STANDARD
BEGIN:DAYLIGHT
TZOFFSETFROM:-0500
TZOFFSETTO:-0400
TZNAME:EDT
DTSTART:20250309T070000
END:DAYLIGHT
BEGIN:STANDARD
TZOFFSETFROM:-0400
TZOFFSETTO:-0500
TZNAME:EST
DTSTART:20251102T060000
END:STANDARD
BEGIN:DAYLIGHT
TZOFFSETFROM:-0500
TZOFFSETTO:-0400
TZNAME:EDT
DTSTART:20260308T070000
END:DAYLIGHT
BEGIN:STANDARD
TZOFFSETFROM:-0400
TZOFFSETTO:-0500
TZNAME:EST
DTSTART:20261101T060000
END:STANDARD
END:VTIMEZONE
BEGIN:VEVENT
DTSTART;TZID=America/New_York:20251012T120000
DTEND;TZID=America/New_York:20251012T140000
DTSTAMP:20260423T023001
CREATED:20241206T145256Z
LAST-MODIFIED:20251007T140016Z
UID:24123-1760270400-1760277600@www.unitedskates.com
SUMMARY:Public Skating
DESCRIPTION:🎤🛼 K-Pop Sing-Along Skate Party Alert! 🛼🎤 \nGet ready to roll and rock out at the K-Pop Sing-Along Skate featuring the greatest hits from K-pop Demon Hunters! Here’s the scoop: \n📅 Date: Sunday\, October 12th \n🕛 Time: 12 PM – 2 PM \n💸 Admission: $16.50 \n👟 Skate Rental: $7 \n👨‍👩‍👧 Non-Skating Adults: $6 \n🎶 Whether you’re a die-hard fan or just love to sing and skate\, this is your chance to vibe with fellow K-pop lovers and belt out your favorite tracks while cruising the rink. \nGrab your crew\, lace up\, and let the music take over! Want help spreading the word with a flyer or social post? I can whip one up for you! \nTickets Must be purchased in advance \nClick Here for Tickets \nAll Guests entering the facility skating & non-skating must have a waiver. \nPlease complete waiver prior to arrival. \nPlease click here for the Waiver \nNo refunds Day of the event of after. \n 
URL:https://www.unitedskates.com/seaford/event/public-skating-18-2025-05-04-2025-10-12/
LOCATION:United Skates Of America Seaford\, 1276 Hicksville Rd.\, Seaford\, NY\, 11783\, United States
CATEGORIES:Family Events,Public Skates,Special Events
ATTACH;FMTTYPE=image/jpeg:https://unitedskates-assets.sfo3.digitaloceanspaces.com/wp-content/uploads/sites/11/2024/12/v3-K-Pop-Demon-Hunters-2025-9.jpg
END:VEVENT
BEGIN:VEVENT
DTSTART;TZID=America/New_York:20251012T193000
DTEND;TZID=America/New_York:20251012T220000
DTSTAMP:20260423T023001
CREATED:20250723T173431Z
LAST-MODIFIED:20250818T191726Z
UID:24077-1760297400-1760306400@www.unitedskates.com
SUMMARY:Stranger Things Rewind Event
DESCRIPTION:🛼🌌 Skate into the Upside Down! 🌌🛼 \nGrab your walkie-talkies and lace up your skates — it’s time for the Stranger Things Skate Party at United Skates of America! 🎧👾 \n🗓 Sunday\, October 12th\n🕢 7:30 PM – 10:00 PM\n📍 United Skates of America\n🎟️ $16.50 Admission / $15.50 online\n🛼 $7 Skate Rental\n👀 $6 for Non-Skating Adults \nCome dressed as your favorite Hawkins character and roll through a night of retro beats\, eerie lights\, and supernatural fun! 🧇🚲 \nClick Here for Tickets
URL:https://www.unitedskates.com/seaford/event/stranger-things-rewind-event/
LOCATION:United Skates Of America Seaford\, 1276 Hicksville Rd.\, Seaford\, NY\, 11783\, United States
CATEGORIES:Family Events,Public Skates,Special Events
ATTACH;FMTTYPE=image/jpeg:https://unitedskates-assets.sfo3.digitaloceanspaces.com/wp-content/uploads/sites/11/2025/07/Rink-25-Stranger-Things-Hawkins-Roller-Rewind-Rink-25-1.jpg
END:VEVENT
END:VCALENDAR