BEGIN:VCALENDAR
VERSION:2.0
PRODID:-//Rink 25 - Seaford - ECPv6.15.20//NONSGML v1.0//EN
CALSCALE:GREGORIAN
METHOD:PUBLISH
X-WR-CALNAME:Rink 25 - Seaford
X-ORIGINAL-URL:https://www.unitedskates.com/seaford
X-WR-CALDESC:Events for Rink 25 - Seaford
REFRESH-INTERVAL;VALUE=DURATION:PT1H
X-Robots-Tag:noindex
X-PUBLISHED-TTL:PT1H
BEGIN:VTIMEZONE
TZID:America/New_York
BEGIN:DAYLIGHT
TZOFFSETFROM:-0500
TZOFFSETTO:-0400
TZNAME:EDT
DTSTART:20240310T070000
END:DAYLIGHT
BEGIN:STANDARD
TZOFFSETFROM:-0400
TZOFFSETTO:-0500
TZNAME:EST
DTSTART:20241103T060000
END:STANDARD
BEGIN:DAYLIGHT
TZOFFSETFROM:-0500
TZOFFSETTO:-0400
TZNAME:EDT
DTSTART:20250309T070000
END:DAYLIGHT
BEGIN:STANDARD
TZOFFSETFROM:-0400
TZOFFSETTO:-0500
TZNAME:EST
DTSTART:20251102T060000
END:STANDARD
BEGIN:DAYLIGHT
TZOFFSETFROM:-0500
TZOFFSETTO:-0400
TZNAME:EDT
DTSTART:20260308T070000
END:DAYLIGHT
BEGIN:STANDARD
TZOFFSETFROM:-0400
TZOFFSETTO:-0500
TZNAME:EST
DTSTART:20261101T060000
END:STANDARD
END:VTIMEZONE
BEGIN:VEVENT
DTSTART;TZID=America/New_York:20251007T173000
DTEND;TZID=America/New_York:20251007T200000
DTSTAMP:20260423T064334
CREATED:20250909T200953Z
LAST-MODIFIED:20250909T200955Z
UID:24855-1759858200-1759867200@www.unitedskates.com
SUMMARY:K-Pop Demon Hunters Sing-A-Long
DESCRIPTION:Calling all K-pop fans and demon slayers! Join us for a sing-along skate party like no other at United Skates of America – Seaford! \n📅 Date: Tuesday\, October 7th \n🕠 Time: 5:30 PM – 8:00 PM \n🎟️ Admission: $18 (includes skate rental\, 1 slice of pizza & a small fountain drink) \n🚶 Non-Skating Adults: $7 \n🎶 Sing along to the greatest hits from Huntrx and The Saja Boys \n🛼 Skate under the lights with your crew \n🎭 Dress up in your favorite K-pop or demon hunter look \n🍕 Enjoy delicious snacks and themed vibes \nIt’s the ultimate fusion of music\, movement\, and magic—don’t miss your chance to roll and rock with the best! \n🎫 Grab your tickets now Click Here for Tickets
URL:https://www.unitedskates.com/seaford/event/k-pop-demon-hunters-sing-a-long/
LOCATION:United Skates Of America Seaford\, 1276 Hicksville Rd.\, Seaford\, NY\, 11783\, United States
CATEGORIES:Family Events,Public Skates,Special Events
ATTACH;FMTTYPE=image/jpeg:https://unitedskates-assets.sfo3.digitaloceanspaces.com/wp-content/uploads/sites/11/2025/09/v3-K-Pop-Demon-Hunters-2025.jpg
END:VEVENT
END:VCALENDAR